PDS_VERSION_ID = PDS3
/* FILE DATA ELEMENTS */
RECORD_TYPE = UNDEFINED
/* POINTERS TO DATA OBJECTS */
^IMAGE = ("H6915_0000_RE4.TIF")
/* IDENTIFICATION DATA ELEMENTS */
DATA_SET_ID = "MEX-M-HRSC-4-REFDR-MAPPROJECT-EXT3-V4.0"
DATA_SET_NAME = "MARS EXPRESS HRSC MAP PROJECTED REFDR EXTENSION3 V4.0"
DETECTOR_ID = MEX_HRSC_RED
EVENT_TYPE = "MARS-REGIONAL-MAPPING-Gl"
INSTRUMENT_HOST_ID = MEX
INSTRUMENT_HOST_NAME = "MARS EXPRESS"
INSTRUMENT_ID = HRSC
INSTRUMENT_NAME = "HIGH RESOLUTION STEREO CAMERA"
MISSION_NAME = "MARS EXPRESS"
MISSION_PHASE_NAME = ME_Phase_17
PROCESSING_LEVEL_ID = 4
PRODUCT_CREATION_TIME = 2023-02-01T06:41:01.000Z
PRODUCT_ID = "H6915_0000_RE4.TIF"
RELEASE_ID = 0001
REVISION_ID = 0000
/* QUALITY DATA ELEMENTS */
DATA_QUALITY_ID = 1
DATA_QUALITY_DESC = "Data calculated based on original SPICE kernels"
/* TIME DATA ELEMENTS */
SPACECRAFT_CLOCK_START_COUNT = "1/0191165649.07301"
SPACECRAFT_CLOCK_STOP_COUNT = "1/0191166062.06866"
START_TIME = 2009-05-23T13:35:58.110Z
STOP_TIME = 2009-05-23T13:40:38.664Z
/* ORBITAL DATA ELEMENTS */
ASCENDING_NODE_LONGITUDE = 85.77
MAXIMUM_RESOLUTION = 0.104
FOOTPRINT_POINT_LATITUDE = (-78.099,-78.2026,-78.3295,-78.4699, -78.5981,-78.6735,-78.6772,-78.5955, -78.9412,-79.4074,-79.996,-80.4712, -80.9508,-81.3131,-81.7993,-82.1684, -82.4144,-82.6617,-82.9085,-83.157, -83.4065,-83.7818,-84.0326,-84.2873, -84.5447,-84.798,-85.0509,-85.3037, -85.5544,-85.8072,-86.1812,-86.4269, -86.6699,-86.908,-87.14,-87.3642, -87.5772,-87.7757,-87.9544,-88.1057, -88.2231,-88.3224,-88.3188,-88.2136, -88.0949,-87.9459,-87.7742,-87.5837, -87.4835,-87.43,-87.1522,-86.9101, -86.4575,-86.0515,-85.8162,-85.2762, -84.8036,-84.7755,-84.7667,-84.925, -85.0158,-85.0934,-85.1568,-85.2053, -85.238,-85.2542,-85.2487,-85.224, -85.1822,-85.1238,-85.0063,-84.9083, -84.8014,-84.6803,-84.479,-84.3317, -84.1755,-84.0128,-83.8445,-83.6691, -83.4862,-83.3007,-83.111,-82.922, -82.6217,-82.4195,-82.217,-81.9093, -81.6996,-81.4905,-81.0744,-80.5353, -80.1059,-79.782,-79.2469,-78.8148, -78.4907,-78.1683,-78.061,-78.099)
FOOTPRINT_POINT_LONGITUDE = (367.116,365.761,363.921,361.566, 358.963,357.092,356.992,356.721,356.983 ,357.364,357.896,358.374,358.91,359.356 ,360.014,360.577,360.98,361.411,361.871 ,362.368,362.91,363.807,364.474,365.228 ,366.079,366.982,367.976,369.084, 370.307,371.73,374.189,376.117,378.344, 380.927,383.952,387.533,391.777,396.848 ,402.881,409.939,418.01,431.723,446.067 ,459.481,467.303,474.07,479.814,484.68, 486.818,487.866,480.982,476.46,470.162, 465.982,463.955,460.21,457.595,457.455, 457.395,453.336,450.466,447.444,444.31, 441.087,437.784,434.427,429.382,426.022 ,422.686,419.403,414.656,411.629, 408.789,406.063,402.244,399.867,397.625 ,395.522,393.552,391.697,389.945, 388.308,386.772,385.342,383.323,382.079 ,380.914,379.289,378.277,377.323, 375.576,373.626,372.242,371.292,369.855 ,368.819,368.101,367.43,367.216, 367.116)
ORBIT_NUMBER = 6915
ORBITAL_ECCENTRICITY = 0.576
ORBITAL_INCLINATION = 86.76
ORBITAL_SEMIMAJOR_AXIS = 8725.69
PERIAPSIS_ALTITUDE = 314.59
PERIAPSIS_ARGUMENT_ANGLE = 224.71
PERIAPSIS_TIME = 2009-05-23T13:26:05.000Z
SPACECRAFT_ORIENTATION = (0.0,-1.0,0.0)
^MEX_ORIENTATION_DESC = "MEX_ORIENTATION_DESC.TXT"
SPACECRAFT_POINTING_MODE = NADIR
^MEX_POINTING_DESC = "MEX_POINTING_DESC.TXT"
RIGHT_ASCENSION = -1e+32
DECLINATION = -1e+32
OFFSET_ANGLE = -1e+32
SPACECRAFT_SOLAR_DISTANCE = 2.07752e+08
TARGET_NAME = MARS
/* CAMERA DATA ELEMENTS */
DETECTOR_TEMPERATURE = 18.5744
FOCAL_PLANE_TEMPERATURE = 8.7872
INST_CMPRS_NAME = "DISCRETE COSINE TRANSFORMATION (DCT)"
INST_CMPRS_RATIO = 9.60932
INST_CMPRS_QUALITY = 0
INST_CMPRS_QUANTZ_TBL_ID = 0
INSTRUMENT_TEMPERATURE = 11.234
LENS_TEMPERATURE = 9.3989
MACROPIXEL_SIZE = 4
MISSING_FRAMES = 0
PIXEL_SUBSAMPLING_FLAG = N
SIGNAL_CHAIN_ID = 2
/* RADIOMETRIC DATA ELEMENTS */
BANDWIDTH = 48.0
CENTER_FILTER_WAVELENGTH = 748.0
RADIANCE_OFFSET = 1.11975
RADIANCE_SCALING_FACTOR = 0.00784142
REFLECTANCE_SCALING_FACTOR = 0.000772347
MEX:REFLECTANCE_OFFSET = 0.110291
/* IMAGE OBJECT DEFINITIONS */
OBJECT = IMAGE
  INTERCHANGE_FORMAT = BINARY
  LINES = 5914
  LINE_SAMPLES = 6654
  SAMPLE_TYPE = UNSIGNED_INTEGER
  SAMPLE_BITS = 8
  BANDS = 1
  BAND_STORAGE_TYPE = BAND_SEQUENTIAL
  MAXIMUM = 255
  MEAN = 180.307
  MINIMUM = 1
  STANDARD_DEVIATION = 35.8645
END_OBJECT = IMAGE
/* MAP OBJECT DEFINITIONS */
OBJECT = IMAGE_MAP_PROJECTION
  ^DATA_SET_MAP_PROJECTION_CATALOG= "DSMAP.CAT"
  A_AXIS_RADIUS = 3396.0
  B_AXIS_RADIUS = 3396.0
  C_AXIS_RADIUS = 3396.0
  CENTER_LATITUDE = 0.0
  CENTER_LONGITUDE = 18.0
  COORDINATE_SYSTEM_NAME = PLANETOGRAPHIC
  COORDINATE_SYSTEM_TYPE = "BODY-FIXED ROTATING"
  EASTERNMOST_LONGITUDE = 127.866
  FIRST_STANDARD_PARALLEL = "N/A"
  LINE_FIRST_PIXEL = 1
  LINE_LAST_PIXEL = 5914
  LINE_PROJECTION_OFFSET = -46243.125
  MAP_PROJECTION_ROTATION = 0.0
  MAP_PROJECTION_TYPE = SINUSOIDAL
  MAP_RESOLUTION = 592.713803866667
  MAP_SCALE = 0.1
  MAXIMUM_LATITUDE = -78.06100000000001
  MINIMUM_LATITUDE = -88.3224
  POSITIVE_LONGITUDE_DIRECTION = EAST
  REFERENCE_LATITUDE = "N/A"
  REFERENCE_LONGITUDE = "N/A"
  SAMPLE_FIRST_PIXEL = 1
  SAMPLE_LAST_PIXEL = 6654
  SAMPLE_PROJECTION_OFFSET = 2445.625
  SECOND_STANDARD_PARALLEL = "N/A"
  WESTERNMOST_LONGITUDE = -3.279
END_OBJECT = IMAGE_MAP_PROJECTION
END
