PDS_VERSION_ID = PDS3
/* FILE DATA ELEMENTS */
RECORD_TYPE = UNDEFINED
/* POINTERS TO DATA OBJECTS */
^IMAGE = ("H6915_0000_ND4.TIF")
/* IDENTIFICATION DATA ELEMENTS */
DATA_SET_ID = "MEX-M-HRSC-4-REFDR-MAPPROJECT-EXT3-V4.0"
DATA_SET_NAME = "MARS EXPRESS HRSC MAP PROJECTED REFDR EXTENSION3 V4.0"
DETECTOR_ID = MEX_HRSC_NADIR
EVENT_TYPE = "MARS-REGIONAL-MAPPING-Gl"
INSTRUMENT_HOST_ID = MEX
INSTRUMENT_HOST_NAME = "MARS EXPRESS"
INSTRUMENT_ID = HRSC
INSTRUMENT_NAME = "HIGH RESOLUTION STEREO CAMERA"
MISSION_NAME = "MARS EXPRESS"
MISSION_PHASE_NAME = ME_Phase_17
PROCESSING_LEVEL_ID = 4
PRODUCT_CREATION_TIME = 2023-02-01T06:41:01.000Z
PRODUCT_ID = "H6915_0000_ND4.TIF"
RELEASE_ID = 0001
REVISION_ID = 0000
/* QUALITY DATA ELEMENTS */
DATA_QUALITY_ID = 1
DATA_QUALITY_DESC = "Data calculated based on original SPICE kernels"
/* TIME DATA ELEMENTS */
SPACECRAFT_CLOCK_START_COUNT = "1/0191165649.07301"
SPACECRAFT_CLOCK_STOP_COUNT = "1/0191166062.06866"
START_TIME = 2009-05-23T13:35:04.795Z
STOP_TIME = 2009-05-23T13:39:06.818Z
/* ORBITAL DATA ELEMENTS */
ASCENDING_NODE_LONGITUDE = 85.77
MAXIMUM_RESOLUTION = 0.0213
FOOTPRINT_POINT_LATITUDE = (-78.0325,-78.2317,-78.3122,-78.4048, -78.5408,-78.5444,-78.5503,-78.8903, -79.3454,-79.9204,-80.2675,-80.7358, -81.0904,-81.5648,-81.8033,-82.0432, -82.2837,-82.6471,-82.8891,-83.1336, -83.377,-83.6228,-83.9908,-84.2365, -84.4821,-84.7277,-84.974,-85.3416, -85.5854,-85.8285,-86.1881,-86.4229, -86.6546,-86.8802,-87.0982,-87.3064, -87.501,-87.6787,-87.8348,-87.9631, -88.09,-88.1221,-88.1097,-88.0518, -87.9504,-87.8121,-87.642,-87.446, -87.3402,-87.3137,-87.0969,-86.7765, -86.5734,-86.2458,-85.8562,-85.4033, -84.964,-84.9381,-84.9255,-85.0484, -85.1564,-85.245,-85.315,-85.3662, -85.3986,-85.412,-85.4071,-85.3839, -85.3164,-85.2506,-85.1691,-85.0731, -84.9048,-84.7105,-84.4937,-84.3377, -84.1747,-83.9181,-83.6485,-83.4619, -83.2726,-83.08,-82.8821,-82.6829, -82.4811,-82.175,-81.9678,-81.7605, -81.4467,-81.2365,-81.0248,-80.5988, -80.2802,-79.8535,-79.5332,-79.1064, -78.6819,-78.1525,-78.0461,-78.0325)
FOOTPRINT_POINT_LONGITUDE = (366.585,363.676,362.324,360.587, 357.505,357.41,357.208,357.492,357.901, 358.472,358.849,359.408,359.864,360.559 ,360.933,361.331,361.761,362.46,362.964 ,363.515,364.107,364.751,365.823, 366.626,367.523,368.491,369.561,371.387 ,372.779,374.348,377.097,379.259, 381.736,384.586,387.888,391.752,396.261 ,401.53,407.66,414.684,426.794,435.575, 444.534,453.218,461.258,468.451,474.755 ,480.19,482.601,483.161,478.6,473.412, 470.776,467.259,463.928,460.859,458.464 ,458.337,458.271,455.106,451.818, 448.406,444.894,441.322,437.704,434.071 ,430.45,426.885,421.669,418.322,415.091 ,412.007,407.649,403.627,399.946, 397.673,395.538,392.578,389.893,388.239 ,386.694,385.228,383.877,382.591, 381.386,379.706,378.662,377.687,376.306 ,375.455,374.649,373.174,372.16,370.919 ,370.062,369.013,368.056,366.972, 366.768,366.585)
ORBIT_NUMBER = 6915
ORBITAL_ECCENTRICITY = 0.576
ORBITAL_INCLINATION = 86.76
ORBITAL_SEMIMAJOR_AXIS = 8725.69
PERIAPSIS_ALTITUDE = 314.59
PERIAPSIS_ARGUMENT_ANGLE = 224.71
PERIAPSIS_TIME = 2009-05-23T13:26:05.000Z
SPACECRAFT_ORIENTATION = (0.0,-1.0,0.0)
^MEX_ORIENTATION_DESC = "MEX_ORIENTATION_DESC.TXT"
SPACECRAFT_POINTING_MODE = NADIR
^MEX_POINTING_DESC = "MEX_POINTING_DESC.TXT"
RIGHT_ASCENSION = -1e+32
DECLINATION = -1e+32
OFFSET_ANGLE = -1e+32
SPACECRAFT_SOLAR_DISTANCE = 2.07752e+08
TARGET_NAME = MARS
/* CAMERA DATA ELEMENTS */
DETECTOR_TEMPERATURE = 18.1666
FOCAL_PLANE_TEMPERATURE = 8.7872
INST_CMPRS_NAME = "DISCRETE COSINE TRANSFORMATION (DCT)"
INST_CMPRS_RATIO = 6.5135
INST_CMPRS_QUALITY = 0
INST_CMPRS_QUANTZ_TBL_ID = 0
INSTRUMENT_TEMPERATURE = 11.234
LENS_TEMPERATURE = 9.3989
MACROPIXEL_SIZE = 1
MISSING_FRAMES = 0
PIXEL_SUBSAMPLING_FLAG = N
SIGNAL_CHAIN_ID = 0
/* RADIOMETRIC DATA ELEMENTS */
BANDWIDTH = 177.0
CENTER_FILTER_WAVELENGTH = 677.5
RADIANCE_OFFSET = 3.81464
RADIANCE_SCALING_FACTOR = 0.0409845
REFLECTANCE_SCALING_FACTOR = 0.000939718
MEX:REFLECTANCE_OFFSET = 0.0874642
/* IMAGE OBJECT DEFINITIONS */
OBJECT = IMAGE
  INTERCHANGE_FORMAT = BINARY
  LINES = 23655
  LINE_SAMPLES = 26616
  SAMPLE_TYPE = UNSIGNED_INTEGER
  SAMPLE_BITS = 8
  BANDS = 1
  BAND_STORAGE_TYPE = BAND_SEQUENTIAL
  MAXIMUM = 255
  MEAN = 148.786
  MINIMUM = 1
  STANDARD_DEVIATION = 38.5498
END_OBJECT = IMAGE
/* MAP OBJECT DEFINITIONS */
OBJECT = IMAGE_MAP_PROJECTION
  ^DATA_SET_MAP_PROJECTION_CATALOG= "DSMAP.CAT"
  A_AXIS_RADIUS = 3396.0
  B_AXIS_RADIUS = 3396.0
  C_AXIS_RADIUS = 3396.0
  CENTER_LATITUDE = 0.0
  CENTER_LONGITUDE = 18.0
  COORDINATE_SYSTEM_NAME = PLANETOGRAPHIC
  COORDINATE_SYSTEM_TYPE = "BODY-FIXED ROTATING"
  EASTERNMOST_LONGITUDE = 123.161
  FIRST_STANDARD_PARALLEL = "N/A"
  LINE_FIRST_PIXEL = 1
  LINE_LAST_PIXEL = 23655
  LINE_PROJECTION_OFFSET = -184971.0
  MAP_PROJECTION_ROTATION = 0.0
  MAP_PROJECTION_TYPE = SINUSOIDAL
  MAP_RESOLUTION = 2370.85521546667
  MAP_SCALE = 0.025
  MAXIMUM_LATITUDE = -78.0325
  MINIMUM_LATITUDE = -88.1221
  POSITIVE_LONGITUDE_DIRECTION = EAST
  REFERENCE_LATITUDE = "N/A"
  REFERENCE_LONGITUDE = "N/A"
  SAMPLE_FIRST_PIXEL = 1
  SAMPLE_LAST_PIXEL = 26616
  SAMPLE_PROJECTION_OFFSET = 9784.0
  SECOND_STANDARD_PARALLEL = "N/A"
  WESTERNMOST_LONGITUDE = -2.792
END_OBJECT = IMAGE_MAP_PROJECTION
END
