PDS_VERSION_ID = PDS3
/* FILE DATA ELEMENTS */
RECORD_TYPE = UNDEFINED
/* POINTERS TO DATA OBJECTS */
^IMAGE = ("H6902_0000_ND4.TIF")
/* IDENTIFICATION DATA ELEMENTS */
DATA_SET_ID = "MEX-M-HRSC-4-REFDR-MAPPROJECT-EXT3-V4.0"
DATA_SET_NAME = "MARS EXPRESS HRSC MAP PROJECTED REFDR EXTENSION3 V4.0"
DETECTOR_ID = MEX_HRSC_NADIR
EVENT_TYPE = "MARS-REGIONAL-MAPPING-Im-Gl-La"
INSTRUMENT_HOST_ID = MEX
INSTRUMENT_HOST_NAME = "MARS EXPRESS"
INSTRUMENT_ID = HRSC
INSTRUMENT_NAME = "HIGH RESOLUTION STEREO CAMERA"
MISSION_NAME = "MARS EXPRESS"
MISSION_PHASE_NAME = ME_Phase_17
PROCESSING_LEVEL_ID = 4
PRODUCT_CREATION_TIME = 2023-02-01T06:41:01.000Z
PRODUCT_ID = "H6902_0000_ND4.TIF"
RELEASE_ID = 0001
REVISION_ID = 0000
/* QUALITY DATA ELEMENTS */
DATA_QUALITY_ID = 1
DATA_QUALITY_DESC = "Data calculated based on original SPICE kernels"
/* TIME DATA ELEMENTS */
SPACECRAFT_CLOCK_START_COUNT = "1/0190842894.09046"
SPACECRAFT_CLOCK_STOP_COUNT = "1/0190843215.56165"
START_TIME = 2009-05-19T19:55:42.557Z
STOP_TIME = 2009-05-19T19:58:51.583Z
/* ORBITAL DATA ELEMENTS */
ASCENDING_NODE_LONGITUDE = 86.02
MAXIMUM_RESOLUTION = 0.0201
FOOTPRINT_POINT_LATITUDE = (-75.8399,-75.9823,-76.0403,-76.1076, -76.2082,-76.211,-76.2156,-76.5989, -76.9829,-77.2752,-77.6649,-77.9609, -78.356,-78.7567,-78.9567,-79.2601, -79.4629,-79.6655,-79.8711,-80.0765, -80.2815,-80.4894,-80.8008,-81.0099, -81.2201,-81.4296,-81.6414,-81.8534, -82.1722,-82.3861,-82.5992,-82.815, -83.1373,-83.3543,-83.6782,-83.8962, -84.1131,-84.4398,-84.6566,-84.8743, -85.0906,-85.3076,-85.5226,-85.8435, -86.0535,-86.2626,-86.4669,-86.5689, -86.5961,-86.4662,-86.313,-86.1358, -85.8457,-85.6673,-85.3901,-85.0654, -84.8494,-84.8296,-84.8196,-84.694, -84.5613,-84.4222,-84.2772,-84.1261, -83.9707,-83.8096,-83.6462,-83.4779, -83.2215,-83.0461,-82.8696,-82.5998, -82.4184,-82.2344,-82.0509,-81.865, -81.6784,-81.4914,-81.2085,-80.9256, -80.735,-80.5464,-80.3561,-80.1656, -79.9762,-79.7856,-79.5009,-79.311, -79.0259,-78.8371,-78.6475,-78.4581, -78.082,-77.5199,-77.2387,-76.7752, -76.222,-75.9454,-75.8542,-75.8399)
FOOTPRINT_POINT_LONGITUDE = (233.832,231.63,230.615,229.32,227.038, 226.969,226.81,227.037,227.279,227.473, 227.748,227.968,228.28,228.61,228.791, 229.081,229.284,229.49,229.71,229.94, 230.178,230.432,230.835,231.121,231.423 ,231.739,232.076,232.432,233.002, 233.416,233.852,234.32,235.075,235.628, 236.53,237.197,237.907,239.093,239.959, 240.92,241.962,243.104,244.365,246.523, 248.175,250.03,252.1,253.233,253.552, 256.269,259.061,261.862,265.707,267.724 ,270.455,273.169,274.746,274.883, 274.946,272.665,270.51,268.463,266.535, 264.709,262.995,261.372,259.847,258.399 ,256.392,255.141,253.964,252.311, 251.288,250.31,249.39,248.513,247.681, 246.894,245.778,244.744,244.093,243.475 ,242.881,242.313,241.773,241.253, 240.518,240.052,239.387,238.968,238.563 ,238.173,237.439,236.435,235.971, 235.254,234.467,234.099,233.982, 233.832)
ORBIT_NUMBER = 6902
ORBITAL_ECCENTRICITY = 0.576
ORBITAL_INCLINATION = 86.76
ORBITAL_SEMIMAJOR_AXIS = 8722.67
PERIAPSIS_ALTITUDE = 313.42
PERIAPSIS_ARGUMENT_ANGLE = 226.96
PERIAPSIS_TIME = 2009-05-19T19:48:01.000Z
SPACECRAFT_ORIENTATION = (0.0,-1.0,0.0)
^MEX_ORIENTATION_DESC = "MEX_ORIENTATION_DESC.TXT"
SPACECRAFT_POINTING_MODE = NADIR
^MEX_POINTING_DESC = "MEX_POINTING_DESC.TXT"
RIGHT_ASCENSION = -1e+32
DECLINATION = -1e+32
OFFSET_ANGLE = -1e+32
SPACECRAFT_SOLAR_DISTANCE = 2.07512e+08
TARGET_NAME = MARS
/* CAMERA DATA ELEMENTS */
DETECTOR_TEMPERATURE = 18.3705
FOCAL_PLANE_TEMPERATURE = 8.5833
INST_CMPRS_NAME = "DISCRETE COSINE TRANSFORMATION (DCT)"
INST_CMPRS_RATIO = 6.12404
INST_CMPRS_QUALITY = 0
INST_CMPRS_QUANTZ_TBL_ID = 0
INSTRUMENT_TEMPERATURE = 11.0301
LENS_TEMPERATURE = 8.9911
MACROPIXEL_SIZE = 1
MISSING_FRAMES = 0
PIXEL_SUBSAMPLING_FLAG = N
SIGNAL_CHAIN_ID = 0
/* RADIOMETRIC DATA ELEMENTS */
BANDWIDTH = 177.0
CENTER_FILTER_WAVELENGTH = 677.5
RADIANCE_OFFSET = 2.53938
RADIANCE_SCALING_FACTOR = 0.0388698
REFLECTANCE_SCALING_FACTOR = 0.000889167
MEX:REFLECTANCE_OFFSET = 0.0580898
/* IMAGE OBJECT DEFINITIONS */
OBJECT = IMAGE
  INTERCHANGE_FORMAT = BINARY
  LINES = 25527
  LINE_SAMPLES = 14230
  SAMPLE_TYPE = UNSIGNED_INTEGER
  SAMPLE_BITS = 8
  BANDS = 1
  BAND_STORAGE_TYPE = BAND_SEQUENTIAL
  MAXIMUM = 255
  MEAN = 67.1238
  MINIMUM = 1
  STANDARD_DEVIATION = 59.7663
END_OBJECT = IMAGE
/* MAP OBJECT DEFINITIONS */
OBJECT = IMAGE_MAP_PROJECTION
  ^DATA_SET_MAP_PROJECTION_CATALOG= "DSMAP.CAT"
  A_AXIS_RADIUS = 3396.0
  B_AXIS_RADIUS = 3396.0
  C_AXIS_RADIUS = 3396.0
  CENTER_LATITUDE = 0.0
  CENTER_LONGITUDE = 238.0
  COORDINATE_SYSTEM_NAME = PLANETOGRAPHIC
  COORDINATE_SYSTEM_TYPE = "BODY-FIXED ROTATING"
  EASTERNMOST_LONGITUDE = 274.946
  FIRST_STANDARD_PARALLEL = "N/A"
  LINE_FIRST_PIXEL = 1
  LINE_LAST_PIXEL = 25527
  LINE_PROJECTION_OFFSET = -179776.0
  MAP_PROJECTION_ROTATION = 0.0
  MAP_PROJECTION_TYPE = SINUSOIDAL
  MAP_RESOLUTION = 2370.85521546667
  MAP_SCALE = 0.025
  MAXIMUM_LATITUDE = -75.8399
  MINIMUM_LATITUDE = -86.59610000000001
  POSITIVE_LONGITUDE_DIRECTION = EAST
  REFERENCE_LATITUDE = "N/A"
  REFERENCE_LONGITUDE = "N/A"
  SAMPLE_FIRST_PIXEL = 1
  SAMPLE_LAST_PIXEL = 14230
  SAMPLE_PROJECTION_OFFSET = 6323.0
  SECOND_STANDARD_PARALLEL = "N/A"
  WESTERNMOST_LONGITUDE = 226.81
END_OBJECT = IMAGE_MAP_PROJECTION
END
