PDS_VERSION_ID = PDS3
/* FILE DATA ELEMENTS */
RECORD_TYPE = UNDEFINED
/* POINTERS TO DATA OBJECTS */
^IMAGE = ("H6885_0000_S24.TIF")
/* IDENTIFICATION DATA ELEMENTS */
DATA_SET_ID = "MEX-M-HRSC-4-REFDR-MAPPROJECT-EXT3-V4.0"
DATA_SET_NAME = "MARS EXPRESS HRSC MAP PROJECTED REFDR EXTENSION3 V4.0"
DETECTOR_ID = MEX_HRSC_S2
EVENT_TYPE = "MARS-REGIONAL-MAPPING-Im-Pf"
INSTRUMENT_HOST_ID = MEX
INSTRUMENT_HOST_NAME = "MARS EXPRESS"
INSTRUMENT_ID = HRSC
INSTRUMENT_NAME = "HIGH RESOLUTION STEREO CAMERA"
MISSION_NAME = "MARS EXPRESS"
MISSION_PHASE_NAME = ME_Phase_17
PROCESSING_LEVEL_ID = 4
PRODUCT_CREATION_TIME = 2023-02-01T06:41:01.000Z
PRODUCT_ID = "H6885_0000_S24.TIF"
RELEASE_ID = 0001
REVISION_ID = 0000
/* QUALITY DATA ELEMENTS */
DATA_QUALITY_ID = 1
DATA_QUALITY_DESC = "Data calculated based on original SPICE kernels"
/* TIME DATA ELEMENTS */
SPACECRAFT_CLOCK_START_COUNT = "1/0190421334.09052"
SPACECRAFT_CLOCK_STOP_COUNT = "1/0190422033.08050"
START_TIME = 2009-05-14T22:53:18.067Z
STOP_TIME = 2009-05-14T23:00:33.487Z
/* ORBITAL DATA ELEMENTS */
ASCENDING_NODE_LONGITUDE = 86.35
MAXIMUM_RESOLUTION = 0.1032
FOOTPRINT_POINT_LATITUDE = (-75.0889,-75.17,-75.2573,-75.3387, -75.4144,-75.4841,-75.548,-75.6058, -75.6576,-75.7033,-75.7428,-75.7761, -75.8031,-75.8215,-75.8237,-75.9573, -75.5074,-75.2108,-74.9158,-74.6232, -74.3319,-74.0431,-73.7568,-73.4723, -73.1898,-72.9085,-72.6284,-72.3506, -72.0764,-71.8043,-71.5333,-71.2651, -70.9987,-70.7353,-70.2122,-69.6962, -69.1877,-68.6865,-68.1895,-67.7026, -67.2231,-66.7554,-66.062,-65.4911, -65.0423,-64.7139,-64.2813,-63.8539, -63.436,-63.3319,-63.3117,-63.329, -63.343,-63.3562,-63.3701,-63.3738, -63.3702,-63.3637,-63.3488,-63.3268, -63.2964,-63.2566,-63.2313,-63.2041, -63.1607,-63.1541,-63.1522,-63.5469, -64.0531,-64.3602,-64.7748,-65.1979, -65.6282,-66.0653,-66.509,-66.9605, -67.4186,-67.8842,-68.3569,-68.8372, -69.3248,-69.8204,-70.3227,-70.8325, -71.3497,-71.6108,-71.8742,-72.1399, -72.4068,-72.6743,-72.9452,-73.3532, -73.6274,-73.9033,-74.1814,-74.461, -74.7449,-75.0306,-75.1744,-75.0889)
FOOTPRINT_POINT_LONGITUDE = (289.048,290.116,291.347,292.59,293.843 ,295.108,296.382,297.666,298.958, 300.258,301.567,302.885,304.21,305.375, 305.542,305.738,305.983,306.138,306.286 ,306.429,306.564,306.695,306.821, 306.943,307.059,307.171,307.278,307.382 ,307.483,307.582,307.677,307.769, 307.859,307.947,308.114,308.272,308.422 ,308.565,308.698,308.828,308.953, 309.078,309.252,309.387,309.491,309.571 ,309.674,309.774,309.874,309.898, 309.903,309.184,308.461,307.448,306.008 ,304.858,303.711,302.708,301.562, 300.272,298.983,297.696,296.98,296.264, 295.262,295.119,295.067,294.989,294.877 ,294.807,294.707,294.597,294.478,294.35 ,294.211,294.061,293.899,293.723, 293.532,293.325,293.101,292.857,292.592 ,292.305,291.991,291.825,291.65,291.466 ,291.275,291.077,290.867,290.537, 290.304,290.059,289.802,289.532,289.241 ,288.936,288.776,289.048)
ORBIT_NUMBER = 6885
ORBITAL_ECCENTRICITY = 0.576
ORBITAL_INCLINATION = 86.77
ORBITAL_SEMIMAJOR_AXIS = 8718.87
PERIAPSIS_ALTITUDE = 312.97
PERIAPSIS_ARGUMENT_ANGLE = 229.91
PERIAPSIS_TIME = 2009-05-14T22:35:23.000Z
SPACECRAFT_ORIENTATION = (0.0,-1.0,0.0)
^MEX_ORIENTATION_DESC = "MEX_ORIENTATION_DESC.TXT"
SPACECRAFT_POINTING_MODE = NADIR
^MEX_POINTING_DESC = "MEX_POINTING_DESC.TXT"
RIGHT_ASCENSION = -1e+32
DECLINATION = -1e+32
OFFSET_ANGLE = -1e+32
SPACECRAFT_SOLAR_DISTANCE = 2.07241e+08
TARGET_NAME = MARS
/* CAMERA DATA ELEMENTS */
DETECTOR_TEMPERATURE = 18.5744
FOCAL_PLANE_TEMPERATURE = 7.7677
INST_CMPRS_NAME = "DISCRETE COSINE TRANSFORMATION (DCT)"
INST_CMPRS_RATIO = 11.1956
INST_CMPRS_QUALITY = 0
INST_CMPRS_QUANTZ_TBL_ID = 0
INSTRUMENT_TEMPERATURE = 11.0301
LENS_TEMPERATURE = 8.7872
MACROPIXEL_SIZE = 2
MISSING_FRAMES = 0
PIXEL_SUBSAMPLING_FLAG = N
SIGNAL_CHAIN_ID = 1
/* RADIOMETRIC DATA ELEMENTS */
BANDWIDTH = 178.0
CENTER_FILTER_WAVELENGTH = 679.0
RADIANCE_OFFSET = 6.43158
RADIANCE_SCALING_FACTOR = 0.0166017
REFLECTANCE_SCALING_FACTOR = 0.000377606
MEX:REFLECTANCE_OFFSET = 0.146286
/* IMAGE OBJECT DEFINITIONS */
OBJECT = IMAGE
  INTERCHANGE_FORMAT = BINARY
  LINES = 7658
  LINE_SAMPLES = 3417
  SAMPLE_TYPE = UNSIGNED_INTEGER
  SAMPLE_BITS = 8
  BANDS = 1
  BAND_STORAGE_TYPE = BAND_SEQUENTIAL
  MAXIMUM = 255
  MEAN = 114.137
  MINIMUM = 1
  STANDARD_DEVIATION = 25.1453
END_OBJECT = IMAGE
/* MAP OBJECT DEFINITIONS */
OBJECT = IMAGE_MAP_PROJECTION
  ^DATA_SET_MAP_PROJECTION_CATALOG= "DSMAP.CAT"
  A_AXIS_RADIUS = 3396.0
  B_AXIS_RADIUS = 3396.0
  C_AXIS_RADIUS = 3396.0
  CENTER_LATITUDE = 0.0
  CENTER_LONGITUDE = 300.0
  COORDINATE_SYSTEM_NAME = PLANETOGRAPHIC
  COORDINATE_SYSTEM_TYPE = "BODY-FIXED ROTATING"
  EASTERNMOST_LONGITUDE = 309.903
  FIRST_STANDARD_PARALLEL = "N/A"
  LINE_FIRST_PIXEL = 1
  LINE_LAST_PIXEL = 7658
  LINE_PROJECTION_OFFSET = -37364.25
  MAP_PROJECTION_ROTATION = 0.0
  MAP_PROJECTION_TYPE = SINUSOIDAL
  MAP_RESOLUTION = 592.713803866667
  MAP_SCALE = 0.1
  MAXIMUM_LATITUDE = -63.1522
  MINIMUM_LATITUDE = -75.9573
  POSITIVE_LONGITUDE_DIRECTION = EAST
  REFERENCE_LATITUDE = "N/A"
  REFERENCE_LONGITUDE = "N/A"
  SAMPLE_FIRST_PIXEL = 1
  SAMPLE_LAST_PIXEL = 3417
  SAMPLE_PROJECTION_OFFSET = 1504.25
  SECOND_STANDARD_PARALLEL = "N/A"
  WESTERNMOST_LONGITUDE = 288.776
END_OBJECT = IMAGE_MAP_PROJECTION
END
