PDS_VERSION_ID = PDS3
/* FILE DATA ELEMENTS */
RECORD_TYPE = UNDEFINED
/* POINTERS TO DATA OBJECTS */
^IMAGE = ("H6879_0000_ND4.TIF")
/* IDENTIFICATION DATA ELEMENTS */
DATA_SET_ID = "MEX-M-HRSC-4-REFDR-MAPPROJECT-EXT3-V4.0"
DATA_SET_NAME = "MARS EXPRESS HRSC MAP PROJECTED REFDR EXTENSION3 V4.0"
DETECTOR_ID = MEX_HRSC_NADIR
EVENT_TYPE = "MARS-REGIONAL-MAPPING-Gl-La"
INSTRUMENT_HOST_ID = MEX
INSTRUMENT_HOST_NAME = "MARS EXPRESS"
INSTRUMENT_ID = HRSC
INSTRUMENT_NAME = "HIGH RESOLUTION STEREO CAMERA"
MISSION_NAME = "MARS EXPRESS"
MISSION_PHASE_NAME = ME_Phase_17
PROCESSING_LEVEL_ID = 4
PRODUCT_CREATION_TIME = 2023-02-01T06:41:01.000Z
PRODUCT_ID = "H6879_0000_ND4.TIF"
RELEASE_ID = 0001
REVISION_ID = 0000
/* QUALITY DATA ELEMENTS */
DATA_QUALITY_ID = 1
DATA_QUALITY_DESC = "Data calculated based on original SPICE kernels"
/* TIME DATA ELEMENTS */
SPACECRAFT_CLOCK_START_COUNT = "1/0190272154.09036"
SPACECRAFT_CLOCK_STOP_COUNT = "1/0190272611.57037"
START_TIME = 2009-05-13T05:23:38.187Z
STOP_TIME = 2009-05-13T05:27:49.173Z
/* ORBITAL DATA ELEMENTS */
ASCENDING_NODE_LONGITUDE = 86.47
MAXIMUM_RESOLUTION = 0.0258
FOOTPRINT_POINT_LATITUDE = (-85.6633,-86.3802,-86.706,-87.118, -87.574,-87.8349,-87.8567,-87.8961, -87.8664,-87.7347,-87.5203,-87.2395, -86.9081,-86.538,-86.2402,-85.8229, -85.3862,-85.0474,-84.7007,-84.4659, -84.2272,-83.9863,-83.7424,-83.4957, -83.2471,-82.9954,-82.7415,-82.4857, -82.2272,-81.9661,-81.7035,-81.4389, -81.1715,-80.9024,-80.6312,-80.358, -80.0823,-79.8045,-79.5249,-79.2436, -78.9604,-78.6749,-78.3872,-78.0974, -77.8059,-77.5118,-77.0675,-76.9192, -76.9046,-76.844,-76.7609,-76.7123, -76.6234,-76.5626,-76.4186,-76.3149, -76.1923,-76.1817,-76.1769,-76.461, -76.8849,-77.1641,-77.4406,-77.7148, -77.9862,-78.2551,-78.5218,-78.7858, -79.0468,-79.3052,-79.561,-79.8141, -80.0639,-80.3104,-80.5541,-80.795, -81.0325,-81.2668,-81.4978,-81.7251, -81.9469,-82.1668,-82.3838,-82.5956, -82.8033,-83.0058,-83.3004,-83.5831, -83.9396,-84.1931,-84.505,-84.7858, -84.974,-85.1928,-85.3709,-85.5042, -85.5915,-85.6299,-85.6323,-85.6633)
FOOTPRINT_POINT_LONGITUDE = (104.115,103.827,103.654,103.379, 102.966,102.651,102.621,102.527,117.99, 129.554,139.596,147.913,154.649,160.058 ,163.412,167.167,170.259,172.226, 173.954,174.99,175.948,176.833,177.654, 178.418,179.128,179.792,180.413,180.993 ,181.539,182.053,182.535,182.99,183.421 ,183.831,184.214,184.58,184.925,185.255 ,185.569,185.869,186.152,186.425, 186.684,186.933,187.169,187.394,187.717 ,187.821,187.831,185.725,183.509, 182.412,180.648,179.575,177.324,175.893 ,174.356,174.229,174.166,173.796,173.21 ,172.798,172.372,171.926,171.462, 170.978,170.474,169.947,169.396,168.82, 168.218,167.587,166.928,166.238,165.513 ,164.752,163.959,163.125,162.249, 161.325,160.34,159.321,158.261,157.137, 155.945,154.691,152.678,150.495,147.295 ,144.696,140.88,136.663,133.244,128.334 ,123.055,117.463,111.65,105.729,104.247 ,104.115)
ORBIT_NUMBER = 6879
ORBITAL_ECCENTRICITY = 0.576
ORBITAL_INCLINATION = 86.76
ORBITAL_SEMIMAJOR_AXIS = 8717.07
PERIAPSIS_ALTITUDE = 312.69
PERIAPSIS_ARGUMENT_ANGLE = 230.94
PERIAPSIS_TIME = 2009-05-13T05:13:13.000Z
SPACECRAFT_ORIENTATION = (0.0,-1.0,0.0)
^MEX_ORIENTATION_DESC = "MEX_ORIENTATION_DESC.TXT"
SPACECRAFT_POINTING_MODE = NADIR
^MEX_POINTING_DESC = "MEX_POINTING_DESC.TXT"
RIGHT_ASCENSION = -1e+32
DECLINATION = -1e+32
OFFSET_ANGLE = -1e+32
SPACECRAFT_SOLAR_DISTANCE = 2.07158e+08
TARGET_NAME = MARS
/* CAMERA DATA ELEMENTS */
DETECTOR_TEMPERATURE = 18.3705
FOCAL_PLANE_TEMPERATURE = 8.7872
INST_CMPRS_NAME = "DISCRETE COSINE TRANSFORMATION (DCT)"
INST_CMPRS_RATIO = 5.88007
INST_CMPRS_QUALITY = 0
INST_CMPRS_QUANTZ_TBL_ID = 0
INSTRUMENT_TEMPERATURE = 11.234
LENS_TEMPERATURE = 9.6028
MACROPIXEL_SIZE = 1
MISSING_FRAMES = 0
PIXEL_SUBSAMPLING_FLAG = N
SIGNAL_CHAIN_ID = 0
/* RADIOMETRIC DATA ELEMENTS */
BANDWIDTH = 177.0
CENTER_FILTER_WAVELENGTH = 677.5
RADIANCE_OFFSET = 4.16485
RADIANCE_SCALING_FACTOR = 0.0357853
REFLECTANCE_SCALING_FACTOR = 0.000815811
MEX:REFLECTANCE_OFFSET = 0.0949479
/* IMAGE OBJECT DEFINITIONS */
OBJECT = IMAGE
  INTERCHANGE_FORMAT = BINARY
  LINES = 27803
  LINE_SAMPLES = 22547
  SAMPLE_TYPE = UNSIGNED_INTEGER
  SAMPLE_BITS = 8
  BANDS = 1
  BAND_STORAGE_TYPE = BAND_SEQUENTIAL
  MAXIMUM = 255
  MEAN = 52.8585
  MINIMUM = 1
  STANDARD_DEVIATION = 34.0826
END_OBJECT = IMAGE
/* MAP OBJECT DEFINITIONS */
OBJECT = IMAGE_MAP_PROJECTION
  ^DATA_SET_MAP_PROJECTION_CATALOG= "DSMAP.CAT"
  A_AXIS_RADIUS = 3396.0
  B_AXIS_RADIUS = 3396.0
  C_AXIS_RADIUS = 3396.0
  CENTER_LATITUDE = 0.0
  CENTER_LONGITUDE = 167.0
  COORDINATE_SYSTEM_NAME = PLANETOGRAPHIC
  COORDINATE_SYSTEM_TYPE = "BODY-FIXED ROTATING"
  EASTERNMOST_LONGITUDE = 187.831
  FIRST_STANDARD_PARALLEL = "N/A"
  LINE_FIRST_PIXEL = 1
  LINE_LAST_PIXEL = 27803
  LINE_PROJECTION_OFFSET = -180605.0
  MAP_PROJECTION_ROTATION = 0.0
  MAP_PROJECTION_TYPE = SINUSOIDAL
  MAP_RESOLUTION = 2370.85521546667
  MAP_SCALE = 0.025
  MAXIMUM_LATITUDE = -76.1769
  MINIMUM_LATITUDE = -87.8961
  POSITIVE_LONGITUDE_DIRECTION = EAST
  REFERENCE_LATITUDE = "N/A"
  REFERENCE_LONGITUDE = "N/A"
  SAMPLE_FIRST_PIXEL = 1
  SAMPLE_LAST_PIXEL = 22547
  SAMPLE_PROJECTION_OFFSET = 11356.0
  SECOND_STANDARD_PARALLEL = "N/A"
  WESTERNMOST_LONGITUDE = 102.527
END_OBJECT = IMAGE_MAP_PROJECTION
END
