PDS_VERSION_ID = PDS3
/* FILE DATA ELEMENTS */
RECORD_TYPE = UNDEFINED
/* POINTERS TO DATA OBJECTS */
^IMAGE = ("H6879_0000_BL4.TIF")
/* IDENTIFICATION DATA ELEMENTS */
DATA_SET_ID = "MEX-M-HRSC-4-REFDR-MAPPROJECT-EXT3-V4.0"
DATA_SET_NAME = "MARS EXPRESS HRSC MAP PROJECTED REFDR EXTENSION3 V4.0"
DETECTOR_ID = MEX_HRSC_BLUE
EVENT_TYPE = "MARS-REGIONAL-MAPPING-Gl-La"
INSTRUMENT_HOST_ID = MEX
INSTRUMENT_HOST_NAME = "MARS EXPRESS"
INSTRUMENT_ID = HRSC
INSTRUMENT_NAME = "HIGH RESOLUTION STEREO CAMERA"
MISSION_NAME = "MARS EXPRESS"
MISSION_PHASE_NAME = ME_Phase_17
PROCESSING_LEVEL_ID = 4
PRODUCT_CREATION_TIME = 2023-02-01T06:41:01.000Z
PRODUCT_ID = "H6879_0000_BL4.TIF"
RELEASE_ID = 0001
REVISION_ID = 0000
/* QUALITY DATA ELEMENTS */
DATA_QUALITY_ID = 1
DATA_QUALITY_DESC = "Data calculated based on original SPICE kernels"
/* TIME DATA ELEMENTS */
SPACECRAFT_CLOCK_START_COUNT = "1/0190272154.09036"
SPACECRAFT_CLOCK_STOP_COUNT = "1/0190272611.57037"
START_TIME = 2009-05-13T05:23:50.046Z
STOP_TIME = 2009-05-13T05:28:08.826Z
/* ORBITAL DATA ELEMENTS */
ASCENDING_NODE_LONGITUDE = 86.47
MAXIMUM_RESOLUTION = 0.1052
FOOTPRINT_POINT_LATITUDE = (-85.643,-85.8931,-86.247,-86.7257, -87.0583,-87.4952,-87.8495,-87.8703, -87.9038,-87.9033,-87.8174,-87.6421, -87.3927,-86.993,-86.6323,-86.239, -85.7156,-85.3873,-85.1634,-84.9352, -84.7043,-84.4698,-84.2323,-83.8712, -83.5041,-83.2566,-83.0061,-82.7531, -82.4985,-82.1119,-81.8519,-81.5892, -81.3244,-81.0583,-80.7893,-80.5186, -80.2456,-79.9705,-79.6939,-79.416, -79.135,-78.8526,-78.568,-78.2809, -77.9924,-77.7039,-77.4163,-77.1297, -76.9868,-76.9005,-76.8522,-76.7827, -76.7091,-76.6106,-76.5367,-76.414, -76.2673,-76.1777,-76.1675,-76.1658, -76.4393,-76.7132,-76.9874,-77.262, -77.6718,-77.942,-78.2093,-78.4743, -78.7365,-78.9962,-79.2535,-79.5077, -79.7592,-80.0081,-80.2543,-80.4974, -80.737,-80.9735,-81.207,-81.4373, -81.6635,-81.8865,-82.106,-82.3212, -82.6366,-82.942,-83.2369,-83.5202, -83.7904,-84.1318,-84.3697,-84.6611, -84.8582,-85.0961,-85.2885,-85.405, -85.5427,-85.6067,-85.6102,-85.643)
FOOTPRINT_POINT_LONGITUDE = (104.386,104.322,104.216,104.032, 103.865,103.576,103.252,103.229,102.73, 112.062,124.142,134.979,144.126,153.383 ,159.052,163.612,168.165,170.41,171.741 ,172.962,174.081,175.113,176.065, 177.361,178.521,179.228,179.889,180.507 ,181.086,181.889,182.383,182.851, 183.293,183.715,184.107,184.48,184.836, 185.171,185.491,185.8,186.089,186.366, 186.632,186.884,187.128,187.357,187.575 ,187.782,187.883,187.942,186.189, 184.175,182.449,180.484,179.189,177.274 ,175.269,174.158,174.036,173.993, 173.636,173.262,172.869,172.457,171.802 ,171.342,170.861,170.365,169.843, 169.299,168.729,168.134,167.512,166.86, 166.177,165.46,164.71,163.928,163.105, 162.241,161.334,160.356,159.348,158.308 ,156.63,154.805,152.827,150.683,148.338 ,144.988,142.22,138.186,134.904,130.055 ,124.955,120.908,113.823,106.495, 105.023,104.386)
ORBIT_NUMBER = 6879
ORBITAL_ECCENTRICITY = 0.576
ORBITAL_INCLINATION = 86.76
ORBITAL_SEMIMAJOR_AXIS = 8717.07
PERIAPSIS_ALTITUDE = 312.69
PERIAPSIS_ARGUMENT_ANGLE = 230.94
PERIAPSIS_TIME = 2009-05-13T05:13:13.000Z
SPACECRAFT_ORIENTATION = (0.0,-1.0,0.0)
^MEX_ORIENTATION_DESC = "MEX_ORIENTATION_DESC.TXT"
SPACECRAFT_POINTING_MODE = NADIR
^MEX_POINTING_DESC = "MEX_POINTING_DESC.TXT"
RIGHT_ASCENSION = -1e+32
DECLINATION = -1e+32
OFFSET_ANGLE = -1e+32
SPACECRAFT_SOLAR_DISTANCE = 2.07158e+08
TARGET_NAME = MARS
/* CAMERA DATA ELEMENTS */
DETECTOR_TEMPERATURE = 18.3705
FOCAL_PLANE_TEMPERATURE = 8.7872
INST_CMPRS_NAME = "DISCRETE COSINE TRANSFORMATION (DCT)"
INST_CMPRS_RATIO = 7.17241
INST_CMPRS_QUALITY = 0
INST_CMPRS_QUANTZ_TBL_ID = 0
INSTRUMENT_TEMPERATURE = 11.234
LENS_TEMPERATURE = 9.6028
MACROPIXEL_SIZE = 4
MISSING_FRAMES = 1
PIXEL_SUBSAMPLING_FLAG = N
SIGNAL_CHAIN_ID = 2
/* RADIOMETRIC DATA ELEMENTS */
BANDWIDTH = 76.0
CENTER_FILTER_WAVELENGTH = 444.0
RADIANCE_OFFSET = 0.669206
RADIANCE_SCALING_FACTOR = 0.00590476
REFLECTANCE_SCALING_FACTOR = 0.000260352
MEX:REFLECTANCE_OFFSET = 0.0295066
/* IMAGE OBJECT DEFINITIONS */
OBJECT = IMAGE
  INTERCHANGE_FORMAT = BINARY
  LINES = 6951
  LINE_SAMPLES = 5637
  SAMPLE_TYPE = UNSIGNED_INTEGER
  SAMPLE_BITS = 8
  BANDS = 1
  BAND_STORAGE_TYPE = BAND_SEQUENTIAL
  MAXIMUM = 255
  MEAN = 47.9286
  MINIMUM = 1
  STANDARD_DEVIATION = 55.1142
END_OBJECT = IMAGE
/* MAP OBJECT DEFINITIONS */
OBJECT = IMAGE_MAP_PROJECTION
  ^DATA_SET_MAP_PROJECTION_CATALOG= "DSMAP.CAT"
  A_AXIS_RADIUS = 3396.0
  B_AXIS_RADIUS = 3396.0
  C_AXIS_RADIUS = 3396.0
  CENTER_LATITUDE = 0.0
  CENTER_LONGITUDE = 167.0
  COORDINATE_SYSTEM_NAME = PLANETOGRAPHIC
  COORDINATE_SYSTEM_TYPE = "BODY-FIXED ROTATING"
  EASTERNMOST_LONGITUDE = 187.942
  FIRST_STANDARD_PARALLEL = "N/A"
  LINE_FIRST_PIXEL = 1
  LINE_LAST_PIXEL = 6951
  LINE_PROJECTION_OFFSET = -45151.625
  MAP_PROJECTION_ROTATION = 0.0
  MAP_PROJECTION_TYPE = SINUSOIDAL
  MAP_RESOLUTION = 592.713803866667
  MAP_SCALE = 0.1
  MAXIMUM_LATITUDE = -76.1658
  MINIMUM_LATITUDE = -87.9038
  POSITIVE_LONGITUDE_DIRECTION = EAST
  REFERENCE_LATITUDE = "N/A"
  REFERENCE_LONGITUDE = "N/A"
  SAMPLE_FIRST_PIXEL = 1
  SAMPLE_LAST_PIXEL = 5637
  SAMPLE_PROJECTION_OFFSET = 2838.625
  SECOND_STANDARD_PARALLEL = "N/A"
  WESTERNMOST_LONGITUDE = 102.73
END_OBJECT = IMAGE_MAP_PROJECTION
END
