PDS_VERSION_ID = PDS3
/* FILE DATA ELEMENTS */
RECORD_TYPE = UNDEFINED
/* POINTERS TO DATA OBJECTS */
^IMAGE = ("H6871_0000_S14.TIF")
/* IDENTIFICATION DATA ELEMENTS */
DATA_SET_ID = "MEX-M-HRSC-4-REFDR-MAPPROJECT-EXT3-V4.0"
DATA_SET_NAME = "MARS EXPRESS HRSC MAP PROJECTED REFDR EXTENSION3 V4.0"
DETECTOR_ID = MEX_HRSC_S1
EVENT_TYPE = "MARS-REGIONAL-MAPPING-Gl-Pf-La"
INSTRUMENT_HOST_ID = MEX
INSTRUMENT_HOST_NAME = "MARS EXPRESS"
INSTRUMENT_ID = HRSC
INSTRUMENT_NAME = "HIGH RESOLUTION STEREO CAMERA"
MISSION_NAME = "MARS EXPRESS"
MISSION_PHASE_NAME = ME_Phase_17
PROCESSING_LEVEL_ID = 4
PRODUCT_CREATION_TIME = 2023-02-01T06:41:01.000Z
PRODUCT_ID = "H6871_0000_S14.TIF"
RELEASE_ID = 0001
REVISION_ID = 0000
/* QUALITY DATA ELEMENTS */
DATA_QUALITY_ID = 1
DATA_QUALITY_DESC = "Data calculated based on original SPICE kernels"
/* TIME DATA ELEMENTS */
SPACECRAFT_CLOCK_START_COUNT = "1/0190073485.07302"
SPACECRAFT_CLOCK_STOP_COUNT = "1/0190073922.39049"
START_TIME = 2009-05-10T22:11:27.589Z
STOP_TIME = 2009-05-10T22:15:25.548Z
/* ORBITAL DATA ELEMENTS */
ASCENDING_NODE_LONGITUDE = 86.63
MAXIMUM_RESOLUTION = 0.0427
FOOTPRINT_POINT_LATITUDE = (-83.374,-83.7508,-83.9784,-84.117, -84.2373,-84.2441,-84.3499,-84.8093, -85.2624,-85.5996,-86.0398,-86.3584, -86.7654,-87.134,-87.2985,-87.4457, -87.5733,-87.6731,-87.7471,-87.7916, -87.7765,-87.7261,-87.6417,-87.5262, -87.3819,-87.2137,-87.0252,-86.8149, -86.5943,-86.3578,-86.1132,-85.7268, -85.4602,-85.1884,-84.9091,-84.4794, -84.1872,-83.8884,-83.5859,-83.2793, -82.9685,-82.6545,-82.3354,-82.0124, -81.5233,-81.025,-80.689,-80.3487, -80.1785,-80.1085,-79.9987,-79.8863, -79.7151,-79.5923,-79.4841,-79.3219, -79.3112,-79.3083,-79.6292,-79.9464, -80.2584,-80.5655,-80.871,-81.1693, -81.4614,-81.7494,-82.0316,-82.3073, -82.5775,-82.8406,-83.0966,-83.3445, -83.705,-83.9336,-84.1511,-84.3604, -84.5583,-84.8338,-85.08,-85.2287, -85.3591,-85.473,-85.613,-85.683, -85.7343,-85.7667,-85.7803,-85.7752, -85.7334,-85.6838,-85.5785,-85.4403, -85.1465,-84.8647,-84.5499,-84.2102, -83.9421,-83.5687,-83.4736,-83.374)
FOOTPRINT_POINT_LONGITUDE = (140.51,135.646,132.047,129.501,126.989 ,126.838,126.912,129.072,131.67,134.004 ,137.764,141.201,146.917,154.259, 158.688,163.689,169.346,175.502,182.35, 193.073,200.378,207.405,214.186,220.438 ,226.179,231.263,235.753,239.772, 243.234,246.346,249.038,252.541,254.537 ,256.309,257.907,260.021,261.262, 262.399,263.435,264.379,265.249,266.047 ,266.788,267.476,268.407,269.249, 269.763,270.245,270.473,270.564,267.61, 265.281,262.351,260.536,259.01,257.033, 256.912,256.866,256.131,255.352,254.528 ,253.656,252.725,251.738,250.694, 249.578,248.39,247.126,245.772,244.332, 242.791,241.146,238.448,236.492,234.412 ,232.176,229.793,225.915,221.663, 218.565,215.365,212.02,206.724,203.064, 199.334,195.556,191.745,187.967,182.369 ,178.768,173.565,168.73,161.443,156.353 ,151.88,147.973,145.366,142.255,141.541 ,140.51)
ORBIT_NUMBER = 6871
ORBITAL_ECCENTRICITY = 0.576
ORBITAL_INCLINATION = 86.77
ORBITAL_SEMIMAJOR_AXIS = 8716.24
PERIAPSIS_ALTITUDE = 312.48
PERIAPSIS_ARGUMENT_ANGLE = 232.31
PERIAPSIS_TIME = 2009-05-10T22:03:44.000Z
SPACECRAFT_ORIENTATION = (0.0,-1.0,0.0)
^MEX_ORIENTATION_DESC = "MEX_ORIENTATION_DESC.TXT"
SPACECRAFT_POINTING_MODE = NADIR
^MEX_POINTING_DESC = "MEX_POINTING_DESC.TXT"
RIGHT_ASCENSION = -1e+32
DECLINATION = -1e+32
OFFSET_ANGLE = -1e+32
SPACECRAFT_SOLAR_DISTANCE = 2.07056e+08
TARGET_NAME = MARS
/* CAMERA DATA ELEMENTS */
DETECTOR_TEMPERATURE = 17.5549
FOCAL_PLANE_TEMPERATURE = 8.5833
INST_CMPRS_NAME = "DISCRETE COSINE TRANSFORMATION (DCT)"
INST_CMPRS_RATIO = 7.14063
INST_CMPRS_QUALITY = 0
INST_CMPRS_QUANTZ_TBL_ID = 0
INSTRUMENT_TEMPERATURE = 12.6613
LENS_TEMPERATURE = 8.9911
MACROPIXEL_SIZE = 2
MISSING_FRAMES = 1
PIXEL_SUBSAMPLING_FLAG = N
SIGNAL_CHAIN_ID = 1
/* RADIOMETRIC DATA ELEMENTS */
BANDWIDTH = 180.0
CENTER_FILTER_WAVELENGTH = 677.0
RADIANCE_OFFSET = 4.87501
RADIANCE_SCALING_FACTOR = 0.033456
REFLECTANCE_SCALING_FACTOR = 0.000748325
MEX:REFLECTANCE_OFFSET = 0.109042
/* IMAGE OBJECT DEFINITIONS */
OBJECT = IMAGE
  INTERCHANGE_FORMAT = BINARY
  LINES = 6435
  LINE_SAMPLES = 17774
  SAMPLE_TYPE = UNSIGNED_INTEGER
  SAMPLE_BITS = 8
  BANDS = 1
  BAND_STORAGE_TYPE = BAND_SEQUENTIAL
  MAXIMUM = 255
  MEAN = 150.703
  MINIMUM = 1
  STANDARD_DEVIATION = 75.6637
END_OBJECT = IMAGE
/* MAP OBJECT DEFINITIONS */
OBJECT = IMAGE_MAP_PROJECTION
  ^DATA_SET_MAP_PROJECTION_CATALOG= "DSMAP.CAT"
  A_AXIS_RADIUS = 3396.0
  B_AXIS_RADIUS = 3396.0
  C_AXIS_RADIUS = 3396.0
  CENTER_LATITUDE = -90.0
  CENTER_LONGITUDE = 0.0
  COORDINATE_SYSTEM_NAME = PLANETOGRAPHIC
  COORDINATE_SYSTEM_TYPE = "BODY-FIXED ROTATING"
  EASTERNMOST_LONGITUDE = 270.564
  FIRST_STANDARD_PARALLEL = "N/A"
  LINE_FIRST_PIXEL = 1
  LINE_LAST_PIXEL = 6435
  LINE_PROJECTION_OFFSET = 271.75
  MAP_PROJECTION_ROTATION = 0.0
  MAP_PROJECTION_TYPE = STEREOGRAPHIC
  MAP_RESOLUTION = 1185.42760773333
  MAP_SCALE = 0.05
  MAXIMUM_LATITUDE = -79.3083
  MINIMUM_LATITUDE = -87.7916
  POSITIVE_LONGITUDE_DIRECTION = EAST
  REFERENCE_LATITUDE = "N/A"
  REFERENCE_LONGITUDE = "N/A"
  SAMPLE_FIRST_PIXEL = 1
  SAMPLE_LAST_PIXEL = 17774
  SAMPLE_PROJECTION_OFFSET = 12422.25
  SECOND_STANDARD_PARALLEL = "N/A"
  WESTERNMOST_LONGITUDE = 126.838
END_OBJECT = IMAGE_MAP_PROJECTION
END
