PDS_VERSION_ID = PDS3
/* FILE DATA ELEMENTS */
RECORD_TYPE = UNDEFINED
/* POINTERS TO DATA OBJECTS */
^IMAGE = ("H6871_0000_P14.TIF")
/* IDENTIFICATION DATA ELEMENTS */
DATA_SET_ID = "MEX-M-HRSC-4-REFDR-MAPPROJECT-EXT3-V4.0"
DATA_SET_NAME = "MARS EXPRESS HRSC MAP PROJECTED REFDR EXTENSION3 V4.0"
DETECTOR_ID = MEX_HRSC_P1
EVENT_TYPE = "MARS-REGIONAL-MAPPING-Gl-Pf-La"
INSTRUMENT_HOST_ID = MEX
INSTRUMENT_HOST_NAME = "MARS EXPRESS"
INSTRUMENT_ID = HRSC
INSTRUMENT_NAME = "HIGH RESOLUTION STEREO CAMERA"
MISSION_NAME = "MARS EXPRESS"
MISSION_PHASE_NAME = ME_Phase_17
PROCESSING_LEVEL_ID = 4
PRODUCT_CREATION_TIME = 2023-02-01T06:41:01.000Z
PRODUCT_ID = "H6871_0000_P14.TIF"
RELEASE_ID = 0001
REVISION_ID = 0000
/* QUALITY DATA ELEMENTS */
DATA_QUALITY_ID = 1
DATA_QUALITY_DESC = "Data calculated based on original SPICE kernels"
/* TIME DATA ELEMENTS */
SPACECRAFT_CLOCK_START_COUNT = "1/0190073485.07302"
SPACECRAFT_CLOCK_STOP_COUNT = "1/0190073922.39049"
START_TIME = 2009-05-10T22:11:43.806Z
STOP_TIME = 2009-05-10T22:15:51.433Z
/* ORBITAL DATA ELEMENTS */
ASCENDING_NODE_LONGITUDE = 86.63
MAXIMUM_RESOLUTION = 0.0423
FOOTPRINT_POINT_LATITUDE = (-83.3882,-83.6087,-83.8686,-84.0627, -84.2804,-84.2873,-84.3613,-84.7072, -85.165,-85.504,-85.8404,-86.275, -86.6884,-86.8852,-87.0695,-87.3232, -87.4701,-87.5968,-87.6964,-87.7681, -87.8095,-87.7916,-87.7376,-87.6497, -87.5306,-87.3834,-87.2123,-87.0207, -86.8124,-86.5887,-86.352,-86.1047, -85.7165,-85.4489,-85.1746,-84.7516, -84.4628,-84.168,-83.7172,-83.4124, -83.1026,-82.7886,-82.4717,-82.1498, -81.8254,-81.4983,-80.9987,-80.6623, -80.3222,-80.1506,-80.0989,-80.0156, -79.8583,-79.6729,-79.4411,-79.2946, -79.2832,-79.28,-79.6019,-79.9186, -80.2307,-80.5382,-80.8418,-81.14, -81.432,-81.8611,-82.1398,-82.4129, -82.6793,-83.0659,-83.4351,-83.7886, -84.0123,-84.225,-84.5257,-84.7126, -84.8861,-85.0467,-85.1924,-85.3229, -85.4373,-85.5354,-85.6149,-85.6762, -85.7186,-85.7423,-85.7472,-85.72, -85.6797,-85.6222,-85.5494,-85.461, -85.2454,-84.9842,-84.6861,-84.358, -84.0082,-83.5454,-83.4498,-83.3882)
FOOTPRINT_POINT_LONGITUDE = (140.878,138.223,134.585,131.375, 127.034,126.879,126.814,128.396,130.881 ,133.092,135.706,139.941,145.327,148.6, 152.29,158.829,163.892,169.615,175.901, 182.775,193.658,201.026,208.144,214.942 ,221.195,226.901,231.949,236.409,240.31 ,243.759,246.818,249.496,252.957, 254.929,256.686,258.996,260.352,261.585 ,263.231,264.203,265.098,265.922,266.68 ,267.387,268.035,268.635,269.468, 269.975,270.45,270.677,270.743,268.416, 265.01,261.856,258.556,256.775,256.649, 256.602,255.865,255.085,254.259,253.386 ,252.458,251.471,250.424,248.725, 247.499,246.19,244.795,242.522,240.011, 237.226,235.207,233.059,229.551,227.008 ,224.318,221.451,218.433,215.251, 211.924,208.444,204.866,201.184,197.453 ,193.663,189.9,184.293,180.655,177.099, 173.695,170.423,164.37,158.96,154.188, 149.997,146.332,142.373,141.653, 140.878)
ORBIT_NUMBER = 6871
ORBITAL_ECCENTRICITY = 0.576
ORBITAL_INCLINATION = 86.77
ORBITAL_SEMIMAJOR_AXIS = 8716.24
PERIAPSIS_ALTITUDE = 312.48
PERIAPSIS_ARGUMENT_ANGLE = 232.31
PERIAPSIS_TIME = 2009-05-10T22:03:44.000Z
SPACECRAFT_ORIENTATION = (0.0,-1.0,0.0)
^MEX_ORIENTATION_DESC = "MEX_ORIENTATION_DESC.TXT"
SPACECRAFT_POINTING_MODE = NADIR
^MEX_POINTING_DESC = "MEX_POINTING_DESC.TXT"
RIGHT_ASCENSION = -1e+32
DECLINATION = -1e+32
OFFSET_ANGLE = -1e+32
SPACECRAFT_SOLAR_DISTANCE = 2.07056e+08
TARGET_NAME = MARS
/* CAMERA DATA ELEMENTS */
DETECTOR_TEMPERATURE = 17.5549
FOCAL_PLANE_TEMPERATURE = 8.5833
INST_CMPRS_NAME = "DISCRETE COSINE TRANSFORMATION (DCT)"
INST_CMPRS_RATIO = 7.03399
INST_CMPRS_QUALITY = 0
INST_CMPRS_QUANTZ_TBL_ID = 0
INSTRUMENT_TEMPERATURE = 12.6613
LENS_TEMPERATURE = 8.9911
MACROPIXEL_SIZE = 2
MISSING_FRAMES = 0
PIXEL_SUBSAMPLING_FLAG = N
SIGNAL_CHAIN_ID = 3
/* RADIOMETRIC DATA ELEMENTS */
BANDWIDTH = 174.0
CENTER_FILTER_WAVELENGTH = 675.0
RADIANCE_OFFSET = 4.2622
RADIANCE_SCALING_FACTOR = 0.0295332
REFLECTANCE_SCALING_FACTOR = 0.000681038
MEX:REFLECTANCE_OFFSET = 0.0982867
/* IMAGE OBJECT DEFINITIONS */
OBJECT = IMAGE
  INTERCHANGE_FORMAT = BINARY
  LINES = 6435
  LINE_SAMPLES = 17774
  SAMPLE_TYPE = UNSIGNED_INTEGER
  SAMPLE_BITS = 8
  BANDS = 1
  BAND_STORAGE_TYPE = BAND_SEQUENTIAL
  MAXIMUM = 255
  MEAN = 139.045
  MINIMUM = 1
  STANDARD_DEVIATION = 62.669
END_OBJECT = IMAGE
/* MAP OBJECT DEFINITIONS */
OBJECT = IMAGE_MAP_PROJECTION
  ^DATA_SET_MAP_PROJECTION_CATALOG= "DSMAP.CAT"
  A_AXIS_RADIUS = 3396.0
  B_AXIS_RADIUS = 3396.0
  C_AXIS_RADIUS = 3396.0
  CENTER_LATITUDE = -90.0
  CENTER_LONGITUDE = 0.0
  COORDINATE_SYSTEM_NAME = PLANETOGRAPHIC
  COORDINATE_SYSTEM_TYPE = "BODY-FIXED ROTATING"
  EASTERNMOST_LONGITUDE = 270.743
  FIRST_STANDARD_PARALLEL = "N/A"
  LINE_FIRST_PIXEL = 1
  LINE_LAST_PIXEL = 6435
  LINE_PROJECTION_OFFSET = 271.75
  MAP_PROJECTION_ROTATION = 0.0
  MAP_PROJECTION_TYPE = STEREOGRAPHIC
  MAP_RESOLUTION = 1185.42760773333
  MAP_SCALE = 0.05
  MAXIMUM_LATITUDE = -79.28
  MINIMUM_LATITUDE = -87.8095
  POSITIVE_LONGITUDE_DIRECTION = EAST
  REFERENCE_LATITUDE = "N/A"
  REFERENCE_LONGITUDE = "N/A"
  SAMPLE_FIRST_PIXEL = 1
  SAMPLE_LAST_PIXEL = 17774
  SAMPLE_PROJECTION_OFFSET = 12422.25
  SECOND_STANDARD_PARALLEL = "N/A"
  WESTERNMOST_LONGITUDE = 126.814
END_OBJECT = IMAGE_MAP_PROJECTION
END
