PDS_VERSION_ID = PDS3
/* FILE DATA ELEMENTS */
RECORD_TYPE = UNDEFINED
/* POINTERS TO DATA OBJECTS */
^IMAGE = ("H6860_0000_P14.TIF")
/* IDENTIFICATION DATA ELEMENTS */
DATA_SET_ID = "MEX-M-HRSC-4-REFDR-MAPPROJECT-EXT3-V4.0"
DATA_SET_NAME = "MARS EXPRESS HRSC MAP PROJECTED REFDR EXTENSION3 V4.0"
DETECTOR_ID = MEX_HRSC_P1
EVENT_TYPE = "MARS-REGIONAL-MAPPING-Gl-Pf-La"
INSTRUMENT_HOST_ID = MEX
INSTRUMENT_HOST_NAME = "MARS EXPRESS"
INSTRUMENT_ID = HRSC
INSTRUMENT_NAME = "HIGH RESOLUTION STEREO CAMERA"
MISSION_NAME = "MARS EXPRESS"
MISSION_PHASE_NAME = ME_Phase_17
PROCESSING_LEVEL_ID = 4
PRODUCT_CREATION_TIME = 2023-02-01T06:41:01.000Z
PRODUCT_ID = "H6860_0000_P14.TIF"
RELEASE_ID = 0001
REVISION_ID = 0000
/* QUALITY DATA ELEMENTS */
DATA_QUALITY_ID = 1
DATA_QUALITY_DESC = "Data calculated based on original SPICE kernels"
/* TIME DATA ELEMENTS */
SPACECRAFT_CLOCK_START_COUNT = "1/0189800526.09061"
SPACECRAFT_CLOCK_STOP_COUNT = "1/0189800941.32122"
START_TIME = 2009-05-07T18:22:27.600Z
STOP_TIME = 2009-05-07T18:25:53.720Z
/* ORBITAL DATA ELEMENTS */
ASCENDING_NODE_LONGITUDE = 86.84
MAXIMUM_RESOLUTION = 0.048
FOOTPRINT_POINT_LATITUDE = (-85.4474,-85.9438,-86.3248,-86.7111, -86.9549,-87.1746,-87.19,-87.1785, -86.8069,-86.4696,-86.1045,-85.6168, -85.4128,-85.206,-84.8884,-84.6728, -84.3428,-84.1201,-83.8935,-83.6649, -83.4335,-83.1996,-82.9619,-82.7245, -82.4852,-82.2462,-82.0077,-81.6488, -81.4057,-81.1669,-80.9275,-80.6854, -80.4464,-80.2087,-79.9685,-79.6116, -79.3706,-79.0118,-78.7727,-78.5344, -78.2982,-78.0596,-77.7021,-77.3453, -76.9876,-76.6342,-76.3979,-76.162, -76.0446,-76.0125,-75.9251,-75.8474, -75.7921,-75.6938,-75.6188,-75.5525, -75.4139,-75.4053,-75.4029,-75.7467, -75.9785,-76.2064,-76.4361,-76.6644, -77.0065,-77.2338,-77.4616,-77.799, -78.1406,-78.3702,-78.5963,-78.8252, -79.1664,-79.3955,-79.7338,-79.9586, -80.1827,-80.4059,-80.6283,-80.851, -81.1818,-81.3996,-81.725,-81.9396, -82.1516,-82.3599,-82.5659,-82.7659, -83.061,-83.2514,-83.4384,-83.6199, -83.7977,-84.1358,-84.4513,-84.8094, -85.121,-85.3328,-85.3797,-85.4474)
FOOTPRINT_POINT_LONGITUDE = (243.476,246.299,249.055,252.619, 255.434,258.5,258.737,260.257,268.262, 273.427,277.703,282.063,283.564,284.933 ,286.793,287.914,289.447,290.375, 291.242,292.051,292.807,293.517,294.192 ,294.808,295.393,295.936,296.442, 297.147,297.603,298.01,298.397,298.776, 299.121,299.442,299.759,300.192,300.475 ,300.868,301.115,301.349,301.566, 301.783,302.091,302.38,302.657,302.907, 303.068,303.224,303.298,303.318,300.766 ,299.014,297.929,296.211,295.044,294.1, 292.337,292.234,292.196,291.814,291.549 ,291.271,290.984,290.685,290.213, 289.883,289.54,288.996,288.42,288.015, 287.592,287.15,286.449,285.955,285.169, 284.613,284.029,283.416,282.772,282.094 ,281.009,280.237,278.997,278.113, 277.182,276.207,275.178,274.103,272.377 ,271.154,269.862,268.508,267.073, 263.988,260.568,255.786,250.413,245.687 ,244.455,243.476)
ORBIT_NUMBER = 6860
ORBITAL_ECCENTRICITY = 0.576
ORBITAL_INCLINATION = 86.77
ORBITAL_SEMIMAJOR_AXIS = 8711.64
PERIAPSIS_ALTITUDE = 312.29
PERIAPSIS_ARGUMENT_ANGLE = 234.22
PERIAPSIS_TIME = 2009-05-07T18:13:08.000Z
SPACECRAFT_ORIENTATION = (0.0,-1.0,0.0)
^MEX_ORIENTATION_DESC = "MEX_ORIENTATION_DESC.TXT"
SPACECRAFT_POINTING_MODE = NADIR
^MEX_POINTING_DESC = "MEX_POINTING_DESC.TXT"
RIGHT_ASCENSION = -1e+32
DECLINATION = -1e+32
OFFSET_ANGLE = -1e+32
SPACECRAFT_SOLAR_DISTANCE = 2.06934e+08
TARGET_NAME = MARS
/* CAMERA DATA ELEMENTS */
DETECTOR_TEMPERATURE = 17.351
FOCAL_PLANE_TEMPERATURE = 8.7872
INST_CMPRS_NAME = "DISCRETE COSINE TRANSFORMATION (DCT)"
INST_CMPRS_RATIO = 9.82805
INST_CMPRS_QUALITY = 0
INST_CMPRS_QUANTZ_TBL_ID = 0
INSTRUMENT_TEMPERATURE = 11.234
LENS_TEMPERATURE = 9.3989
MACROPIXEL_SIZE = 2
MISSING_FRAMES = 0
PIXEL_SUBSAMPLING_FLAG = N
SIGNAL_CHAIN_ID = 3
/* RADIOMETRIC DATA ELEMENTS */
BANDWIDTH = 174.0
CENTER_FILTER_WAVELENGTH = 675.0
RADIANCE_OFFSET = 5.62209
RADIANCE_SCALING_FACTOR = 0.0425668
REFLECTANCE_SCALING_FACTOR = 0.000980437
MEX:REFLECTANCE_OFFSET = 0.129493
/* IMAGE OBJECT DEFINITIONS */
OBJECT = IMAGE
  INTERCHANGE_FORMAT = BINARY
  LINES = 14031
  LINE_SAMPLES = 8592
  SAMPLE_TYPE = UNSIGNED_INTEGER
  SAMPLE_BITS = 8
  BANDS = 1
  BAND_STORAGE_TYPE = BAND_SEQUENTIAL
  MAXIMUM = 255
  MEAN = 202.053
  MINIMUM = 1
  STANDARD_DEVIATION = 38.8598
END_OBJECT = IMAGE
/* MAP OBJECT DEFINITIONS */
OBJECT = IMAGE_MAP_PROJECTION
  ^DATA_SET_MAP_PROJECTION_CATALOG= "DSMAP.CAT"
  A_AXIS_RADIUS = 3396.0
  B_AXIS_RADIUS = 3396.0
  C_AXIS_RADIUS = 3396.0
  CENTER_LATITUDE = 0.0
  CENTER_LONGITUDE = 289.0
  COORDINATE_SYSTEM_NAME = PLANETOGRAPHIC
  COORDINATE_SYSTEM_TYPE = "BODY-FIXED ROTATING"
  EASTERNMOST_LONGITUDE = 303.318
  FIRST_STANDARD_PARALLEL = "N/A"
  LINE_FIRST_PIXEL = 1
  LINE_LAST_PIXEL = 14031
  LINE_PROJECTION_OFFSET = -89352.25
  MAP_PROJECTION_ROTATION = 0.0
  MAP_PROJECTION_TYPE = SINUSOIDAL
  MAP_RESOLUTION = 1185.42760773333
  MAP_SCALE = 0.05
  MAXIMUM_LATITUDE = -75.4029
  MINIMUM_LATITUDE = -87.19
  POSITIVE_LONGITUDE_DIRECTION = EAST
  REFERENCE_LATITUDE = "N/A"
  REFERENCE_LONGITUDE = "N/A"
  SAMPLE_FIRST_PIXEL = 1
  SAMPLE_LAST_PIXEL = 8592
  SAMPLE_PROJECTION_OFFSET = 4357.75
  SECOND_STANDARD_PARALLEL = "N/A"
  WESTERNMOST_LONGITUDE = 243.476
END_OBJECT = IMAGE_MAP_PROJECTION
END
