PDS_VERSION_ID = PDS3
/* FILE DATA ELEMENTS */
RECORD_TYPE = UNDEFINED
/* POINTERS TO DATA OBJECTS */
^IMAGE = ("H6841_0000_IR4.TIF")
/* IDENTIFICATION DATA ELEMENTS */
DATA_SET_ID = "MEX-M-HRSC-4-REFDR-MAPPROJECT-EXT3-V4.0"
DATA_SET_NAME = "MARS EXPRESS HRSC MAP PROJECTED REFDR EXTENSION3 V4.0"
DETECTOR_ID = MEX_HRSC_IR
EVENT_TYPE = "MARS-REGIONAL-MAPPING-Gl-La"
INSTRUMENT_HOST_ID = MEX
INSTRUMENT_HOST_NAME = "MARS EXPRESS"
INSTRUMENT_ID = HRSC
INSTRUMENT_NAME = "HIGH RESOLUTION STEREO CAMERA"
MISSION_NAME = "MARS EXPRESS"
MISSION_PHASE_NAME = ME_Phase_17
PROCESSING_LEVEL_ID = 4
PRODUCT_CREATION_TIME = 2023-02-01T06:41:01.000Z
PRODUCT_ID = "H6841_0000_IR4.TIF"
RELEASE_ID = 0001
REVISION_ID = 0000
/* QUALITY DATA ELEMENTS */
DATA_QUALITY_ID = 1
DATA_QUALITY_DESC = "Data calculated based on original SPICE kernels"
/* TIME DATA ELEMENTS */
SPACECRAFT_CLOCK_START_COUNT = "1/0189328870.09045"
SPACECRAFT_CLOCK_STOP_COUNT = "1/0189329132.29187"
START_TIME = 2009-05-02T07:21:21.124Z
STOP_TIME = 2009-05-02T07:23:09.883Z
/* ORBITAL DATA ELEMENTS */
ASCENDING_NODE_LONGITUDE = 87.21
MAXIMUM_RESOLUTION = 0.0881
FOOTPRINT_POINT_LATITUDE = (-85.5215,-85.6604,-85.783,-86.0107, -86.131,-86.3096,-86.4272,-86.5435, -86.6585,-86.772,-86.9394,-87.0756, -87.089,-87.0686,-86.9112,-86.7846, -86.6051,-86.4168,-86.2189,-86.0662, -85.8547,-85.5809,-85.357,-85.0678, -84.8328,-84.7129,-84.592,-84.4701, -84.2868,-84.0995,-83.911,-83.7848, -83.5919,-83.4626,-83.3326,-83.2029, -83.0055,-82.873,-82.7402,-82.6079, -82.4739,-82.3382,-82.1347,-81.9986, -81.861,-81.7227,-81.5844,-81.4463, -81.2358,-81.1653,-81.156,-81.1009, -81.0283,-80.9799,-80.9285,-80.8605, -80.758,-80.6631,-80.5969,-80.5282, -80.4035,-80.3942,-80.3926,-80.5242, -80.719,-80.9124,-81.0406,-81.2312, -81.3565,-81.4814,-81.6058,-81.7287, -81.8499,-81.9709,-82.0914,-82.2105, -82.3284,-82.4451,-82.5608,-82.7328, -82.8452,-82.956,-83.0667,-83.1764, -83.2839,-83.4941,-83.6994,-83.8975, -84.0426,-84.2779,-84.416,-84.6318, -84.7944,-84.9483,-85.0935,-85.227, -85.3207,-85.4332,-85.46,-85.5215)
FOOTPRINT_POINT_LONGITUDE = (0.342453,1.10695,1.82903,3.30397, 4.16301,5.55867,6.56704,7.64521,8.7988, 10.0362,12.0686,13.9412,14.1383,15.6764 ,19.3763,21.9233,25.0677,27.8501, 30.3786,32.1061,34.2346,36.6287,38.3292 ,40.2641,41.6532,42.3048,42.9312, 43.5339,44.3846,45.1945,45.9529,46.4327 ,47.1313,47.5718,47.9975,48.4029, 48.9909,49.364,49.7235,50.066,50.402, 50.7294,51.1979,51.4977,51.7889,52.0716 ,52.3439,52.6062,52.9897,53.1142, 53.1305,51.7152,50.055,49.0492,48.0556, 46.8299,45.1452,43.7328,42.8075,41.8956 ,40.3299,40.2196,40.179,39.8128,39.2476 ,38.661,38.2554,37.6279,37.1974,36.7537 ,36.296,35.8281,35.3495,34.8555,34.3455 ,33.8213,33.286,32.7345,32.1656,31.2783 ,30.6711,30.0456,29.3974,28.7281,28.044 ,26.6178,25.0966,23.4947,22.2246, 19.9682,18.5225,15.9848,13.8328,11.5523 ,9.13473,6.61636,4.63388,1.90967, 1.21059,0.342453)
ORBIT_NUMBER = 6841
ORBITAL_ECCENTRICITY = 0.576
ORBITAL_INCLINATION = 86.77
ORBITAL_SEMIMAJOR_AXIS = 8704.95
PERIAPSIS_ALTITUDE = 311.1
PERIAPSIS_ARGUMENT_ANGLE = 237.49
PERIAPSIS_TIME = 2009-05-02T07:13:02.000Z
SPACECRAFT_ORIENTATION = (0.0,-1.0,0.0)
^MEX_ORIENTATION_DESC = "MEX_ORIENTATION_DESC.TXT"
SPACECRAFT_POINTING_MODE = NADIR
^MEX_POINTING_DESC = "MEX_POINTING_DESC.TXT"
RIGHT_ASCENSION = -1e+32
DECLINATION = -1e+32
OFFSET_ANGLE = -1e+32
SPACECRAFT_SOLAR_DISTANCE = 2.06773e+08
TARGET_NAME = MARS
/* CAMERA DATA ELEMENTS */
DETECTOR_TEMPERATURE = 17.5549
FOCAL_PLANE_TEMPERATURE = 8.7872
INST_CMPRS_NAME = "DISCRETE COSINE TRANSFORMATION (DCT)"
INST_CMPRS_RATIO = 11.4583
INST_CMPRS_QUALITY = 0
INST_CMPRS_QUANTZ_TBL_ID = 0
INSTRUMENT_TEMPERATURE = 11.4379
LENS_TEMPERATURE = 9.3989
MACROPIXEL_SIZE = 4
MISSING_FRAMES = 0
PIXEL_SUBSAMPLING_FLAG = N
SIGNAL_CHAIN_ID = 2
/* RADIOMETRIC DATA ELEMENTS */
BANDWIDTH = 81.0
CENTER_FILTER_WAVELENGTH = 955.5
RADIANCE_OFFSET = 1.53956
RADIANCE_SCALING_FACTOR = 0.00926088
REFLECTANCE_SCALING_FACTOR = 0.000854221
MEX:REFLECTANCE_OFFSET = 0.142008
/* IMAGE OBJECT DEFINITIONS */
OBJECT = IMAGE
  INTERCHANGE_FORMAT = BINARY
  LINES = 4009
  LINE_SAMPLES = 3328
  SAMPLE_TYPE = UNSIGNED_INTEGER
  SAMPLE_BITS = 8
  BANDS = 1
  BAND_STORAGE_TYPE = BAND_SEQUENTIAL
  MAXIMUM = 255
  MEAN = 189.563
  MINIMUM = 1
  STANDARD_DEVIATION = 55.076
END_OBJECT = IMAGE
/* MAP OBJECT DEFINITIONS */
OBJECT = IMAGE_MAP_PROJECTION
  ^DATA_SET_MAP_PROJECTION_CATALOG= "DSMAP.CAT"
  A_AXIS_RADIUS = 3396.0
  B_AXIS_RADIUS = 3396.0
  C_AXIS_RADIUS = 3396.0
  CENTER_LATITUDE = 0.0
  CENTER_LONGITUDE = 35.0
  COORDINATE_SYSTEM_NAME = PLANETOGRAPHIC
  COORDINATE_SYSTEM_TYPE = "BODY-FIXED ROTATING"
  EASTERNMOST_LONGITUDE = 53.1305
  FIRST_STANDARD_PARALLEL = "N/A"
  LINE_FIRST_PIXEL = 1
  LINE_LAST_PIXEL = 4009
  LINE_PROJECTION_OFFSET = -47611.875
  MAP_PROJECTION_ROTATION = 0.0
  MAP_PROJECTION_TYPE = SINUSOIDAL
  MAP_RESOLUTION = 592.713803866667
  MAP_SCALE = 0.1
  MAXIMUM_LATITUDE = -80.3926
  MINIMUM_LATITUDE = -87.089
  POSITIVE_LONGITUDE_DIRECTION = EAST
  REFERENCE_LATITUDE = "N/A"
  REFERENCE_LONGITUDE = "N/A"
  SAMPLE_FIRST_PIXEL = 1
  SAMPLE_LAST_PIXEL = 3328
  SAMPLE_PROJECTION_OFFSET = 1615.625
  SECOND_STANDARD_PARALLEL = "N/A"
  WESTERNMOST_LONGITUDE = 0.342453
END_OBJECT = IMAGE_MAP_PROJECTION
END
