PDS_VERSION_ID = PDS3
/* FILE DATA ELEMENTS */
RECORD_TYPE = UNDEFINED
/* POINTERS TO DATA OBJECTS */
^IMAGE = ("H6836_0000_P24.TIF")
/* IDENTIFICATION DATA ELEMENTS */
DATA_SET_ID = "MEX-M-HRSC-4-REFDR-MAPPROJECT-EXT2-V4.0"
DATA_SET_NAME = "MARS EXPRESS HRSC MAP PROJECTED REFDR EXTENSION2 V4.0"
DETECTOR_ID = MEX_HRSC_P2
EVENT_TYPE = "MARS-REGIONAL-MAPPING-Im-Gl-La"
INSTRUMENT_HOST_ID = MEX
INSTRUMENT_HOST_NAME = "MARS EXPRESS"
INSTRUMENT_ID = HRSC
INSTRUMENT_NAME = "HIGH RESOLUTION STEREO CAMERA"
MISSION_NAME = "MARS EXPRESS"
MISSION_PHASE_NAME = ME_Phase_17
PROCESSING_LEVEL_ID = 4
PRODUCT_CREATION_TIME = 2023-02-05T17:30:49.000Z
PRODUCT_ID = "H6836_0000_P24.TIF"
RELEASE_ID = 0007
REVISION_ID = 0000
/* QUALITY DATA ELEMENTS */
DATA_QUALITY_ID = 1
DATA_QUALITY_DESC = "Data calculated based on original SPICE kernels"
/* TIME DATA ELEMENTS */
SPACECRAFT_CLOCK_START_COUNT = "1/0189204811.08367"
SPACECRAFT_CLOCK_STOP_COUNT = "1/0189205282.58131"
START_TIME = 2009-04-30T20:55:19.054Z
STOP_TIME = 2009-04-30T21:00:26.254Z
/* ORBITAL DATA ELEMENTS */
ASCENDING_NODE_LONGITUDE = 87.31
MAXIMUM_RESOLUTION = 0.0548
FOOTPRINT_POINT_LATITUDE = (-82.3039,-82.593,-82.7888,-82.9721, -83.1418,-83.2973,-83.438,-83.4463, -83.5178,-83.1751,-82.8265,-82.3522, -81.9903,-81.623,-81.1249,-80.6187, -80.1029,-79.7109,-79.1816,-78.6433, -78.0977,-77.8218,-77.5436,-77.2637, -76.9824,-76.6986,-76.2675,-75.9788, -75.6891,-75.2485,-74.9535,-74.6571, -74.3554,-74.0517,-73.7407,-73.4403, -72.997,-72.695,-72.3946,-72.1022, -71.8074,-71.5099,-71.2196,-70.783, -70.4953,-70.2086,-69.922,-69.7797, -69.7228,-69.6967,-69.6718,-69.6287, -69.5628,-69.5197,-69.4668,-69.3906, -69.3323,-69.2552,-69.248,-69.2461, -69.8037,-70.0841,-70.3661,-70.6487, -70.9325,-71.2179,-71.5044,-71.7918, -72.0801,-72.3697,-72.6606,-72.9523, -73.2431,-73.536,-73.8278,-74.1184, -74.4064,-74.6914,-74.9746,-75.2552, -75.534,-75.8105,-76.0847,-76.3564, -76.6257,-77.1565,-77.5494,-77.9368, -78.4427,-78.9398,-79.3055,-79.9012, -80.2503,-80.5923,-80.9274,-81.2552, -81.6806,-82.192,-82.2908,-82.3039)
FOOTPRINT_POINT_LONGITUDE = (171.988,175.026,177.364,179.816, 182.378,185.054,187.843,188.021,187.988 ,189.327,190.545,192.009,193.001, 193.914,195.023,196.023,196.931,197.558 ,198.329,199.035,199.684,199.989, 200.282,200.564,200.835,201.096,201.47, 201.708,201.939,202.269,202.48,202.685, 202.882,203.072,203.249,203.426,203.681 ,203.837,203.987,204.135,204.276, 204.409,204.54,204.727,204.847,204.962, 205.073,205.127,205.149,203.947,203.044 ,201.743,200.147,199.25,198.257,196.969 ,196.081,194.997,194.899,194.863, 194.556,194.394,194.224,194.049,193.866 ,193.675,193.476,193.269,193.054, 192.828,192.592,192.347,192.098,191.833 ,191.556,191.266,190.967,190.659, 190.339,190.009,189.664,189.307,188.936 ,188.553,188.155,187.314,186.636, 185.918,184.902,183.796,182.904,181.288 ,180.231,179.108,177.907,176.623, 174.764,172.187,171.637,171.988)
ORBIT_NUMBER = 6836
ORBITAL_ECCENTRICITY = 0.576
ORBITAL_INCLINATION = 86.77
ORBITAL_SEMIMAJOR_AXIS = 8705.13
PERIAPSIS_ALTITUDE = 311.04
PERIAPSIS_ARGUMENT_ANGLE = 238.34
PERIAPSIS_TIME = 2009-04-30T20:44:33.000Z
SPACECRAFT_ORIENTATION = (0.0,-1.0,0.0)
^MEX_ORIENTATION_DESC = "MEX_ORIENTATION_DESC.TXT"
SPACECRAFT_POINTING_MODE = ACROSSTRACK
^MEX_POINTING_DESC = "MEX_POINTING_DESC.TXT"
RIGHT_ASCENSION = -1e+32
DECLINATION = -1e+32
OFFSET_ANGLE = 0.5
SPACECRAFT_SOLAR_DISTANCE = 2.06742e+08
TARGET_NAME = MARS
/* CAMERA DATA ELEMENTS */
DETECTOR_TEMPERATURE = 18.7783
FOCAL_PLANE_TEMPERATURE = 8.7872
INST_CMPRS_NAME = "DISCRETE COSINE TRANSFORMATION (DCT)"
INST_CMPRS_RATIO = 7.81979
INST_CMPRS_QUALITY = 0
INST_CMPRS_QUANTZ_TBL_ID = 0
INSTRUMENT_TEMPERATURE = 11.234
LENS_TEMPERATURE = 9.195
MACROPIXEL_SIZE = 2
MISSING_FRAMES = 0
PIXEL_SUBSAMPLING_FLAG = N
SIGNAL_CHAIN_ID = 3
/* RADIOMETRIC DATA ELEMENTS */
BANDWIDTH = 177.0
CENTER_FILTER_WAVELENGTH = 676.5
RADIANCE_OFFSET = 5.54892
RADIANCE_SCALING_FACTOR = 0.0188893
REFLECTANCE_SCALING_FACTOR = 0.000428085
MEX:REFLECTANCE_OFFSET = 0.125754
/* IMAGE OBJECT DEFINITIONS */
OBJECT = IMAGE
  INTERCHANGE_FORMAT = BINARY
  LINES = 16922
  LINE_SAMPLES = 7777
  SAMPLE_TYPE = UNSIGNED_INTEGER
  SAMPLE_BITS = 8
  BANDS = 1
  BAND_STORAGE_TYPE = BAND_SEQUENTIAL
  MAXIMUM = 255
  MEAN = 102.921
  MINIMUM = 1
  STANDARD_DEVIATION = 41.5034
END_OBJECT = IMAGE
/* MAP OBJECT DEFINITIONS */
OBJECT = IMAGE_MAP_PROJECTION
  ^DATA_SET_MAP_PROJECTION_CATALOG= "DSMAP.CAT"
  A_AXIS_RADIUS = 3396.0
  B_AXIS_RADIUS = 3396.0
  C_AXIS_RADIUS = 3396.0
  CENTER_LATITUDE = 0.0
  CENTER_LONGITUDE = 194.0
  COORDINATE_SYSTEM_NAME = PLANETOGRAPHIC
  COORDINATE_SYSTEM_TYPE = "BODY-FIXED ROTATING"
  EASTERNMOST_LONGITUDE = 205.149
  FIRST_STANDARD_PARALLEL = "N/A"
  LINE_FIRST_PIXEL = 1
  LINE_LAST_PIXEL = 16922
  LINE_PROJECTION_OFFSET = -82084.75
  MAP_PROJECTION_ROTATION = 0.0
  MAP_PROJECTION_TYPE = SINUSOIDAL
  MAP_RESOLUTION = 1185.42760773333
  MAP_SCALE = 0.05
  MAXIMUM_LATITUDE = -69.2461
  MINIMUM_LATITUDE = -83.51779999999999
  POSITIVE_LONGITUDE_DIRECTION = EAST
  REFERENCE_LATITUDE = "N/A"
  REFERENCE_LONGITUDE = "N/A"
  SAMPLE_FIRST_PIXEL = 1
  SAMPLE_LAST_PIXEL = 7777
  SAMPLE_PROJECTION_OFFSET = 3475.25
  SECOND_STANDARD_PARALLEL = "N/A"
  WESTERNMOST_LONGITUDE = 171.637
END_OBJECT = IMAGE_MAP_PROJECTION
END
