PDS_VERSION_ID = PDS3
/* FILE DATA ELEMENTS */
RECORD_TYPE = UNDEFINED
/* POINTERS TO DATA OBJECTS */
^IMAGE = ("H6836_0000_ND4.TIF")
/* IDENTIFICATION DATA ELEMENTS */
DATA_SET_ID = "MEX-M-HRSC-4-REFDR-MAPPROJECT-EXT2-V4.0"
DATA_SET_NAME = "MARS EXPRESS HRSC MAP PROJECTED REFDR EXTENSION2 V4.0"
DETECTOR_ID = MEX_HRSC_NADIR
EVENT_TYPE = "MARS-REGIONAL-MAPPING-Im-Gl-La"
INSTRUMENT_HOST_ID = MEX
INSTRUMENT_HOST_NAME = "MARS EXPRESS"
INSTRUMENT_ID = HRSC
INSTRUMENT_NAME = "HIGH RESOLUTION STEREO CAMERA"
MISSION_NAME = "MARS EXPRESS"
MISSION_PHASE_NAME = ME_Phase_17
PROCESSING_LEVEL_ID = 4
PRODUCT_CREATION_TIME = 2023-02-05T17:30:49.000Z
PRODUCT_ID = "H6836_0000_ND4.TIF"
RELEASE_ID = 0007
REVISION_ID = 0000
/* QUALITY DATA ELEMENTS */
DATA_QUALITY_ID = 1
DATA_QUALITY_DESC = "Data calculated based on original SPICE kernels"
/* TIME DATA ELEMENTS */
SPACECRAFT_CLOCK_START_COUNT = "1/0189204811.08367"
SPACECRAFT_CLOCK_STOP_COUNT = "1/0189205282.58131"
START_TIME = 2009-04-30T20:54:32.447Z
STOP_TIME = 2009-04-30T20:59:02.425Z
/* ORBITAL DATA ELEMENTS */
ASCENDING_NODE_LONGITUDE = 87.31
MAXIMUM_RESOLUTION = 0.0247
FOOTPRINT_POINT_LATITUDE = (-82.4034,-82.6836,-82.8746,-83.0538, -83.2005,-83.3655,-83.4986,-83.507, -83.5187,-83.0739,-82.6184,-82.1528, -81.6775,-81.1932,-80.6998,-80.3246, -80.0717,-79.8165,-79.4302,-79.1702, -78.9077,-78.5105,-78.1088,-77.7023, -77.2912,-76.8756,-76.5965,-76.3142, -76.0303,-75.7448,-75.457,-75.1667, -74.8745,-74.5807,-74.2846,-73.9857, -73.6842,-73.3813,-73.0762,-72.7691, -72.4596,-72.1477,-71.8332,-71.5166, -71.1977,-70.8765,-70.5529,-70.0681, -69.9071,-69.7472,-69.6932,-69.6067, -69.5294,-69.4461,-69.391,-69.3322, -69.255,-69.2477,-69.2446,-69.56, -69.8763,-70.1936,-70.5091,-70.8222, -71.1328,-71.4408,-71.7466,-72.0502, -72.3512,-72.6499,-72.9463,-73.2402, -73.5317,-73.8211,-74.1079,-74.3926, -74.6744,-74.954,-75.2318,-75.5071, -75.7796,-76.1845,-76.5842,-76.9786, -77.3673,-77.7505,-78.1284,-78.3775, -78.6238,-78.9883,-79.2284,-79.4656, -80.0472,-80.4994,-80.94,-81.3683, -81.7831,-82.1841,-82.2814,-82.4034)
FOOTPRINT_POINT_LONGITUDE = (172.161,175.003,177.193,179.489, 181.583,184.239,186.683,186.849,187.047 ,188.803,190.36,191.748,192.992,194.112 ,195.124,195.821,196.259,196.678, 197.271,197.645,198.004,198.514,198.994 ,199.446,199.871,200.274,200.529, 200.776,201.014,201.243,201.465,201.679 ,201.886,202.088,202.28,202.468,202.64, 202.814,202.986,203.149,203.31,203.464, 203.612,203.757,203.899,204.036,204.17, 204.361,204.422,204.481,202.852,200.868 ,199.431,198.089,197.287,196.488, 195.514,195.426,195.382,195.21,195.032, 194.844,194.65,194.451,194.247,194.033, 193.814,193.588,193.357,193.113,192.864 ,192.612,192.35,192.078,191.794,191.499 ,191.196,190.882,190.558,190.221, 189.873,189.327,188.752,188.146,187.502 ,186.821,186.104,185.601,185.081, 184.259,183.683,183.083,181.469,180.052 ,178.51,176.827,174.985,172.967,172.437 ,172.161)
ORBIT_NUMBER = 6836
ORBITAL_ECCENTRICITY = 0.576
ORBITAL_INCLINATION = 86.77
ORBITAL_SEMIMAJOR_AXIS = 8705.13
PERIAPSIS_ALTITUDE = 311.04
PERIAPSIS_ARGUMENT_ANGLE = 238.34
PERIAPSIS_TIME = 2009-04-30T20:44:33.000Z
SPACECRAFT_ORIENTATION = (0.0,-1.0,0.0)
^MEX_ORIENTATION_DESC = "MEX_ORIENTATION_DESC.TXT"
SPACECRAFT_POINTING_MODE = ACROSSTRACK
^MEX_POINTING_DESC = "MEX_POINTING_DESC.TXT"
RIGHT_ASCENSION = -1e+32
DECLINATION = -1e+32
OFFSET_ANGLE = 0.5
SPACECRAFT_SOLAR_DISTANCE = 2.06742e+08
TARGET_NAME = MARS
/* CAMERA DATA ELEMENTS */
DETECTOR_TEMPERATURE = 18.1666
FOCAL_PLANE_TEMPERATURE = 8.7872
INST_CMPRS_NAME = "DISCRETE COSINE TRANSFORMATION (DCT)"
INST_CMPRS_RATIO = 7.33229
INST_CMPRS_QUALITY = 0
INST_CMPRS_QUANTZ_TBL_ID = 0
INSTRUMENT_TEMPERATURE = 11.234
LENS_TEMPERATURE = 9.195
MACROPIXEL_SIZE = 1
MISSING_FRAMES = 0
PIXEL_SUBSAMPLING_FLAG = N
SIGNAL_CHAIN_ID = 0
/* RADIOMETRIC DATA ELEMENTS */
BANDWIDTH = 177.0
CENTER_FILTER_WAVELENGTH = 677.5
RADIANCE_OFFSET = 5.35419
RADIANCE_SCALING_FACTOR = 0.0209968
REFLECTANCE_SCALING_FACTOR = 0.000476756
MEX:REFLECTANCE_OFFSET = 0.121573
/* IMAGE OBJECT DEFINITIONS */
OBJECT = IMAGE
  INTERCHANGE_FORMAT = BINARY
  LINES = 33844
  LINE_SAMPLES = 15554
  SAMPLE_TYPE = UNSIGNED_INTEGER
  SAMPLE_BITS = 8
  BANDS = 1
  BAND_STORAGE_TYPE = BAND_SEQUENTIAL
  MAXIMUM = 255
  MEAN = 103.376
  MINIMUM = 1
  STANDARD_DEVIATION = 42.0392
END_OBJECT = IMAGE
/* MAP OBJECT DEFINITIONS */
OBJECT = IMAGE_MAP_PROJECTION
  ^DATA_SET_MAP_PROJECTION_CATALOG= "DSMAP.CAT"
  A_AXIS_RADIUS = 3396.0
  B_AXIS_RADIUS = 3396.0
  C_AXIS_RADIUS = 3396.0
  CENTER_LATITUDE = 0.0
  CENTER_LONGITUDE = 194.0
  COORDINATE_SYSTEM_NAME = PLANETOGRAPHIC
  COORDINATE_SYSTEM_TYPE = "BODY-FIXED ROTATING"
  EASTERNMOST_LONGITUDE = 204.481
  FIRST_STANDARD_PARALLEL = "N/A"
  LINE_FIRST_PIXEL = 1
  LINE_LAST_PIXEL = 33844
  LINE_PROJECTION_OFFSET = -164169.0
  MAP_PROJECTION_ROTATION = 0.0
  MAP_PROJECTION_TYPE = SINUSOIDAL
  MAP_RESOLUTION = 2370.85521546667
  MAP_SCALE = 0.025
  MAXIMUM_LATITUDE = -69.24460000000001
  MINIMUM_LATITUDE = -83.5187
  POSITIVE_LONGITUDE_DIRECTION = EAST
  REFERENCE_LATITUDE = "N/A"
  REFERENCE_LONGITUDE = "N/A"
  SAMPLE_FIRST_PIXEL = 1
  SAMPLE_LAST_PIXEL = 15554
  SAMPLE_PROJECTION_OFFSET = 6951.0
  SECOND_STANDARD_PARALLEL = "N/A"
  WESTERNMOST_LONGITUDE = 172.161
END_OBJECT = IMAGE_MAP_PROJECTION
END
