PDS_VERSION_ID = PDS3
/* FILE DATA ELEMENTS */
RECORD_TYPE = UNDEFINED
/* POINTERS TO DATA OBJECTS */
^IMAGE = ("H6822_0000_BL4.TIF")
/* IDENTIFICATION DATA ELEMENTS */
DATA_SET_ID = "MEX-M-HRSC-4-REFDR-MAPPROJECT-EXT2-V4.0"
DATA_SET_NAME = "MARS EXPRESS HRSC MAP PROJECTED REFDR EXTENSION2 V4.0"
DETECTOR_ID = MEX_HRSC_BLUE
EVENT_TYPE = "MARS-REGIONAL-MAPPING-Gl-La"
INSTRUMENT_HOST_ID = MEX
INSTRUMENT_HOST_NAME = "MARS EXPRESS"
INSTRUMENT_ID = HRSC
INSTRUMENT_NAME = "HIGH RESOLUTION STEREO CAMERA"
MISSION_NAME = "MARS EXPRESS"
MISSION_PHASE_NAME = ME_Phase_17
PROCESSING_LEVEL_ID = 4
PRODUCT_CREATION_TIME = 2023-02-05T17:30:49.000Z
PRODUCT_ID = "H6822_0000_BL4.TIF"
RELEASE_ID = 0007
REVISION_ID = 0000
/* QUALITY DATA ELEMENTS */
DATA_QUALITY_ID = 1
DATA_QUALITY_DESC = "Data calculated based on original SPICE kernels"
/* TIME DATA ELEMENTS */
SPACECRAFT_CLOCK_START_COUNT = "1/0188857218.09060"
SPACECRAFT_CLOCK_STOP_COUNT = "1/0188857559.30557"
START_TIME = 2009-04-26T20:21:18.469Z
STOP_TIME = 2009-04-26T20:24:40.063Z
/* ORBITAL DATA ELEMENTS */
ASCENDING_NODE_LONGITUDE = 87.59
MAXIMUM_RESOLUTION = 0.0425
FOOTPRINT_POINT_LATITUDE = (-85.313,-85.7215,-86.0586,-86.2855, -86.5986,-86.7672,-86.7799,-86.8171, -86.6121,-86.3157,-85.9169,-85.4915, -85.1367,-84.7698,-84.5832,-84.3932, -84.2004,-83.9074,-83.7094,-83.5109, -83.3089,-83.0052,-82.6953,-82.4873, -82.2763,-81.9583,-81.7434,-81.5282, -81.3104,-80.9838,-80.7601,-80.5379, -80.313,-80.0877,-79.8604,-79.632, -79.4017,-79.1703,-78.9371,-78.7027, -78.4664,-78.2299,-77.9899,-77.6285, -77.386,-77.1413,-76.8961,-76.6482, -76.5244,-76.5069,-76.4497,-76.3535, -76.2766,-76.1783,-76.122,-76.0277, -75.963,-75.9556,-75.9538,-76.194, -76.5516,-76.7885,-77.0226,-77.2556, -77.4866,-77.8298,-78.0569,-78.2813, -78.5049,-78.7258,-78.9456,-79.1629, -79.3791,-79.5926,-79.8054,-80.0147, -80.3266,-80.5315,-80.8358,-81.0358, -81.2337,-81.4288,-81.6228,-81.9073, -82.0953,-82.2792,-82.4617,-82.7294, -82.9048,-83.1616,-83.3291,-83.4939, -83.8115,-84.2593,-84.4682,-84.7932, -85.0288,-85.2408,-85.2896,-85.313)
FOOTPRINT_POINT_LONGITUDE = (121.238,124.233,127.263,129.685, 133.724,136.348,136.561,136.742,140.444 ,144.769,149.283,153.0,155.529,157.735, 158.723,159.657,160.526,161.73,162.479, 163.182,163.852,164.789,165.653,166.184 ,166.695,167.407,167.861,168.289, 168.701,169.289,169.648,169.996,170.333 ,170.655,170.965,171.261,171.547, 171.821,172.086,172.339,172.585,172.823 ,173.051,173.377,173.585,173.788, 173.983,174.172,174.264,174.276,172.613 ,170.349,168.828,167.123,166.229, 164.854,163.979,163.882,163.847,163.562 ,163.12,162.812,162.496,162.168,161.829 ,161.299,160.928,160.546,160.149, 159.739,159.312,158.871,158.413,157.938 ,157.443,156.933,156.125,155.561, 154.652,154.027,153.375,152.697,151.994 ,150.889,150.101,149.287,148.427, 147.069,146.106,144.555,143.484,142.366 ,139.979,135.918,133.668,129.56,125.954 ,122.038,121.009,121.238)
ORBIT_NUMBER = 6822
ORBITAL_ECCENTRICITY = 0.576
ORBITAL_INCLINATION = 86.76
ORBITAL_SEMIMAJOR_AXIS = 8700.87
PERIAPSIS_ALTITUDE = 311.62
PERIAPSIS_ARGUMENT_ANGLE = 240.73
PERIAPSIS_TIME = 2009-04-26T20:12:55.000Z
SPACECRAFT_ORIENTATION = (0.0,-1.0,0.0)
^MEX_ORIENTATION_DESC = "MEX_ORIENTATION_DESC.TXT"
SPACECRAFT_POINTING_MODE = NADIR
^MEX_POINTING_DESC = "MEX_POINTING_DESC.TXT"
RIGHT_ASCENSION = -1e+32
DECLINATION = -1e+32
OFFSET_ANGLE = -1e+32
SPACECRAFT_SOLAR_DISTANCE = 2.06677e+08
TARGET_NAME = MARS
/* CAMERA DATA ELEMENTS */
DETECTOR_TEMPERATURE = 18.1666
FOCAL_PLANE_TEMPERATURE = 8.7872
INST_CMPRS_NAME = "DISCRETE COSINE TRANSFORMATION (DCT)"
INST_CMPRS_RATIO = 5.11153
INST_CMPRS_QUALITY = 0
INST_CMPRS_QUANTZ_TBL_ID = 0
INSTRUMENT_TEMPERATURE = 11.234
LENS_TEMPERATURE = 9.195
MACROPIXEL_SIZE = 2
MISSING_FRAMES = 0
PIXEL_SUBSAMPLING_FLAG = N
SIGNAL_CHAIN_ID = 2
/* RADIOMETRIC DATA ELEMENTS */
BANDWIDTH = 76.0
CENTER_FILTER_WAVELENGTH = 444.0
RADIANCE_OFFSET = 0.665826
RADIANCE_SCALING_FACTOR = 0.00437252
REFLECTANCE_SCALING_FACTOR = 0.000191899
MEX:REFLECTANCE_OFFSET = 0.0292214
/* IMAGE OBJECT DEFINITIONS */
OBJECT = IMAGE
  INTERCHANGE_FORMAT = BINARY
  LINES = 12862
  LINE_SAMPLES = 7892
  SAMPLE_TYPE = UNSIGNED_INTEGER
  SAMPLE_BITS = 8
  BANDS = 1
  BAND_STORAGE_TYPE = BAND_SEQUENTIAL
  MAXIMUM = 255
  MEAN = 94.4152
  MINIMUM = 1
  STANDARD_DEVIATION = 57.574
END_OBJECT = IMAGE
/* MAP OBJECT DEFINITIONS */
OBJECT = IMAGE_MAP_PROJECTION
  ^DATA_SET_MAP_PROJECTION_CATALOG= "DSMAP.CAT"
  A_AXIS_RADIUS = 3396.0
  B_AXIS_RADIUS = 3396.0
  C_AXIS_RADIUS = 3396.0
  CENTER_LATITUDE = 0.0
  CENTER_LONGITUDE = 159.0
  COORDINATE_SYSTEM_NAME = PLANETOGRAPHIC
  COORDINATE_SYSTEM_TYPE = "BODY-FIXED ROTATING"
  EASTERNMOST_LONGITUDE = 174.276
  FIRST_STANDARD_PARALLEL = "N/A"
  LINE_FIRST_PIXEL = 1
  LINE_LAST_PIXEL = 12862
  LINE_PROJECTION_OFFSET = -90054.75
  MAP_PROJECTION_ROTATION = 0.0
  MAP_PROJECTION_TYPE = SINUSOIDAL
  MAP_RESOLUTION = 1185.42760773333
  MAP_SCALE = 0.05
  MAXIMUM_LATITUDE = -75.9538
  MINIMUM_LATITUDE = -86.8171
  POSITIVE_LONGITUDE_DIRECTION = EAST
  REFERENCE_LATITUDE = "N/A"
  REFERENCE_LONGITUDE = "N/A"
  SAMPLE_FIRST_PIXEL = 1
  SAMPLE_LAST_PIXEL = 7892
  SAMPLE_PROJECTION_OFFSET = 3693.25
  SECOND_STANDARD_PARALLEL = "N/A"
  WESTERNMOST_LONGITUDE = 121.009
END_OBJECT = IMAGE_MAP_PROJECTION
END
