PDS_VERSION_ID = PDS3
/* FILE DATA ELEMENTS */
RECORD_TYPE = UNDEFINED
/* POINTERS TO DATA OBJECTS */
^IMAGE = ("H6819_0000_S14.TIF")
/* IDENTIFICATION DATA ELEMENTS */
DATA_SET_ID = "MEX-M-HRSC-4-REFDR-MAPPROJECT-EXT2-V4.0"
DATA_SET_NAME = "MARS EXPRESS HRSC MAP PROJECTED REFDR EXTENSION2 V4.0"
DETECTOR_ID = MEX_HRSC_S1
EVENT_TYPE = "MARS-REGIONAL-MAPPING-Gl"
INSTRUMENT_HOST_ID = MEX
INSTRUMENT_HOST_NAME = "MARS EXPRESS"
INSTRUMENT_ID = HRSC
INSTRUMENT_NAME = "HIGH RESOLUTION STEREO CAMERA"
MISSION_NAME = "MARS EXPRESS"
MISSION_PHASE_NAME = ME_Phase_17
PROCESSING_LEVEL_ID = 4
PRODUCT_CREATION_TIME = 2023-02-05T17:30:49.000Z
PRODUCT_ID = "H6819_0000_S14.TIF"
RELEASE_ID = 0007
REVISION_ID = 0000
/* QUALITY DATA ELEMENTS */
DATA_QUALITY_ID = 1
DATA_QUALITY_DESC = "Data calculated based on original SPICE kernels"
/* TIME DATA ELEMENTS */
SPACECRAFT_CLOCK_START_COUNT = "1/0188782569.07287"
SPACECRAFT_CLOCK_STOP_COUNT = "1/0188783048.57179"
START_TIME = 2009-04-25T23:36:11.533Z
STOP_TIME = 2009-04-25T23:41:39.297Z
/* ORBITAL DATA ELEMENTS */
ASCENDING_NODE_LONGITUDE = 87.65
MAXIMUM_RESOLUTION = 0.0316
FOOTPRINT_POINT_LATITUDE = (-79.5751,-79.7983,-79.9468,-79.9498, -80.0551,-80.4087,-80.7609,-81.2861, -81.6348,-81.9835,-82.3313,-82.6762, -83.3574,-84.0238,-84.3583,-84.852, -85.345,-85.8223,-86.2903,-86.7151, -86.9774,-87.1935,-87.4498,-87.5778, -87.5776,-87.4454,-87.2767,-87.0528, -86.7849,-86.4799,-86.1473,-85.7885, -85.4078,-84.8109,-84.3957,-83.9754, -83.5404,-83.0946,-82.4039,-81.9377, -81.4633,-80.9782,-80.4879,-79.9835, -79.483,-78.9684,-78.4421,-78.1779, -78.1179,-77.9559,-77.767,-77.568, -77.561,-77.5593,-78.067,-78.5658, -79.0564,-79.539,-80.0135,-80.4719, -80.9314,-81.3705,-81.794,-82.4215, -82.8235,-83.4006,-83.7639,-84.1067, -84.5845,-84.8749,-85.1368,-85.3711, -85.5712,-85.7359,-85.86,-85.9439, -85.9841,-85.9642,-85.9,-85.7973, -85.6621,-85.4954,-85.3034,-84.9696, -84.7242,-84.4687,-84.2026,-83.7867, -83.4978,-83.2027,-82.6031,-81.9831, -81.665,-81.3443,-81.0201,-80.5286, -80.1967,-79.8622,-79.6943,-79.5751)
FOOTPRINT_POINT_LONGITUDE = (327.899,324.262,321.29,321.223,321.171 ,321.69,322.249,323.173,323.854,324.595 ,325.403,326.287,328.329,330.836, 332.345,334.975,338.235,342.296,347.592 ,354.287,359.912,366.303,378.132, 392.029,401.849,416.058,424.524,431.932 ,438.253,443.6,448.084,451.897,455.175, 459.144,461.334,463.194,464.851,466.317 ,468.226,469.315,470.295,471.187, 471.987,472.737,473.388,474.002,474.576 ,474.841,474.9,471.184,467.955,465.194, 465.103,465.07,464.277,463.422,462.496, 461.49,460.399,459.215,457.912,456.494, 454.951,452.305,450.321,446.935,444.367 ,441.539,436.69,433.003,428.968,424.504 ,419.676,414.452,408.958,403.172, 397.324,388.541,382.901,377.508,372.529 ,367.862,363.6,357.87,354.519,351.556, 348.895,345.357,343.256,341.355,338.067 ,335.297,334.061,332.925,331.872, 330.434,329.553,328.731,328.341, 327.899)
ORBIT_NUMBER = 6819
ORBITAL_ECCENTRICITY = 0.576
ORBITAL_INCLINATION = 86.78
ORBITAL_SEMIMAJOR_AXIS = 8697.08
PERIAPSIS_ALTITUDE = 310.97
PERIAPSIS_ARGUMENT_ANGLE = 241.25
PERIAPSIS_TIME = 2009-04-25T23:31:52.000Z
SPACECRAFT_ORIENTATION = (0.0,-1.0,0.0)
^MEX_ORIENTATION_DESC = "MEX_ORIENTATION_DESC.TXT"
SPACECRAFT_POINTING_MODE = NADIR
^MEX_POINTING_DESC = "MEX_POINTING_DESC.TXT"
RIGHT_ASCENSION = -1e+32
DECLINATION = -1e+32
OFFSET_ANGLE = -1e+32
SPACECRAFT_SOLAR_DISTANCE = 2.06667e+08
TARGET_NAME = MARS
/* CAMERA DATA ELEMENTS */
DETECTOR_TEMPERATURE = 17.351
FOCAL_PLANE_TEMPERATURE = 8.1755
INST_CMPRS_NAME = "DISCRETE COSINE TRANSFORMATION (DCT)"
INST_CMPRS_RATIO = 8.33002
INST_CMPRS_QUALITY = 0
INST_CMPRS_QUANTZ_TBL_ID = 0
INSTRUMENT_TEMPERATURE = 10.0106
LENS_TEMPERATURE = 8.7872
MACROPIXEL_SIZE = 2
PIXEL_SUBSAMPLING_FLAG = N
SIGNAL_CHAIN_ID = 1
/* RADIOMETRIC DATA ELEMENTS */
BANDWIDTH = 180.0
CENTER_FILTER_WAVELENGTH = 677.0
RADIANCE_OFFSET = 5.26437
RADIANCE_SCALING_FACTOR = 0.0433168
REFLECTANCE_SCALING_FACTOR = 0.00096526
MEX:REFLECTANCE_OFFSET = 0.11731
/* IMAGE OBJECT DEFINITIONS */
OBJECT = IMAGE
  INTERCHANGE_FORMAT = BINARY
  LINES = 33107
  LINE_SAMPLES = 43622
  SAMPLE_TYPE = UNSIGNED_INTEGER
  SAMPLE_BITS = 8
  BANDS = 1
  BAND_STORAGE_TYPE = BAND_SEQUENTIAL
  MAXIMUM = 255
  MEAN = 118.489
  MINIMUM = 1
  STANDARD_DEVIATION = 55.546
END_OBJECT = IMAGE
/* MAP OBJECT DEFINITIONS */
OBJECT = IMAGE_MAP_PROJECTION
  ^DATA_SET_MAP_PROJECTION_CATALOG= "DSMAP.CAT"
  A_AXIS_RADIUS = 3396.0
  B_AXIS_RADIUS = 3396.0
  C_AXIS_RADIUS = 3396.0
  CENTER_LATITUDE = -90.0
  CENTER_LONGITUDE = 0.0
  COORDINATE_SYSTEM_NAME = PLANETOGRAPHIC
  COORDINATE_SYSTEM_TYPE = "BODY-FIXED ROTATING"
  EASTERNMOST_LONGITUDE = 114.9
  FIRST_STANDARD_PARALLEL = "N/A"
  LINE_FIRST_PIXEL = 1
  LINE_LAST_PIXEL = 33107
  LINE_PROJECTION_OFFSET = 20921.25
  MAP_PROJECTION_ROTATION = 0.0
  MAP_PROJECTION_TYPE = STEREOGRAPHIC
  MAP_RESOLUTION = 2370.85521546667
  MAP_SCALE = 0.025
  MAXIMUM_LATITUDE = -77.55929999999999
  MINIMUM_LATITUDE = -87.5778
  POSITIVE_LONGITUDE_DIRECTION = EAST
  REFERENCE_LATITUDE = "N/A"
  REFERENCE_LONGITUDE = "N/A"
  SAMPLE_FIRST_PIXEL = 1
  SAMPLE_LAST_PIXEL = 43622
  SAMPLE_PROJECTION_OFFSET = 14781.25
  SECOND_STANDARD_PARALLEL = "N/A"
  WESTERNMOST_LONGITUDE = -38.829
END_OBJECT = IMAGE_MAP_PROJECTION
END
