PDS_VERSION_ID = PDS3
/* FILE DATA ELEMENTS */
RECORD_TYPE = UNDEFINED
/* POINTERS TO DATA OBJECTS */
^IMAGE = ("H6815_0000_P24.TIF")
/* IDENTIFICATION DATA ELEMENTS */
DATA_SET_ID = "MEX-M-HRSC-4-REFDR-MAPPROJECT-EXT2-V4.0"
DATA_SET_NAME = "MARS EXPRESS HRSC MAP PROJECTED REFDR EXTENSION2 V4.0"
DETECTOR_ID = MEX_HRSC_P2
EVENT_TYPE = "MARS-REGIONAL-MAPPING-Gl-La"
INSTRUMENT_HOST_ID = MEX
INSTRUMENT_HOST_NAME = "MARS EXPRESS"
INSTRUMENT_ID = HRSC
INSTRUMENT_NAME = "HIGH RESOLUTION STEREO CAMERA"
MISSION_NAME = "MARS EXPRESS"
MISSION_PHASE_NAME = ME_Phase_17
PROCESSING_LEVEL_ID = 4
PRODUCT_CREATION_TIME = 2023-02-05T17:30:49.000Z
PRODUCT_ID = "H6815_0000_P24.TIF"
RELEASE_ID = 0007
REVISION_ID = 0000
/* QUALITY DATA ELEMENTS */
DATA_QUALITY_ID = 1
DATA_QUALITY_DESC = "Data calculated based on original SPICE kernels"
/* TIME DATA ELEMENTS */
SPACECRAFT_CLOCK_START_COUNT = "1/0188683486.09044"
SPACECRAFT_CLOCK_STOP_COUNT = "1/0188683896.08302"
START_TIME = 2009-04-24T20:06:17.729Z
STOP_TIME = 2009-04-24T20:10:53.486Z
/* ORBITAL DATA ELEMENTS */
ASCENDING_NODE_LONGITUDE = 87.72
MAXIMUM_RESOLUTION = 0.0474
FOOTPRINT_POINT_LATITUDE = (-83.7426,-83.9278,-84.2294,-84.5439, -84.6948,-84.8247,-84.8329,-84.9096, -84.4777,-84.0395,-83.5818,-83.1144, -82.6395,-82.2784,-81.7924,-81.2963, -80.7865,-80.3861,-79.9978,-79.7369, -79.4732,-79.2086,-78.9411,-78.6719, -78.4015,-78.1282,-77.8531,-77.5767, -77.2982,-77.0179,-76.7358,-76.4517, -76.1655,-75.8758,-75.5853,-75.2931, -74.9996,-74.7033,-74.4041,-74.106, -73.8095,-73.5161,-73.0759,-72.6374, -72.345,-72.0552,-71.7672,-71.6241, -71.6041,-71.5705,-71.5346,-71.48, -71.4168,-71.3761,-71.3219,-71.2337, -71.1799,-71.1738,-71.1723,-71.4543, -71.7374,-72.021,-72.3035,-72.5896, -72.8771,-73.1653,-73.4523,-73.7414, -74.0326,-74.4685,-74.7528,-75.044, -75.3221,-75.5991,-75.8816,-76.1539, -76.4263,-76.6985,-76.9678,-77.2368, -77.5012,-77.7635,-78.0231,-78.2825, -78.5372,-78.7881,-79.2869,-79.6554, -79.9137,-80.2737,-80.7453,-81.3117, -81.7565,-82.0823,-82.3978,-82.9063, -83.2976,-83.6715,-83.7617,-83.7426)
FOOTPRINT_POINT_LONGITUDE = (126.657,128.686,132.485,137.354, 140.173,142.963,143.153,143.197,145.482 ,147.452,149.161,150.655,151.972, 152.862,153.939,154.903,155.764,156.383 ,156.934,157.281,157.613,157.929, 158.232,158.523,158.8,159.068,159.324, 159.57,159.807,160.035,160.255,160.466, 160.671,160.866,161.055,161.238,161.415 ,161.587,161.752,161.911,162.064, 162.213,162.423,162.619,162.742,162.862 ,162.979,163.036,163.043,161.731, 160.609,159.123,157.739,156.911,155.905 ,154.45,153.634,153.543,153.51,153.344, 153.171,152.992,152.811,152.615,152.41, 152.196,151.979,151.749,151.505,151.116 ,150.855,150.555,150.281,149.993, 149.668,149.359,149.029,148.681,148.32, 147.937,147.551,147.147,146.729,146.285 ,145.833,145.369,144.363,143.544,142.93 ,142.009,140.669,138.87,137.229,135.884 ,134.47,131.848,129.466,126.82,126.117, 126.657)
ORBIT_NUMBER = 6815
ORBITAL_ECCENTRICITY = 0.576
ORBITAL_INCLINATION = 86.76
ORBITAL_SEMIMAJOR_AXIS = 8698.54
PERIAPSIS_ALTITUDE = 311.76
PERIAPSIS_ARGUMENT_ANGLE = 241.93
PERIAPSIS_TIME = 2009-04-24T19:57:05.000Z
SPACECRAFT_ORIENTATION = (0.0,-1.0,0.0)
^MEX_ORIENTATION_DESC = "MEX_ORIENTATION_DESC.TXT"
SPACECRAFT_POINTING_MODE = NADIR
^MEX_POINTING_DESC = "MEX_POINTING_DESC.TXT"
RIGHT_ASCENSION = -1e+32
DECLINATION = -1e+32
OFFSET_ANGLE = -1e+32
SPACECRAFT_SOLAR_DISTANCE = 2.06657e+08
TARGET_NAME = MARS
/* CAMERA DATA ELEMENTS */
DETECTOR_TEMPERATURE = 18.5744
FOCAL_PLANE_TEMPERATURE = 8.3794
INST_CMPRS_NAME = "DISCRETE COSINE TRANSFORMATION (DCT)"
INST_CMPRS_RATIO = 6.72859
INST_CMPRS_QUALITY = 0
INST_CMPRS_QUANTZ_TBL_ID = 0
INSTRUMENT_TEMPERATURE = 11.0301
LENS_TEMPERATURE = 8.5833
MACROPIXEL_SIZE = 2
MISSING_FRAMES = 3
PIXEL_SUBSAMPLING_FLAG = N
SIGNAL_CHAIN_ID = 3
/* RADIOMETRIC DATA ELEMENTS */
BANDWIDTH = 177.0
CENTER_FILTER_WAVELENGTH = 676.5
RADIANCE_OFFSET = 4.70333
RADIANCE_SCALING_FACTOR = 0.0292327
REFLECTANCE_SCALING_FACTOR = 0.000661953
MEX:REFLECTANCE_OFFSET = 0.106504
/* IMAGE OBJECT DEFINITIONS */
OBJECT = IMAGE
  INTERCHANGE_FORMAT = BINARY
  LINES = 16253
  LINE_SAMPLES = 7202
  SAMPLE_TYPE = UNSIGNED_INTEGER
  SAMPLE_BITS = 8
  BANDS = 1
  BAND_STORAGE_TYPE = BAND_SEQUENTIAL
  MAXIMUM = 255
  MEAN = 83.9334
  MINIMUM = 1
  STANDARD_DEVIATION = 34.4335
END_OBJECT = IMAGE
/* MAP OBJECT DEFINITIONS */
OBJECT = IMAGE_MAP_PROJECTION
  ^DATA_SET_MAP_PROJECTION_CATALOG= "DSMAP.CAT"
  A_AXIS_RADIUS = 3396.0
  B_AXIS_RADIUS = 3396.0
  C_AXIS_RADIUS = 3396.0
  CENTER_LATITUDE = 0.0
  CENTER_LONGITUDE = 152.0
  COORDINATE_SYSTEM_NAME = PLANETOGRAPHIC
  COORDINATE_SYSTEM_TYPE = "BODY-FIXED ROTATING"
  EASTERNMOST_LONGITUDE = 163.043
  FIRST_STANDARD_PARALLEL = "N/A"
  LINE_FIRST_PIXEL = 1
  LINE_LAST_PIXEL = 16253
  LINE_PROJECTION_OFFSET = -84411.25
  MAP_PROJECTION_ROTATION = 0.0
  MAP_PROJECTION_TYPE = SINUSOIDAL
  MAP_RESOLUTION = 1185.42760773333
  MAP_SCALE = 0.05
  MAXIMUM_LATITUDE = -71.17230000000001
  MINIMUM_LATITUDE = -84.9096
  POSITIVE_LONGITUDE_DIRECTION = EAST
  REFERENCE_LATITUDE = "N/A"
  REFERENCE_LONGITUDE = "N/A"
  SAMPLE_FIRST_PIXEL = 1
  SAMPLE_LAST_PIXEL = 7202
  SAMPLE_PROJECTION_OFFSET = 3280.75
  SECOND_STANDARD_PARALLEL = "N/A"
  WESTERNMOST_LONGITUDE = 126.117
END_OBJECT = IMAGE_MAP_PROJECTION
END
