PDS_VERSION_ID = PDS3
/* FILE DATA ELEMENTS */
RECORD_TYPE = UNDEFINED
/* POINTERS TO DATA OBJECTS */
^IMAGE = ("H6813_0000_ND4.TIF")
/* IDENTIFICATION DATA ELEMENTS */
DATA_SET_ID = "MEX-M-HRSC-4-REFDR-MAPPROJECT-EXT2-V4.0"
DATA_SET_NAME = "MARS EXPRESS HRSC MAP PROJECTED REFDR EXTENSION2 V4.0"
DETECTOR_ID = MEX_HRSC_NADIR
EVENT_TYPE = "MARS-REGIONAL-MAPPING-Gl-Eo"
INSTRUMENT_HOST_ID = MEX
INSTRUMENT_HOST_NAME = "MARS EXPRESS"
INSTRUMENT_ID = HRSC
INSTRUMENT_NAME = "HIGH RESOLUTION STEREO CAMERA"
MISSION_NAME = "MARS EXPRESS"
MISSION_PHASE_NAME = ME_Phase_17
PROCESSING_LEVEL_ID = 4
PRODUCT_CREATION_TIME = 2023-02-05T17:30:49.000Z
PRODUCT_ID = "H6813_0000_ND4.TIF"
RELEASE_ID = 0007
REVISION_ID = 0000
/* QUALITY DATA ELEMENTS */
DATA_QUALITY_ID = 1
DATA_QUALITY_DESC = "Data calculated based on original SPICE kernels"
/* TIME DATA ELEMENTS */
SPACECRAFT_CLOCK_START_COUNT = "1/0188633894.09033"
SPACECRAFT_CLOCK_STOP_COUNT = "1/0188634188.07737"
START_TIME = 2009-04-24T06:19:12.326Z
STOP_TIME = 2009-04-24T06:21:31.282Z
/* ORBITAL DATA ELEMENTS */
ASCENDING_NODE_LONGITUDE = 87.76
MAXIMUM_RESOLUTION = 0.0236
FOOTPRINT_POINT_LATITUDE = (-80.7744,-80.8619,-80.9864,-81.0495, -81.1615,-81.2381,-81.2908,-81.3591, -81.4171,-81.4811,-81.4862,-81.4987, -81.0902,-80.8157,-80.537,-80.2579, -80.0454,-79.7619,-79.5462,-79.2585, -79.0404,-78.7485,-78.5268,-78.2314, -78.0815,-77.9309,-77.7811,-77.6297, -77.4779,-77.3262,-77.0964,-76.9426, -76.7891,-76.6336,-76.4003,-76.2437, -76.0863,-75.929,-75.7703,-75.611, -75.452,-75.2912,-75.1302,-74.9695, -74.807,-74.5631,-74.3169,-74.0704, -73.9873,-73.975,-73.9526,-73.9211, -73.8932,-73.851,-73.8175,-73.7768, -73.7432,-73.6704,-73.6083,-73.5666, -73.5229,-73.5166,-73.5138,-73.6757, -73.9166,-74.0772,-74.3154,-74.474, -74.6309,-74.7879,-74.9449,-75.0998, -75.2549,-75.4096,-75.5627,-75.7157, -75.8682,-76.0192,-76.1704,-76.395, -76.544,-76.7668,-76.9137,-77.0605, -77.207,-77.4965,-77.6411,-77.926, -78.1392,-78.4194,-78.6286,-78.9727, -79.2451,-79.5824,-79.847,-80.1108, -80.3696,-80.6899,-80.7531,-80.7744)
FOOTPRINT_POINT_LONGITUDE = (343.117,344.233,345.944,346.876, 348.657,349.99,350.972,352.344,353.611, 355.155,355.284,355.547,356.305,356.776 ,357.224,357.647,357.95,358.335,358.614 ,358.968,359.223,359.547,359.78,360.087 ,360.233,360.363,360.503,360.639, 360.774,360.905,361.096,361.22,361.34, 361.459,361.631,361.743,361.855,361.962 ,362.068,362.172,362.273,362.373,362.47 ,362.566,362.66,362.796,362.932,363.062 ,363.105,363.112,362.387,361.479, 360.757,359.769,359.054,358.253,357.633 ,356.398,355.437,354.828,354.222, 354.136,354.093,353.962,353.764,353.628 ,353.421,353.277,353.133,352.986, 352.837,352.682,352.526,352.366,352.204 ,352.037,351.869,351.697,351.52,351.252 ,351.065,350.779,350.585,350.385,350.18 ,349.762,349.544,349.098,348.75,348.268 ,347.892,347.24,346.688,345.963,345.351 ,344.708,344.036,343.143,342.959, 343.117)
ORBIT_NUMBER = 6813
ORBITAL_ECCENTRICITY = 0.575
ORBITAL_INCLINATION = 86.77
ORBITAL_SEMIMAJOR_AXIS = 8696.82
PERIAPSIS_ALTITUDE = 311.26
PERIAPSIS_ARGUMENT_ANGLE = 242.26
PERIAPSIS_TIME = 2009-04-24T06:09:41.000Z
SPACECRAFT_ORIENTATION = (0.0,-1.0,0.0)
^MEX_ORIENTATION_DESC = "MEX_ORIENTATION_DESC.TXT"
SPACECRAFT_POINTING_MODE = NADIR
^MEX_POINTING_DESC = "MEX_POINTING_DESC.TXT"
RIGHT_ASCENSION = -1e+32
DECLINATION = -1e+32
OFFSET_ANGLE = -1e+32
SPACECRAFT_SOLAR_DISTANCE = 2.06654e+08
TARGET_NAME = MARS
/* CAMERA DATA ELEMENTS */
DETECTOR_TEMPERATURE = 18.3705
FOCAL_PLANE_TEMPERATURE = 8.1755
INST_CMPRS_NAME = "DISCRETE COSINE TRANSFORMATION (DCT)"
INST_CMPRS_RATIO = 19.7284
INST_CMPRS_QUALITY = 0
INST_CMPRS_QUANTZ_TBL_ID = 0
INSTRUMENT_TEMPERATURE = 9.8067
LENS_TEMPERATURE = 8.5833
MACROPIXEL_SIZE = 1
MISSING_FRAMES = 0
PIXEL_SUBSAMPLING_FLAG = N
SIGNAL_CHAIN_ID = 0
/* RADIOMETRIC DATA ELEMENTS */
BANDWIDTH = 177.0
CENTER_FILTER_WAVELENGTH = 677.5
RADIANCE_OFFSET = 7.88889
RADIANCE_SCALING_FACTOR = 0.0446204
REFLECTANCE_SCALING_FACTOR = 0.00101229
MEX:REFLECTANCE_OFFSET = 0.178973
/* IMAGE OBJECT DEFINITIONS */
OBJECT = IMAGE
  INTERCHANGE_FORMAT = BINARY
  LINES = 18933
  LINE_SAMPLES = 9903
  SAMPLE_TYPE = UNSIGNED_INTEGER
  SAMPLE_BITS = 8
  BANDS = 1
  BAND_STORAGE_TYPE = BAND_SEQUENTIAL
  MAXIMUM = 255
  MEAN = 191.27
  MINIMUM = 1
  STANDARD_DEVIATION = 39.8476
END_OBJECT = IMAGE
/* MAP OBJECT DEFINITIONS */
OBJECT = IMAGE_MAP_PROJECTION
  ^DATA_SET_MAP_PROJECTION_CATALOG= "DSMAP.CAT"
  A_AXIS_RADIUS = 3396.0
  B_AXIS_RADIUS = 3396.0
  C_AXIS_RADIUS = 3396.0
  CENTER_LATITUDE = 0.0
  CENTER_LONGITUDE = 355.0
  COORDINATE_SYSTEM_NAME = PLANETOGRAPHIC
  COORDINATE_SYSTEM_TYPE = "BODY-FIXED ROTATING"
  EASTERNMOST_LONGITUDE = 3.112
  FIRST_STANDARD_PARALLEL = "N/A"
  LINE_FIRST_PIXEL = 1
  LINE_LAST_PIXEL = 18933
  LINE_PROJECTION_OFFSET = -174291.0
  MAP_PROJECTION_ROTATION = 0.0
  MAP_PROJECTION_TYPE = SINUSOIDAL
  MAP_RESOLUTION = 2370.85521546667
  MAP_SCALE = 0.025
  MAXIMUM_LATITUDE = -73.5138
  MINIMUM_LATITUDE = -81.4987
  POSITIVE_LONGITUDE_DIRECTION = EAST
  REFERENCE_LATITUDE = "N/A"
  REFERENCE_LONGITUDE = "N/A"
  SAMPLE_FIRST_PIXEL = 1
  SAMPLE_LAST_PIXEL = 9903
  SAMPLE_PROJECTION_OFFSET = 4593.0
  SECOND_STANDARD_PARALLEL = "N/A"
  WESTERNMOST_LONGITUDE = -17.041
END_OBJECT = IMAGE_MAP_PROJECTION
END
