PDS_VERSION_ID = PDS3
/* FILE DATA ELEMENTS */
RECORD_TYPE = UNDEFINED
/* POINTERS TO DATA OBJECTS */
^IMAGE = ("H6795_0000_P14.TIF")
/* IDENTIFICATION DATA ELEMENTS */
DATA_SET_ID = "MEX-M-HRSC-4-REFDR-MAPPROJECT-EXT2-V4.0"
DATA_SET_NAME = "MARS EXPRESS HRSC MAP PROJECTED REFDR EXTENSION2 V4.0"
DETECTOR_ID = MEX_HRSC_P1
EVENT_TYPE = "MARS-REGIONAL-MAPPING-Gl-La"
INSTRUMENT_HOST_ID = MEX
INSTRUMENT_HOST_NAME = "MARS EXPRESS"
INSTRUMENT_ID = HRSC
INSTRUMENT_NAME = "HIGH RESOLUTION STEREO CAMERA"
MISSION_NAME = "MARS EXPRESS"
MISSION_PHASE_NAME = ME_Phase_17
PROCESSING_LEVEL_ID = 4
PRODUCT_CREATION_TIME = 2023-02-05T17:30:49.000Z
PRODUCT_ID = "H6795_0000_P14.TIF"
RELEASE_ID = 0007
REVISION_ID = 0000
/* QUALITY DATA ELEMENTS */
DATA_QUALITY_ID = 1
DATA_QUALITY_DESC = "Data calculated based on original SPICE kernels"
/* TIME DATA ELEMENTS */
SPACECRAFT_CLOCK_START_COUNT = "1/0188187062.09039"
SPACECRAFT_CLOCK_STOP_COUNT = "1/0188187435.09536"
START_TIME = 2009-04-19T02:11:20.993Z
STOP_TIME = 2009-04-19T02:14:41.670Z
/* ORBITAL DATA ELEMENTS */
ASCENDING_NODE_LONGITUDE = 88.11
MAXIMUM_RESOLUTION = 0.0394
FOOTPRINT_POINT_LATITUDE = (-80.8636,-81.0238,-81.2086,-81.3433, -81.4227,-81.4905,-81.4951,-81.4436, -81.1378,-80.7274,-80.4158,-79.996, -79.4636,-79.0329,-78.7032,-78.4816, -78.2609,-78.036,-77.8119,-77.5894, -77.3615,-77.0184,-76.6684,-76.4354, -76.0818,-75.8463,-75.4881,-75.249, -75.0062,-74.6419,-74.3954,-74.1491, -73.7754,-73.526,-73.2728,-73.0198, -72.7639,-72.5075,-72.2487,-71.9889, -71.7266,-71.4637,-71.198,-70.9317, -70.6623,-70.3929,-70.1186,-69.7073, -69.5695,-69.5171,-69.4957,-69.4515, -69.4045,-69.3643,-69.3126,-69.2288, -69.1781,-69.1733,-69.1724,-69.4448, -69.8499,-70.118,-70.3837,-70.7812, -71.0441,-71.3021,-71.5614,-71.8172, -72.0725,-72.3253,-72.5774,-72.8257, -73.0748,-73.321,-73.5662,-73.9302, -74.2914,-74.5296,-74.7683,-75.0016, -75.2352,-75.5821,-75.8125,-76.0406, -76.2666,-76.6053,-76.827,-77.0488, -77.269,-77.4872,-77.7033,-78.1301, -78.4473,-78.8635,-79.2734,-79.6783, -80.0747,-80.6581,-80.754,-80.8636)
FOOTPRINT_POINT_LONGITUDE = (358.813,360.946,363.767,366.168, 367.776,369.304,369.414,369.756,370.352 ,371.081,371.591,372.223,372.951,373.48 ,373.864,374.11,374.343,374.571,374.789 ,374.99,375.195,375.491,375.78,375.962, 376.226,376.392,376.635,376.79,376.943, 377.161,377.303,377.44,377.639,377.766, 377.892,378.013,378.131,378.247,378.359 ,378.469,378.576,378.679,378.781, 378.881,378.978,379.072,379.167,379.3, 379.344,379.36,378.611,377.389,376.309, 375.503,374.565,373.234,372.506,372.44, 372.416,372.292,372.099,371.967,371.831 ,371.621,371.476,371.327,371.174, 371.018,370.856,370.692,370.521,370.347 ,370.167,369.984,369.795,369.502, 369.195,368.985,368.767,368.544,368.313 ,367.956,367.709,367.454,367.192, 366.783,366.501,366.209,365.908,365.599 ,365.276,364.606,364.071,363.318, 362.513,361.647,360.722,359.199,358.928 ,358.813)
ORBIT_NUMBER = 6795
ORBITAL_ECCENTRICITY = 0.575
ORBITAL_INCLINATION = 86.76
ORBITAL_SEMIMAJOR_AXIS = 8693.12
PERIAPSIS_ALTITUDE = 310.75
PERIAPSIS_ARGUMENT_ANGLE = 245.35
PERIAPSIS_TIME = 2009-04-19T02:03:17.000Z
SPACECRAFT_ORIENTATION = (0.0,-1.0,0.0)
^MEX_ORIENTATION_DESC = "MEX_ORIENTATION_DESC.TXT"
SPACECRAFT_POINTING_MODE = NADIR
^MEX_POINTING_DESC = "MEX_POINTING_DESC.TXT"
RIGHT_ASCENSION = -1e+32
DECLINATION = -1e+32
OFFSET_ANGLE = -1e+32
SPACECRAFT_SOLAR_DISTANCE = 2.06651e+08
TARGET_NAME = MARS
/* CAMERA DATA ELEMENTS */
DETECTOR_TEMPERATURE = 17.351
FOCAL_PLANE_TEMPERATURE = 8.5833
INST_CMPRS_NAME = "DISCRETE COSINE TRANSFORMATION (DCT)"
INST_CMPRS_RATIO = 17.1347
INST_CMPRS_QUALITY = 0
INST_CMPRS_QUANTZ_TBL_ID = 0
INSTRUMENT_TEMPERATURE = 11.234
LENS_TEMPERATURE = 8.9911
MACROPIXEL_SIZE = 2
MISSING_FRAMES = 0
PIXEL_SUBSAMPLING_FLAG = N
SIGNAL_CHAIN_ID = 3
/* RADIOMETRIC DATA ELEMENTS */
BANDWIDTH = 174.0
CENTER_FILTER_WAVELENGTH = 675.0
RADIANCE_OFFSET = 6.65621
RADIANCE_SCALING_FACTOR = 0.0395118
REFLECTANCE_SCALING_FACTOR = 0.000907582
MEX:REFLECTANCE_OFFSET = 0.152893
/* IMAGE OBJECT DEFINITIONS */
OBJECT = IMAGE
  INTERCHANGE_FORMAT = BINARY
  LINES = 14569
  LINE_SAMPLES = 5719
  SAMPLE_TYPE = UNSIGNED_INTEGER
  SAMPLE_BITS = 8
  BANDS = 1
  BAND_STORAGE_TYPE = BAND_SEQUENTIAL
  MAXIMUM = 255
  MEAN = 149.498
  MINIMUM = 1
  STANDARD_DEVIATION = 104.773
END_OBJECT = IMAGE
/* MAP OBJECT DEFINITIONS */
OBJECT = IMAGE_MAP_PROJECTION
  ^DATA_SET_MAP_PROJECTION_CATALOG= "DSMAP.CAT"
  A_AXIS_RADIUS = 3396.0
  B_AXIS_RADIUS = 3396.0
  C_AXIS_RADIUS = 3396.0
  CENTER_LATITUDE = 0.0
  CENTER_LONGITUDE = 12.0
  COORDINATE_SYSTEM_NAME = PLANETOGRAPHIC
  COORDINATE_SYSTEM_TYPE = "BODY-FIXED ROTATING"
  EASTERNMOST_LONGITUDE = 19.36
  FIRST_STANDARD_PARALLEL = "N/A"
  LINE_FIRST_PIXEL = 1
  LINE_LAST_PIXEL = 14569
  LINE_PROJECTION_OFFSET = -81961.75
  MAP_PROJECTION_ROTATION = 0.0
  MAP_PROJECTION_TYPE = SINUSOIDAL
  MAP_RESOLUTION = 1185.42760773333
  MAP_SCALE = 0.05
  MAXIMUM_LATITUDE = -69.1724
  MINIMUM_LATITUDE = -81.49509999999999
  POSITIVE_LONGITUDE_DIRECTION = EAST
  REFERENCE_LATITUDE = "N/A"
  REFERENCE_LONGITUDE = "N/A"
  SAMPLE_FIRST_PIXEL = 1
  SAMPLE_LAST_PIXEL = 5719
  SAMPLE_PROJECTION_OFFSET = 2555.75
  SECOND_STANDARD_PARALLEL = "N/A"
  WESTERNMOST_LONGITUDE = -1.187
END_OBJECT = IMAGE_MAP_PROJECTION
END
