PDS_VERSION_ID = PDS3
/* FILE DATA ELEMENTS */
RECORD_TYPE = UNDEFINED
/* POINTERS TO DATA OBJECTS */
^IMAGE = ("H6792_0000_S24.TIF")
/* IDENTIFICATION DATA ELEMENTS */
DATA_SET_ID = "MEX-M-HRSC-4-REFDR-MAPPROJECT-EXT2-V4.0"
DATA_SET_NAME = "MARS EXPRESS HRSC MAP PROJECTED REFDR EXTENSION2 V4.0"
DETECTOR_ID = MEX_HRSC_S2
EVENT_TYPE = "MARS-REGIONAL-MAPPING-Im-Gl-La"
INSTRUMENT_HOST_ID = MEX
INSTRUMENT_HOST_NAME = "MARS EXPRESS"
INSTRUMENT_ID = HRSC
INSTRUMENT_NAME = "HIGH RESOLUTION STEREO CAMERA"
MISSION_NAME = "MARS EXPRESS"
MISSION_PHASE_NAME = ME_Phase_17
PROCESSING_LEVEL_ID = 4
PRODUCT_CREATION_TIME = 2023-02-05T17:30:49.000Z
PRODUCT_ID = "H6792_0000_S24.TIF"
RELEASE_ID = 0007
REVISION_ID = 0000
/* QUALITY DATA ELEMENTS */
DATA_QUALITY_ID = 1
DATA_QUALITY_DESC = "Data calculated based on original SPICE kernels"
/* TIME DATA ELEMENTS */
SPACECRAFT_CLOCK_START_COUNT = "1/0188112586.09078"
SPACECRAFT_CLOCK_STOP_COUNT = "1/0188112932.31455"
START_TIME = 2009-04-18T05:31:35.686Z
STOP_TIME = 2009-04-18T05:35:32.983Z
/* ORBITAL DATA ELEMENTS */
ASCENDING_NODE_LONGITUDE = 88.17
MAXIMUM_RESOLUTION = 0.0495
FOOTPRINT_POINT_LATITUDE = (-81.1831,-81.3755,-81.4691,-81.5862, -81.6944,-81.7933,-81.8983,-81.9035, -82.022,-81.6323,-81.1379,-80.7365, -80.2283,-79.9209,-79.5047,-79.1894, -78.766,-78.5534,-78.3378,-78.1224, -77.9046,-77.6876,-77.4673,-77.1358, -76.9133,-76.6894,-76.4649,-76.2381, -76.0112,-75.7817,-75.4344,-75.0863, -74.736,-74.5022,-74.2645,-74.027, -73.7878,-73.5474,-73.3059,-72.9401, -72.5717,-72.3247,-72.078,-71.8336, -71.4678,-71.2253,-70.9839,-70.8638, -70.8158,-70.7957,-70.754,-70.72, -70.6893,-70.6635,-70.6157,-70.5678, -70.5303,-70.4857,-70.4438,-70.4386, -70.4376,-70.6732,-70.9174,-71.2683, -71.5076,-71.7476,-72.1096,-72.3508, -72.5898,-72.9456,-73.1819,-73.5351, -73.7684,-74.0007,-74.2303,-74.4592, -74.6866,-75.025,-75.3607,-75.5832, -75.8036,-76.1322,-76.35,-76.5654, -76.7798,-76.9927,-77.205,-77.4144, -77.623,-77.8299,-78.139,-78.6457, -79.0467,-79.3461,-79.7397,-80.2133, -80.5898,-81.1437,-81.2312,-81.1831)
FOOTPRINT_POINT_LONGITUDE = (299.579,302.203,303.614,305.541, 307.516,309.541,312.009,312.141,312.207 ,313.039,313.983,314.671,315.46,315.897 ,316.446,316.834,317.319,317.549, 317.773,317.988,318.198,318.401,318.598 ,318.881,319.063,319.24,319.412,319.579 ,319.741,319.899,320.127,320.346, 320.558,320.695,320.828,320.958,321.085 ,321.209,321.329,321.504,321.674, 321.783,321.888,321.991,322.138,322.233 ,322.325,322.371,322.389,321.611, 320.231,319.288,318.434,317.751,316.73, 315.799,315.124,314.367,313.696,313.612 ,313.581,313.459,313.32,313.131,312.992 ,312.848,312.621,312.465,312.305, 312.058,311.885,311.615,311.43,311.239, 311.045,310.844,310.638,310.318,309.982 ,309.75,309.513,309.142,308.885,308.621 ,308.35,308.07,307.78,307.485,307.18, 306.865,306.37,305.494,304.732,304.116, 303.244,302.112,301.105,299.441,299.164 ,299.579)
ORBIT_NUMBER = 6792
ORBITAL_ECCENTRICITY = 0.576
ORBITAL_INCLINATION = 86.77
ORBITAL_SEMIMAJOR_AXIS = 8693.0
PERIAPSIS_ALTITUDE = 310.49
PERIAPSIS_ARGUMENT_ANGLE = 245.9
PERIAPSIS_TIME = 2009-04-18T05:22:19.000Z
SPACECRAFT_ORIENTATION = (0.0,-1.0,0.0)
^MEX_ORIENTATION_DESC = "MEX_ORIENTATION_DESC.TXT"
SPACECRAFT_POINTING_MODE = NADIR
^MEX_POINTING_DESC = "MEX_POINTING_DESC.TXT"
RIGHT_ASCENSION = -1e+32
DECLINATION = -1e+32
OFFSET_ANGLE = -1e+32
SPACECRAFT_SOLAR_DISTANCE = 2.06656e+08
TARGET_NAME = MARS
/* CAMERA DATA ELEMENTS */
DETECTOR_TEMPERATURE = 18.5744
FOCAL_PLANE_TEMPERATURE = 8.5833
INST_CMPRS_NAME = "DISCRETE COSINE TRANSFORMATION (DCT)"
INST_CMPRS_RATIO = 15.1994
INST_CMPRS_QUALITY = 0
INST_CMPRS_QUANTZ_TBL_ID = 0
INSTRUMENT_TEMPERATURE = 11.234
LENS_TEMPERATURE = 8.7872
MACROPIXEL_SIZE = 2
MISSING_FRAMES = 0
PIXEL_SUBSAMPLING_FLAG = N
SIGNAL_CHAIN_ID = 1
/* RADIOMETRIC DATA ELEMENTS */
BANDWIDTH = 178.0
CENTER_FILTER_WAVELENGTH = 679.0
RADIANCE_OFFSET = 6.57554
RADIANCE_SCALING_FACTOR = 0.049424
REFLECTANCE_SCALING_FACTOR = 0.00111779
MEX:REFLECTANCE_OFFSET = 0.148715
/* IMAGE OBJECT DEFINITIONS */
OBJECT = IMAGE
  INTERCHANGE_FORMAT = BINARY
  LINES = 13688
  LINE_SAMPLES = 5562
  SAMPLE_TYPE = UNSIGNED_INTEGER
  SAMPLE_BITS = 8
  BANDS = 1
  BAND_STORAGE_TYPE = BAND_SEQUENTIAL
  MAXIMUM = 255
  MEAN = 186.821
  MINIMUM = 1
  STANDARD_DEVIATION = 34.4451
END_OBJECT = IMAGE
/* MAP OBJECT DEFINITIONS */
OBJECT = IMAGE_MAP_PROJECTION
  ^DATA_SET_MAP_PROJECTION_CATALOG= "DSMAP.CAT"
  A_AXIS_RADIUS = 3396.0
  B_AXIS_RADIUS = 3396.0
  C_AXIS_RADIUS = 3396.0
  CENTER_LATITUDE = 0.0
  CENTER_LONGITUDE = 314.0
  COORDINATE_SYSTEM_NAME = PLANETOGRAPHIC
  COORDINATE_SYSTEM_TYPE = "BODY-FIXED ROTATING"
  EASTERNMOST_LONGITUDE = 322.389
  FIRST_STANDARD_PARALLEL = "N/A"
  LINE_FIRST_PIXEL = 1
  LINE_LAST_PIXEL = 13688
  LINE_PROJECTION_OFFSET = -83531.25
  MAP_PROJECTION_ROTATION = 0.0
  MAP_PROJECTION_TYPE = SINUSOIDAL
  MAP_RESOLUTION = 1185.42760773333
  MAP_SCALE = 0.05
  MAXIMUM_LATITUDE = -70.4376
  MINIMUM_LATITUDE = -82.02200000000001
  POSITIVE_LONGITUDE_DIRECTION = EAST
  REFERENCE_LATITUDE = "N/A"
  REFERENCE_LONGITUDE = "N/A"
  SAMPLE_FIRST_PIXEL = 1
  SAMPLE_LAST_PIXEL = 5562
  SAMPLE_PROJECTION_OFFSET = 2591.75
  SECOND_STANDARD_PARALLEL = "N/A"
  WESTERNMOST_LONGITUDE = 299.164
END_OBJECT = IMAGE_MAP_PROJECTION
END
