PDS_VERSION_ID = PDS3
/* FILE DATA ELEMENTS */
RECORD_TYPE = UNDEFINED
/* POINTERS TO DATA OBJECTS */
^IMAGE = ("H6792_0000_P24.TIF")
/* IDENTIFICATION DATA ELEMENTS */
DATA_SET_ID = "MEX-M-HRSC-4-REFDR-MAPPROJECT-EXT2-V4.0"
DATA_SET_NAME = "MARS EXPRESS HRSC MAP PROJECTED REFDR EXTENSION2 V4.0"
DETECTOR_ID = MEX_HRSC_P2
EVENT_TYPE = "MARS-REGIONAL-MAPPING-Im-Gl-La"
INSTRUMENT_HOST_ID = MEX
INSTRUMENT_HOST_NAME = "MARS EXPRESS"
INSTRUMENT_ID = HRSC
INSTRUMENT_NAME = "HIGH RESOLUTION STEREO CAMERA"
MISSION_NAME = "MARS EXPRESS"
MISSION_PHASE_NAME = ME_Phase_17
PROCESSING_LEVEL_ID = 4
PRODUCT_CREATION_TIME = 2023-02-05T17:30:49.000Z
PRODUCT_ID = "H6792_0000_P24.TIF"
RELEASE_ID = 0007
REVISION_ID = 0000
/* QUALITY DATA ELEMENTS */
DATA_QUALITY_ID = 1
DATA_QUALITY_DESC = "Data calculated based on original SPICE kernels"
/* TIME DATA ELEMENTS */
SPACECRAFT_CLOCK_START_COUNT = "1/0188112586.09078"
SPACECRAFT_CLOCK_STOP_COUNT = "1/0188112932.31455"
START_TIME = 2009-04-18T05:31:13.965Z
STOP_TIME = 2009-04-18T05:34:56.641Z
/* ORBITAL DATA ELEMENTS */
ASCENDING_NODE_LONGITUDE = 88.17
MAXIMUM_RESOLUTION = 0.0461
FOOTPRINT_POINT_LATITUDE = (-81.2314,-81.3549,-81.5233,-81.663, -81.7528,-81.8472,-81.9274,-81.9325, -82.0133,-81.7248,-81.3348,-80.9389, -80.6398,-80.2364,-79.93,-79.5177, -79.2062,-78.9958,-78.6804,-78.4668, -78.2534,-78.0378,-77.7143,-77.4955, -77.2766,-77.0554,-76.8341,-76.6107, -76.387,-76.1609,-75.9346,-75.7059, -75.4767,-75.2448,-75.0141,-74.7803, -74.4282,-74.0741,-73.8363,-73.5966, -73.2346,-72.8689,-72.6246,-72.2529, -72.0043,-71.7536,-71.5022,-71.2487, -70.9943,-70.8664,-70.8176,-70.7859, -70.7536,-70.6931,-70.6267,-70.5719, -70.513,-70.4514,-70.4461,-70.445, -70.6977,-70.9491,-71.1941,-71.4413, -71.686,-72.051,-72.4128,-72.7695, -73.008,-73.2436,-73.5948,-73.9428, -74.1732,-74.4013,-74.7414,-74.9674, -75.1905,-75.4137,-75.634,-75.8544, -76.0719,-76.2898,-76.5045,-76.7195, -76.9311,-77.2482,-77.4564,-77.6647, -77.973,-78.1776,-78.582,-78.9804, -79.2747,-79.7637,-80.1427,-80.5172, -80.7948,-81.159,-81.2472,-81.2314)
FOOTPRINT_POINT_LONGITUDE = (299.644,301.28,303.756,306.087,307.761 ,309.719,311.596,311.723,311.849, 312.479,313.258,313.976,314.478,315.103 ,315.544,316.093,316.48,316.728,317.083 ,317.311,317.531,317.744,318.052, 318.249,318.439,318.625,318.805,318.98, 319.15,319.314,319.474,319.63,319.781, 319.928,320.071,320.211,320.414,320.611 ,320.737,320.861,321.04,321.211,321.324 ,321.485,321.591,321.693,321.793, 321.891,321.987,322.034,322.052,320.916 ,319.944,318.336,316.895,315.86,314.829 ,313.884,313.805,313.776,313.642, 313.502,313.37,313.227,313.081,312.854, 312.618,312.378,312.206,312.032,311.762 ,311.48,311.287,311.089,310.781,310.567 ,310.349,310.122,309.891,309.651, 309.406,309.152,308.893,308.624,308.35, 307.918,307.623,307.317,306.84,306.508, 305.813,305.07,304.484,303.404,302.507, 301.53,300.739,299.623,299.342,299.644)
ORBIT_NUMBER = 6792
ORBITAL_ECCENTRICITY = 0.576
ORBITAL_INCLINATION = 86.77
ORBITAL_SEMIMAJOR_AXIS = 8693.0
PERIAPSIS_ALTITUDE = 310.49
PERIAPSIS_ARGUMENT_ANGLE = 245.9
PERIAPSIS_TIME = 2009-04-18T05:22:19.000Z
SPACECRAFT_ORIENTATION = (0.0,-1.0,0.0)
^MEX_ORIENTATION_DESC = "MEX_ORIENTATION_DESC.TXT"
SPACECRAFT_POINTING_MODE = NADIR
^MEX_POINTING_DESC = "MEX_POINTING_DESC.TXT"
RIGHT_ASCENSION = -1e+32
DECLINATION = -1e+32
OFFSET_ANGLE = -1e+32
SPACECRAFT_SOLAR_DISTANCE = 2.06656e+08
TARGET_NAME = MARS
/* CAMERA DATA ELEMENTS */
DETECTOR_TEMPERATURE = 18.5744
FOCAL_PLANE_TEMPERATURE = 8.5833
INST_CMPRS_NAME = "DISCRETE COSINE TRANSFORMATION (DCT)"
INST_CMPRS_RATIO = 27.6587
INST_CMPRS_QUALITY = 0
INST_CMPRS_QUANTZ_TBL_ID = 0
INSTRUMENT_TEMPERATURE = 11.234
LENS_TEMPERATURE = 8.7872
MACROPIXEL_SIZE = 2
MISSING_FRAMES = 0
PIXEL_SUBSAMPLING_FLAG = N
SIGNAL_CHAIN_ID = 3
/* RADIOMETRIC DATA ELEMENTS */
BANDWIDTH = 177.0
CENTER_FILTER_WAVELENGTH = 676.5
RADIANCE_OFFSET = 7.82748
RADIANCE_SCALING_FACTOR = 0.0344438
REFLECTANCE_SCALING_FACTOR = 0.000779939
MEX:REFLECTANCE_OFFSET = 0.177244
/* IMAGE OBJECT DEFINITIONS */
OBJECT = IMAGE
  INTERCHANGE_FORMAT = BINARY
  LINES = 13688
  LINE_SAMPLES = 5562
  SAMPLE_TYPE = UNSIGNED_INTEGER
  SAMPLE_BITS = 8
  BANDS = 1
  BAND_STORAGE_TYPE = BAND_SEQUENTIAL
  MAXIMUM = 255
  MEAN = 187.358
  MINIMUM = 1
  STANDARD_DEVIATION = 53.3759
END_OBJECT = IMAGE
/* MAP OBJECT DEFINITIONS */
OBJECT = IMAGE_MAP_PROJECTION
  ^DATA_SET_MAP_PROJECTION_CATALOG= "DSMAP.CAT"
  A_AXIS_RADIUS = 3396.0
  B_AXIS_RADIUS = 3396.0
  C_AXIS_RADIUS = 3396.0
  CENTER_LATITUDE = 0.0
  CENTER_LONGITUDE = 314.0
  COORDINATE_SYSTEM_NAME = PLANETOGRAPHIC
  COORDINATE_SYSTEM_TYPE = "BODY-FIXED ROTATING"
  EASTERNMOST_LONGITUDE = 322.052
  FIRST_STANDARD_PARALLEL = "N/A"
  LINE_FIRST_PIXEL = 1
  LINE_LAST_PIXEL = 13688
  LINE_PROJECTION_OFFSET = -83531.25
  MAP_PROJECTION_ROTATION = 0.0
  MAP_PROJECTION_TYPE = SINUSOIDAL
  MAP_RESOLUTION = 1185.42760773333
  MAP_SCALE = 0.05
  MAXIMUM_LATITUDE = -70.44499999999999
  MINIMUM_LATITUDE = -82.0133
  POSITIVE_LONGITUDE_DIRECTION = EAST
  REFERENCE_LATITUDE = "N/A"
  REFERENCE_LONGITUDE = "N/A"
  SAMPLE_FIRST_PIXEL = 1
  SAMPLE_LAST_PIXEL = 5562
  SAMPLE_PROJECTION_OFFSET = 2591.75
  SECOND_STANDARD_PARALLEL = "N/A"
  WESTERNMOST_LONGITUDE = 299.342
END_OBJECT = IMAGE_MAP_PROJECTION
END
