PDS_VERSION_ID = PDS3
/* FILE DATA ELEMENTS */
RECORD_TYPE = UNDEFINED
/* POINTERS TO DATA OBJECTS */
^IMAGE = ("H6791_0000_RE4.TIF")
/* IDENTIFICATION DATA ELEMENTS */
DATA_SET_ID = "MEX-M-HRSC-4-REFDR-MAPPROJECT-EXT2-V4.0"
DATA_SET_NAME = "MARS EXPRESS HRSC MAP PROJECTED REFDR EXTENSION2 V4.0"
DETECTOR_ID = MEX_HRSC_RED
EVENT_TYPE = "MARS-REGIONAL-MAPPING-Im-Gl"
INSTRUMENT_HOST_ID = MEX
INSTRUMENT_HOST_NAME = "MARS EXPRESS"
INSTRUMENT_ID = HRSC
INSTRUMENT_NAME = "HIGH RESOLUTION STEREO CAMERA"
MISSION_NAME = "MARS EXPRESS"
MISSION_PHASE_NAME = ME_Phase_17
PROCESSING_LEVEL_ID = 4
PRODUCT_CREATION_TIME = 2023-02-05T17:30:49.000Z
PRODUCT_ID = "H6791_0000_RE4.TIF"
RELEASE_ID = 0007
REVISION_ID = 0000
/* QUALITY DATA ELEMENTS */
DATA_QUALITY_ID = 1
DATA_QUALITY_DESC = "Data calculated based on original SPICE kernels"
/* TIME DATA ELEMENTS */
SPACECRAFT_CLOCK_START_COUNT = "1/0188087764.08235"
SPACECRAFT_CLOCK_STOP_COUNT = "1/0188088059.29425"
START_TIME = 2009-04-17T22:37:42.584Z
STOP_TIME = 2009-04-17T22:40:26.703Z
/* ORBITAL DATA ELEMENTS */
ASCENDING_NODE_LONGITUDE = 88.18
MAXIMUM_RESOLUTION = 0.1904
FOOTPRINT_POINT_LATITUDE = (-81.0222,-81.1401,-81.2871,-81.3495, -81.4543,-81.5682,-81.6289,-81.7053, -81.7101,-81.8085,-81.4526,-81.1652, -80.8737,-80.5071,-80.0616,-79.6093, -79.3808,-79.0761,-78.921,-78.7662, -78.6115,-78.4547,-78.2984,-78.1418, -77.983,-77.8245,-77.665,-77.4971, -77.3369,-77.1757,-77.0136,-76.7708, -76.5243,-76.2778,-76.1118,-75.9461, -75.7789,-75.6114,-75.3573,-75.1874, -74.9346,-74.7652,-74.5077,-74.3357, -74.0756,-73.8138,-73.7239,-73.645, -73.6208,-73.5796,-73.5493,-73.5201, -73.4649,-73.4184,-73.3846,-73.3365, -73.2768,-73.2335,-73.228,-73.2271, -73.3989,-73.5695,-73.7388,-73.9912, -74.1591,-74.4096,-74.576,-74.7412, -74.9065,-75.0726,-75.2369,-75.3997, -75.6428,-75.8058,-75.9675,-76.1261, -76.2877,-76.4448,-76.6023,-76.8369, -76.9922,-77.1474,-77.3775,-77.5326, -77.8305,-77.9813,-78.1316,-78.2805, -78.4295,-78.6504,-79.0152,-79.3027, -79.5885,-79.8703,-80.1499,-80.4268, -80.6976,-80.9648,-81.0308,-81.0222)
FOOTPRINT_POINT_LONGITUDE = (41.0554,42.6286,44.7841,45.777,47.5743 ,49.7607,51.0537,52.8492,52.9702, 53.0865,53.8211,54.3694,54.8874,55.4925 ,56.165,56.7861,57.0793,57.4516,57.6319 ,57.8071,57.9771,58.1446,58.3079, 58.4661,58.6223,58.7742,58.921,59.0605, 59.2024,59.3404,59.4769,59.675,59.8672, 60.053,60.1739,60.2916,60.4077,60.5211, 60.6861,60.7934,60.9535,61.0574,61.2088 ,61.307,61.4513,61.5911,61.6352,61.6721 ,60.7544,59.5722,58.8168,58.0632, 56.8971,56.0717,55.4089,54.5883,53.6045 ,52.9532,52.8719,52.8157,52.686,52.5545 ,52.4216,52.217,52.0768,51.8599,51.7115 ,51.5599,51.4038,51.2409,51.076,50.9113 ,50.6546,50.4749,50.2921,50.1123, 49.9189,49.7303,49.5356,49.2357,49.031, 48.8207,48.4972,48.2682,47.829,47.592, 47.3469,47.0981,46.8422,46.4484,45.7608 ,45.1815,44.5671,43.9265,43.2428, 42.5233,41.7745,40.9907,40.7877, 41.0554)
ORBIT_NUMBER = 6791
ORBITAL_ECCENTRICITY = 0.576
ORBITAL_INCLINATION = 86.77
ORBITAL_SEMIMAJOR_AXIS = 8691.92
PERIAPSIS_ALTITUDE = 309.83
PERIAPSIS_ARGUMENT_ANGLE = 246.07
PERIAPSIS_TIME = 2009-04-17T22:28:36.000Z
SPACECRAFT_ORIENTATION = (0.0,-1.0,0.0)
^MEX_ORIENTATION_DESC = "MEX_ORIENTATION_DESC.TXT"
SPACECRAFT_POINTING_MODE = NADIR
^MEX_POINTING_DESC = "MEX_POINTING_DESC.TXT"
RIGHT_ASCENSION = -1e+32
DECLINATION = -1e+32
OFFSET_ANGLE = -1e+32
SPACECRAFT_SOLAR_DISTANCE = 2.06658e+08
TARGET_NAME = MARS
/* CAMERA DATA ELEMENTS */
DETECTOR_TEMPERATURE = 18.5744
FOCAL_PLANE_TEMPERATURE = 8.1755
INST_CMPRS_NAME = "DISCRETE COSINE TRANSFORMATION (DCT)"
INST_CMPRS_RATIO = 9.63673
INST_CMPRS_QUALITY = 0
INST_CMPRS_QUANTZ_TBL_ID = 0
INSTRUMENT_TEMPERATURE = 11.234
LENS_TEMPERATURE = 8.5833
MACROPIXEL_SIZE = 8
MISSING_FRAMES = 0
PIXEL_SUBSAMPLING_FLAG = N
SIGNAL_CHAIN_ID = 2
/* RADIOMETRIC DATA ELEMENTS */
BANDWIDTH = 48.0
CENTER_FILTER_WAVELENGTH = 748.0
RADIANCE_OFFSET = 2.00517
RADIANCE_SCALING_FACTOR = 0.00717589
REFLECTANCE_SCALING_FACTOR = 0.000699363
MEX:REFLECTANCE_OFFSET = 0.195424
/* IMAGE OBJECT DEFINITIONS */
OBJECT = IMAGE
  INTERCHANGE_FORMAT = BINARY
  LINES = 2763
  LINE_SAMPLES = 1257
  SAMPLE_TYPE = UNSIGNED_INTEGER
  SAMPLE_BITS = 8
  BANDS = 1
  BAND_STORAGE_TYPE = BAND_SEQUENTIAL
  MAXIMUM = 255
  MEAN = 166.527
  MINIMUM = 1
  STANDARD_DEVIATION = 44.9462
END_OBJECT = IMAGE
/* MAP OBJECT DEFINITIONS */
OBJECT = IMAGE_MAP_PROJECTION
  ^DATA_SET_MAP_PROJECTION_CATALOG= "DSMAP.CAT"
  A_AXIS_RADIUS = 3396.0
  B_AXIS_RADIUS = 3396.0
  C_AXIS_RADIUS = 3396.0
  CENTER_LATITUDE = 0.0
  CENTER_LONGITUDE = 54.0
  COORDINATE_SYSTEM_NAME = PLANETOGRAPHIC
  COORDINATE_SYSTEM_TYPE = "BODY-FIXED ROTATING"
  EASTERNMOST_LONGITUDE = 61.6721
  FIRST_STANDARD_PARALLEL = "N/A"
  LINE_FIRST_PIXEL = 1
  LINE_LAST_PIXEL = 2763
  LINE_PROJECTION_OFFSET = -21484.3125
  MAP_PROJECTION_ROTATION = 0.0
  MAP_PROJECTION_TYPE = SINUSOIDAL
  MAP_RESOLUTION = 296.356901933333
  MAP_SCALE = 0.2
  MAXIMUM_LATITUDE = -73.22709999999999
  MINIMUM_LATITUDE = -81.8085
  POSITIVE_LONGITUDE_DIRECTION = EAST
  REFERENCE_LATITUDE = "N/A"
  REFERENCE_LONGITUDE = "N/A"
  SAMPLE_FIRST_PIXEL = 1
  SAMPLE_LAST_PIXEL = 1257
  SAMPLE_PROJECTION_OFFSET = 595.5625
  SECOND_STANDARD_PARALLEL = "N/A"
  WESTERNMOST_LONGITUDE = 40.7877
END_OBJECT = IMAGE_MAP_PROJECTION
END
