PDS_VERSION_ID = PDS3
/* FILE DATA ELEMENTS */
RECORD_TYPE = UNDEFINED
/* POINTERS TO DATA OBJECTS */
^IMAGE = ("H6785_0000_IR4.TIF")
/* IDENTIFICATION DATA ELEMENTS */
DATA_SET_ID = "MEX-M-HRSC-4-REFDR-MAPPROJECT-EXT2-V4.0"
DATA_SET_NAME = "MARS EXPRESS HRSC MAP PROJECTED REFDR EXTENSION2 V4.0"
DETECTOR_ID = MEX_HRSC_IR
EVENT_TYPE = "MARS-REGIONAL-MAPPING-Gl-La"
INSTRUMENT_HOST_ID = MEX
INSTRUMENT_HOST_NAME = "MARS EXPRESS"
INSTRUMENT_ID = HRSC
INSTRUMENT_NAME = "HIGH RESOLUTION STEREO CAMERA"
MISSION_NAME = "MARS EXPRESS"
MISSION_PHASE_NAME = ME_Phase_16
PROCESSING_LEVEL_ID = 4
PRODUCT_CREATION_TIME = 2023-02-05T17:30:49.000Z
PRODUCT_ID = "H6785_0000_IR4.TIF"
RELEASE_ID = 0007
REVISION_ID = 0000
/* QUALITY DATA ELEMENTS */
DATA_QUALITY_ID = 1
DATA_QUALITY_DESC = "Data calculated based on original SPICE kernels"
/* TIME DATA ELEMENTS */
SPACECRAFT_CLOCK_START_COUNT = "1/0187938778.09056"
SPACECRAFT_CLOCK_STOP_COUNT = "1/0187939087.31327"
START_TIME = 2009-04-16T05:13:07.733Z
STOP_TIME = 2009-04-16T05:15:58.902Z
/* ORBITAL DATA ELEMENTS */
ASCENDING_NODE_LONGITUDE = 88.3
MAXIMUM_RESOLUTION = 0.0752
FOOTPRINT_POINT_LATITUDE = (-83.646,-83.7775,-83.9777,-84.1421, -84.2598,-84.4621,-84.4684,-84.4098, -84.067,-83.7131,-83.3545,-82.9865, -82.6157,-82.3347,-82.0475,-81.6632, -81.4647,-81.2687,-81.0706,-80.8739, -80.6727,-80.4698,-80.2683,-80.0654, -79.8597,-79.6546,-79.4464,-79.2369, -79.0273,-78.8142,-78.6028,-78.3888, -78.1739,-77.9576,-77.7388,-77.4081, -77.1872,-76.9631,-76.7387,-76.5148, -76.2869,-75.9462,-75.7156,-75.4828, -75.2511,-74.8981,-74.6626,-74.4246, -74.185,-74.0652,-73.9514,-73.8819, -73.8441,-73.7886,-73.723,-73.6552, -73.5671,-73.5623,-73.5621,-73.7973, -74.0328,-74.3816,-74.6131,-74.8436, -75.1844,-75.4115,-75.6352,-75.8589, -76.0825,-76.2999,-76.5165,-76.7377, -76.9504,-77.1683,-77.3829,-77.5917, -77.8007,-78.1141,-78.3172,-78.6183, -78.8226,-79.0225,-79.2227,-79.4215, -79.6153,-79.809,-80.0045,-80.1983, -80.3844,-80.5729,-80.8532,-81.0392, -81.4897,-81.8441,-82.274,-82.531, -83.0207,-83.412,-83.4884,-83.646)
FOOTPRINT_POINT_LONGITUDE = (275.176,276.699,279.27,281.662,283.574 ,287.376,287.508,288.187,289.84,291.337 ,292.676,293.904,294.994,295.748, 296.459,297.328,297.755,298.143,298.522 ,298.877,299.229,299.567,299.884, 300.192,300.49,300.771,301.051,301.321, 301.575,301.829,302.069,302.3,302.524, 302.743,302.957,303.264,303.461,303.653 ,303.838,304.016,304.19,304.438,304.601 ,304.761,304.912,305.135,305.277, 305.416,305.551,305.618,305.679,303.89, 303.07,301.981,300.833,299.761,298.5, 298.434,298.41,298.224,298.032,297.734, 297.528,297.316,296.989,296.761,296.53, 296.291,296.043,295.791,295.529,295.259 ,294.983,294.699,294.403,294.101, 293.789,293.299,292.963,292.435,292.067 ,291.69,291.299,290.892,290.475,290.044 ,289.594,289.126,288.65,288.152,287.366 ,286.818,285.361,284.087,282.349, 281.209,278.728,276.405,275.911, 275.176)
ORBIT_NUMBER = 6785
ORBITAL_ECCENTRICITY = 0.576
ORBITAL_INCLINATION = 86.77
ORBITAL_SEMIMAJOR_AXIS = 8692.49
PERIAPSIS_ALTITUDE = 310.43
PERIAPSIS_ARGUMENT_ANGLE = 247.09
PERIAPSIS_TIME = 2009-04-16T05:06:29.000Z
SPACECRAFT_ORIENTATION = (0.0,-1.0,0.0)
^MEX_ORIENTATION_DESC = "MEX_ORIENTATION_DESC.TXT"
SPACECRAFT_POINTING_MODE = NADIR
^MEX_POINTING_DESC = "MEX_POINTING_DESC.TXT"
RIGHT_ASCENSION = -1e+32
DECLINATION = -1e+32
OFFSET_ANGLE = -1e+32
SPACECRAFT_SOLAR_DISTANCE = 2.06674e+08
TARGET_NAME = MARS
/* CAMERA DATA ELEMENTS */
DETECTOR_TEMPERATURE = 17.1471
FOCAL_PLANE_TEMPERATURE = 7.9716
INST_CMPRS_NAME = "DISCRETE COSINE TRANSFORMATION (DCT)"
INST_CMPRS_RATIO = 43.9691
INST_CMPRS_QUALITY = 0
INST_CMPRS_QUANTZ_TBL_ID = 0
INSTRUMENT_TEMPERATURE = 10.8262
LENS_TEMPERATURE = 8.3794
MACROPIXEL_SIZE = 4
MISSING_FRAMES = 0
PIXEL_SUBSAMPLING_FLAG = N
SIGNAL_CHAIN_ID = 2
/* RADIOMETRIC DATA ELEMENTS */
BANDWIDTH = 81.0
CENTER_FILTER_WAVELENGTH = 955.5
RADIANCE_OFFSET = 1.99042
RADIANCE_SCALING_FACTOR = 0.00677058
REFLECTANCE_SCALING_FACTOR = 0.000623918
MEX:REFLECTANCE_OFFSET = 0.18342
/* IMAGE OBJECT DEFINITIONS */
OBJECT = IMAGE
  INTERCHANGE_FORMAT = BINARY
  LINES = 6445
  LINE_SAMPLES = 3028
  SAMPLE_TYPE = UNSIGNED_INTEGER
  SAMPLE_BITS = 8
  BANDS = 1
  BAND_STORAGE_TYPE = BAND_SEQUENTIAL
  MAXIMUM = 255
  MEAN = 180.16
  MINIMUM = 3
  STANDARD_DEVIATION = 55.4424
END_OBJECT = IMAGE
/* MAP OBJECT DEFINITIONS */
OBJECT = IMAGE_MAP_PROJECTION
  ^DATA_SET_MAP_PROJECTION_CATALOG= "DSMAP.CAT"
  A_AXIS_RADIUS = 3396.0
  B_AXIS_RADIUS = 3396.0
  C_AXIS_RADIUS = 3396.0
  CENTER_LATITUDE = 0.0
  CENTER_LONGITUDE = 296.0
  COORDINATE_SYSTEM_NAME = PLANETOGRAPHIC
  COORDINATE_SYSTEM_TYPE = "BODY-FIXED ROTATING"
  EASTERNMOST_LONGITUDE = 305.679
  FIRST_STANDARD_PARALLEL = "N/A"
  LINE_FIRST_PIXEL = 1
  LINE_LAST_PIXEL = 6445
  LINE_PROJECTION_OFFSET = -43586.625
  MAP_PROJECTION_ROTATION = 0.0
  MAP_PROJECTION_TYPE = SINUSOIDAL
  MAP_RESOLUTION = 592.713803866667
  MAP_SCALE = 0.1
  MAXIMUM_LATITUDE = -73.5621
  MINIMUM_LATITUDE = -84.4684
  POSITIVE_LONGITUDE_DIRECTION = EAST
  REFERENCE_LATITUDE = "N/A"
  REFERENCE_LONGITUDE = "N/A"
  SAMPLE_FIRST_PIXEL = 1
  SAMPLE_LAST_PIXEL = 3028
  SAMPLE_PROJECTION_OFFSET = 1392.875
  SECOND_STANDARD_PARALLEL = "N/A"
  WESTERNMOST_LONGITUDE = 275.176
END_OBJECT = IMAGE_MAP_PROJECTION
END
