PDS_VERSION_ID = PDS3
/* FILE DATA ELEMENTS */
RECORD_TYPE = UNDEFINED
/* POINTERS TO DATA OBJECTS */
^IMAGE = ("H6775_0000_P14.TIF")
/* IDENTIFICATION DATA ELEMENTS */
DATA_SET_ID = "MEX-M-HRSC-4-REFDR-MAPPROJECT-EXT2-V4.0"
DATA_SET_NAME = "MARS EXPRESS HRSC MAP PROJECTED REFDR EXTENSION2 V4.0"
DETECTOR_ID = MEX_HRSC_P1
EVENT_TYPE = "MARS-REGIONAL-MAPPING-Im-Gl"
INSTRUMENT_HOST_ID = MEX
INSTRUMENT_HOST_NAME = "MARS EXPRESS"
INSTRUMENT_ID = HRSC
INSTRUMENT_NAME = "HIGH RESOLUTION STEREO CAMERA"
MISSION_NAME = "MARS EXPRESS"
MISSION_PHASE_NAME = ME_Phase_16
PROCESSING_LEVEL_ID = 4
PRODUCT_CREATION_TIME = 2023-02-05T17:30:49.000Z
PRODUCT_ID = "H6775_0000_P14.TIF"
RELEASE_ID = 0007
REVISION_ID = 0000
/* QUALITY DATA ELEMENTS */
DATA_QUALITY_ID = 1
DATA_QUALITY_DESC = "Data calculated based on original SPICE kernels"
/* TIME DATA ELEMENTS */
SPACECRAFT_CLOCK_START_COUNT = "1/0187690602.09061"
SPACECRAFT_CLOCK_STOP_COUNT = "1/0187690916.04712"
START_TIME = 2009-04-13T08:16:59.597Z
STOP_TIME = 2009-04-13T08:19:47.943Z
/* ORBITAL DATA ELEMENTS */
ASCENDING_NODE_LONGITUDE = 88.5
MAXIMUM_RESOLUTION = 0.0396
FOOTPRINT_POINT_LATITUDE = (-79.9418,-80.0751,-80.229,-80.3415, -80.4081,-80.4651,-80.469,-80.4145, -79.8774,-79.517,-79.1476,-78.7812, -78.4998,-78.1238,-77.9343,-77.7418, -77.5491,-77.3568,-77.1611,-76.9669, -76.7712,-76.4749,-76.2758,-76.0771, -75.8776,-75.6741,-75.4714,-75.2691, -75.0633,-74.8573,-74.6514,-74.4432, -74.1268,-73.9165,-73.6008,-73.3879, -73.1726,-72.8493,-72.6316,-72.4119, -72.1927,-71.971,-71.7484,-71.4131, -71.1873,-70.9619,-70.7334,-70.3907, -70.2752,-70.2026,-70.1825,-70.1594, -70.121,-70.0924,-70.0552,-70.0077, -69.9368,-69.8872,-69.8829,-69.8821, -70.1106,-70.3356,-70.5573,-70.7802, -71.1114,-71.4459,-71.6707,-71.8893, -72.2131,-72.4288,-72.641,-72.8541, -73.1702,-73.3805,-73.5896,-73.7953, -74.0005,-74.2043,-74.506,-74.7081, -75.0087,-75.2073,-75.4059,-75.701, -75.896,-76.188,-76.3787,-76.6647, -76.8551,-77.1361,-77.3233,-77.6932, -77.9681,-78.3318,-78.6879,-78.9548, -79.3887,-79.7342,-79.8184,-79.9418)
FOOTPRINT_POINT_LONGITUDE = (218.533,220.386,222.813,224.861, 226.223,227.512,227.605,227.907,228.725 ,229.223,229.704,230.136,230.454, 230.852,231.043,231.232,231.416,231.593 ,231.769,231.932,232.095,232.334, 232.486,232.634,232.777,232.922,233.059 ,233.193,233.325,233.453,233.578,233.7, 233.883,234.0,234.161,234.27,234.377, 234.532,234.633,234.733,234.83,234.924, 235.017,235.152,235.241,235.327,235.411 ,235.534,235.573,235.598,234.972, 234.345,233.408,232.786,232.042,231.176 ,230.01,229.276,229.215,229.193,229.082 ,228.968,228.848,228.73,228.544,228.358 ,228.232,228.1,227.895,227.755,227.612, 227.465,227.239,227.085,226.925,226.763 ,226.596,226.424,226.161,225.979,225.7, 225.508,225.311,225.007,224.798,224.473 ,224.251,223.905,223.666,223.3,223.046, 222.517,222.102,221.519,220.906,220.418 ,219.565,218.828,218.639,218.533)
ORBIT_NUMBER = 6775
ORBITAL_ECCENTRICITY = 0.576
ORBITAL_INCLINATION = 86.78
ORBITAL_SEMIMAJOR_AXIS = 8690.47
PERIAPSIS_ALTITUDE = 309.33
PERIAPSIS_ARGUMENT_ANGLE = 248.79
PERIAPSIS_TIME = 2009-04-13T08:09:34.000Z
SPACECRAFT_ORIENTATION = (0.0,-1.0,0.0)
^MEX_ORIENTATION_DESC = "MEX_ORIENTATION_DESC.TXT"
SPACECRAFT_POINTING_MODE = NADIR
^MEX_POINTING_DESC = "MEX_POINTING_DESC.TXT"
RIGHT_ASCENSION = -1e+32
DECLINATION = -1e+32
OFFSET_ANGLE = -1e+32
SPACECRAFT_SOLAR_DISTANCE = 2.06715e+08
TARGET_NAME = MARS
/* CAMERA DATA ELEMENTS */
DETECTOR_TEMPERATURE = 17.5549
FOCAL_PLANE_TEMPERATURE = 8.5833
INST_CMPRS_NAME = "DISCRETE COSINE TRANSFORMATION (DCT)"
INST_CMPRS_RATIO = 16.9348
INST_CMPRS_QUALITY = 0
INST_CMPRS_QUANTZ_TBL_ID = 0
INSTRUMENT_TEMPERATURE = 11.234
LENS_TEMPERATURE = 8.9911
MACROPIXEL_SIZE = 2
MISSING_FRAMES = 0
PIXEL_SUBSAMPLING_FLAG = N
SIGNAL_CHAIN_ID = 3
/* RADIOMETRIC DATA ELEMENTS */
BANDWIDTH = 174.0
CENTER_FILTER_WAVELENGTH = 675.0
RADIANCE_OFFSET = 5.79015
RADIANCE_SCALING_FACTOR = 0.0260261
REFLECTANCE_SCALING_FACTOR = 0.00059819
MEX:REFLECTANCE_OFFSET = 0.133082
/* IMAGE OBJECT DEFINITIONS */
OBJECT = IMAGE
  INTERCHANGE_FORMAT = BINARY
  LINES = 12498
  LINE_SAMPLES = 4968
  SAMPLE_TYPE = UNSIGNED_INTEGER
  SAMPLE_BITS = 8
  BANDS = 1
  BAND_STORAGE_TYPE = BAND_SEQUENTIAL
  MAXIMUM = 255
  MEAN = 138.444
  MINIMUM = 1
  STANDARD_DEVIATION = 47.9001
END_OBJECT = IMAGE
/* MAP OBJECT DEFINITIONS */
OBJECT = IMAGE_MAP_PROJECTION
  ^DATA_SET_MAP_PROJECTION_CATALOG= "DSMAP.CAT"
  A_AXIS_RADIUS = 3396.0
  B_AXIS_RADIUS = 3396.0
  C_AXIS_RADIUS = 3396.0
  CENTER_LATITUDE = 0.0
  CENTER_LONGITUDE = 229.0
  COORDINATE_SYSTEM_NAME = PLANETOGRAPHIC
  COORDINATE_SYSTEM_TYPE = "BODY-FIXED ROTATING"
  EASTERNMOST_LONGITUDE = 235.598
  FIRST_STANDARD_PARALLEL = "N/A"
  LINE_FIRST_PIXEL = 1
  LINE_LAST_PIXEL = 12498
  LINE_PROJECTION_OFFSET = -82809.75
  MAP_PROJECTION_ROTATION = 0.0
  MAP_PROJECTION_TYPE = SINUSOIDAL
  MAP_RESOLUTION = 1185.42760773333
  MAP_SCALE = 0.05
  MAXIMUM_LATITUDE = -69.88209999999999
  MINIMUM_LATITUDE = -80.46899999999999
  POSITIVE_LONGITUDE_DIRECTION = EAST
  REFERENCE_LATITUDE = "N/A"
  REFERENCE_LONGITUDE = "N/A"
  SAMPLE_FIRST_PIXEL = 1
  SAMPLE_LAST_PIXEL = 4968
  SAMPLE_PROJECTION_OFFSET = 2231.25
  SECOND_STANDARD_PARALLEL = "N/A"
  WESTERNMOST_LONGITUDE = 218.533
END_OBJECT = IMAGE_MAP_PROJECTION
END
