PDS_VERSION_ID = PDS3
/* FILE DATA ELEMENTS */
RECORD_TYPE = UNDEFINED
/* POINTERS TO DATA OBJECTS */
^IMAGE = ("H6763_0000_IR4.TIF")
/* IDENTIFICATION DATA ELEMENTS */
DATA_SET_ID = "MEX-M-HRSC-4-REFDR-MAPPROJECT-EXT2-V4.0"
DATA_SET_NAME = "MARS EXPRESS HRSC MAP PROJECTED REFDR EXTENSION2 V4.0"
DETECTOR_ID = MEX_HRSC_IR
EVENT_TYPE = "MARS-REGIONAL-MAPPING-Im-Pf"
INSTRUMENT_HOST_ID = MEX
INSTRUMENT_HOST_NAME = "MARS EXPRESS"
INSTRUMENT_ID = HRSC
INSTRUMENT_NAME = "HIGH RESOLUTION STEREO CAMERA"
MISSION_NAME = "MARS EXPRESS"
MISSION_PHASE_NAME = ME_Phase_16
PROCESSING_LEVEL_ID = 4
PRODUCT_CREATION_TIME = 2023-02-05T17:30:49.000Z
PRODUCT_ID = "H6763_0000_IR4.TIF"
RELEASE_ID = 0007
REVISION_ID = 0000
/* QUALITY DATA ELEMENTS */
DATA_QUALITY_ID = 1
DATA_QUALITY_DESC = "Data calculated based on original SPICE kernels"
/* TIME DATA ELEMENTS */
SPACECRAFT_CLOCK_START_COUNT = "1/0187392971.08379"
SPACECRAFT_CLOCK_STOP_COUNT = "1/0187393621.20343"
START_TIME = 2009-04-09T21:36:24.823Z
STOP_TIME = 2009-04-09T21:41:24.758Z
/* ORBITAL DATA ELEMENTS */
ASCENDING_NODE_LONGITUDE = 88.73
MAXIMUM_RESOLUTION = 0.0567
FOOTPRINT_POINT_LATITUDE = (-64.4911,-64.5717,-64.6329,-64.665, -64.6917,-64.7152,-64.7163,-64.6414, -63.8567,-63.2215,-62.898,-62.573, -62.2456,-61.916,-61.5834,-61.2491, -60.8957,-60.5547,-60.2124,-59.8686, -59.5204,-59.1691,-58.8156,-58.2921, -57.9415,-57.5922,-57.2452,-56.7287, -56.3799,-56.0331,-55.6889,-55.1759, -54.6635,-54.322,-53.9819,-53.476, -53.1387,-52.6297,-52.2926,-51.9581, -51.4611,-51.1282,-50.6314,-50.1357, -49.6426,-49.3156,-48.8265,-48.0161, -47.8543,-47.7857,-47.7906,-47.7861, -47.7778,-47.7657,-47.7346,-47.6796, -47.677,-47.6769,-48.4778,-49.1255, -49.4514,-49.9371,-50.2678,-50.7604, -51.0894,-51.4198,-51.9133,-52.2455, -52.58,-52.9196,-53.2544,-53.587, -53.9269,-54.2639,-54.7709,-55.1101, -55.4507,-55.7922,-56.1352,-56.65, -56.9936,-57.3393,-57.6854,-58.0326, -58.3809,-58.7294,-59.0795,-59.4274, -59.7729,-60.1151,-60.6248,-60.9744, -61.3067,-61.6397,-62.2906,-62.9343, -63.5685,-64.1923,-64.3481,-64.4911)
FOOTPRINT_POINT_LONGITUDE = (1.76106,3.16184,4.46784,5.30732, 6.15017,7.10345,7.15653,7.25903,7.40017 ,7.50518,7.5581,7.60981,7.65953,7.70784 ,7.7562,7.80255,7.85109,7.89632,7.93985 ,7.98131,8.02286,8.06382,8.10513, 8.16029,8.19782,8.23374,8.2674,8.314, 8.34817,8.3805,8.41037,8.45231,8.49319, 8.52017,8.54588,8.58117,8.60452,8.64145 ,8.66433,8.68531,8.71355,8.73335, 8.76126,8.78843,8.81385,8.82974,8.85278 ,8.88835,8.89532,8.89825,8.26841, 7.32457,6.59166,5.96409,4.97087,3.5635, 3.51135,3.49256,3.47718,3.46242,3.45404 ,3.43792,3.42837,3.41019,3.39671,3.3824 ,3.35754,3.34046,3.32288,3.30585, 3.28541,3.26249,3.24098,3.21667,3.17769 ,3.15008,3.12127,3.09106,3.05957, 3.00894,2.9729,2.9357,2.89661,2.8558, 2.81329,2.76861,2.72222,2.67405,2.6244, 2.57278,2.49321,2.43493,2.37781,2.32002 ,2.19593,2.06581,1.92884,1.78356, 1.74614,1.76106)
ORBIT_NUMBER = 6763
ORBITAL_ECCENTRICITY = 0.575
ORBITAL_INCLINATION = 86.77
ORBITAL_SEMIMAJOR_AXIS = 8686.51
PERIAPSIS_ALTITUDE = 310.01
PERIAPSIS_ARGUMENT_ANGLE = 250.83
PERIAPSIS_TIME = 2009-04-09T21:25:22.000Z
SPACECRAFT_ORIENTATION = (0.0,-1.0,0.0)
^MEX_ORIENTATION_DESC = "MEX_ORIENTATION_DESC.TXT"
SPACECRAFT_POINTING_MODE = ACROSSTRACK
^MEX_POINTING_DESC = "MEX_POINTING_DESC.TXT"
RIGHT_ASCENSION = -1e+32
DECLINATION = -1e+32
OFFSET_ANGLE = -0.15
SPACECRAFT_SOLAR_DISTANCE = 2.06788e+08
TARGET_NAME = MARS
/* CAMERA DATA ELEMENTS */
DETECTOR_TEMPERATURE = 17.5549
FOCAL_PLANE_TEMPERATURE = 8.7872
INST_CMPRS_NAME = "DISCRETE COSINE TRANSFORMATION (DCT)"
INST_CMPRS_RATIO = 7.33434
INST_CMPRS_QUALITY = 0
INST_CMPRS_QUANTZ_TBL_ID = 0
INSTRUMENT_TEMPERATURE = 11.234
LENS_TEMPERATURE = 10.0106
MACROPIXEL_SIZE = 2
PIXEL_SUBSAMPLING_FLAG = N
SIGNAL_CHAIN_ID = 3
/* RADIOMETRIC DATA ELEMENTS */
BANDWIDTH = 81.0
CENTER_FILTER_WAVELENGTH = 955.5
RADIANCE_OFFSET = 1.79596
RADIANCE_SCALING_FACTOR = 0.00300363
REFLECTANCE_SCALING_FACTOR = 0.000277092
MEX:REFLECTANCE_OFFSET = 0.165682
/* IMAGE OBJECT DEFINITIONS */
OBJECT = IMAGE
  INTERCHANGE_FORMAT = BINARY
  LINES = 20094
  LINE_SAMPLES = 4901
  SAMPLE_TYPE = UNSIGNED_INTEGER
  SAMPLE_BITS = 8
  BANDS = 1
  BAND_STORAGE_TYPE = BAND_SEQUENTIAL
  MAXIMUM = 254
  MEAN = 147.325
  MINIMUM = 1
  STANDARD_DEVIATION = 32.6419
END_OBJECT = IMAGE
/* MAP OBJECT DEFINITIONS */
OBJECT = IMAGE_MAP_PROJECTION
  ^DATA_SET_MAP_PROJECTION_CATALOG= "DSMAP.CAT"
  A_AXIS_RADIUS = 3396.0
  B_AXIS_RADIUS = 3396.0
  C_AXIS_RADIUS = 3396.0
  CENTER_LATITUDE = 0.0
  CENTER_LONGITUDE = 6.0
  COORDINATE_SYSTEM_NAME = PLANETOGRAPHIC
  COORDINATE_SYSTEM_TYPE = "BODY-FIXED ROTATING"
  EASTERNMOST_LONGITUDE = 8.898250000000001
  FIRST_STANDARD_PARALLEL = "N/A"
  LINE_FIRST_PIXEL = 1
  LINE_LAST_PIXEL = 20094
  LINE_PROJECTION_OFFSET = -56515.25
  MAP_PROJECTION_ROTATION = 0.0
  MAP_PROJECTION_TYPE = SINUSOIDAL
  MAP_RESOLUTION = 1185.42760773333
  MAP_SCALE = 0.05
  MAXIMUM_LATITUDE = -47.6769
  MINIMUM_LATITUDE = -64.7163
  POSITIVE_LONGITUDE_DIRECTION = EAST
  REFERENCE_LATITUDE = "N/A"
  REFERENCE_LONGITUDE = "N/A"
  SAMPLE_FIRST_PIXEL = 1
  SAMPLE_LAST_PIXEL = 4901
  SAMPLE_PROJECTION_OFFSET = 2340.75
  SECOND_STANDARD_PARALLEL = "N/A"
  WESTERNMOST_LONGITUDE = 1.74614
END_OBJECT = IMAGE_MAP_PROJECTION
END
