PDS_VERSION_ID = PDS3
/* FILE DATA ELEMENTS */
RECORD_TYPE = UNDEFINED
/* POINTERS TO DATA OBJECTS */
^IMAGE = ("H6761_0000_P24.TIF")
/* IDENTIFICATION DATA ELEMENTS */
DATA_SET_ID = "MEX-M-HRSC-4-REFDR-MAPPROJECT-EXT2-V4.0"
DATA_SET_NAME = "MARS EXPRESS HRSC MAP PROJECTED REFDR EXTENSION2 V4.0"
DETECTOR_ID = MEX_HRSC_P2
EVENT_TYPE = "MARS-REGIONAL-MAPPING-Im-Gl-La"
INSTRUMENT_HOST_ID = MEX
INSTRUMENT_HOST_NAME = "MARS EXPRESS"
INSTRUMENT_ID = HRSC
INSTRUMENT_NAME = "HIGH RESOLUTION STEREO CAMERA"
MISSION_NAME = "MARS EXPRESS"
MISSION_PHASE_NAME = ME_Phase_16
PROCESSING_LEVEL_ID = 4
PRODUCT_CREATION_TIME = 2023-02-05T17:30:49.000Z
PRODUCT_ID = "H6761_0000_P24.TIF"
RELEASE_ID = 0007
REVISION_ID = 0000
/* QUALITY DATA ELEMENTS */
DATA_QUALITY_ID = 1
DATA_QUALITY_DESC = "Data calculated based on original SPICE kernels"
/* TIME DATA ELEMENTS */
SPACECRAFT_CLOCK_START_COUNT = "1/0187343022.09086"
SPACECRAFT_CLOCK_STOP_COUNT = "1/0187343377.05522"
START_TIME = 2009-04-09T07:44:53.214Z
STOP_TIME = 2009-04-09T07:49:08.066Z
/* ORBITAL DATA ELEMENTS */
ASCENDING_NODE_LONGITUDE = 88.77
MAXIMUM_RESOLUTION = 0.0377
FOOTPRINT_POINT_LATITUDE = (-82.918,-83.093,-83.3059,-83.5657, -83.5707,-83.648,-83.3055,-82.9564, -82.487,-82.2478,-82.0074,-81.7671, -81.5221,-81.2766,-80.9058,-80.6554, -80.4051,-80.0231,-79.7682,-79.3801, -79.1212,-78.7265,-78.4631,-78.1959, -77.7946,-77.3895,-76.9774,-76.7019, -76.4235,-76.1436,-75.8614,-75.5791, -75.2932,-75.0057,-74.7155,-74.2775, -73.9834,-73.6866,-73.2376,-72.7839, -72.4788,-72.1697,-71.8587,-71.3902, -71.0762,-70.7597,-70.4416,-70.121, -69.9586,-69.9571,-69.9281,-69.8741, -69.8198,-69.7431,-69.6771,-69.6732, -69.6725,-69.9917,-70.3087,-70.6224, -70.9342,-71.2442,-71.5512,-71.8554, -72.1581,-72.4576,-72.9031,-73.197, -73.4881,-73.7856,-74.076,-74.5028, -74.9219,-75.2044,-75.4824,-75.758, -76.0324,-76.3049,-76.5739,-76.8423, -77.1076,-77.5042,-77.7648,-78.0243, -78.2802,-78.6622,-78.9133,-79.2886, -79.5347,-79.7811,-80.0224,-80.2621, -80.62,-80.9713,-81.2043,-81.6595, -82.3249,-82.8611,-82.9662,-82.918)
FOOTPRINT_POINT_LONGITUDE = (183.545,186.112,189.752,195.427, 195.556,195.795,196.814,197.744,198.852 ,199.363,199.843,200.295,200.728, 201.136,201.71,202.07,202.411,202.895, 203.198,203.631,203.903,204.291,204.535 ,204.77,205.105,205.428,205.724,205.914 ,206.097,206.273,206.444,206.61,206.77, 206.922,207.071,207.285,207.422,207.555 ,207.746,207.929,208.046,208.158, 208.266,208.426,208.53,208.632,208.731, 208.827,208.874,208.875,207.716,206.155 ,204.812,203.213,202.023,201.957, 201.933,201.802,201.666,201.526,201.381 ,201.232,201.078,200.92,200.756,200.587 ,200.323,200.141,199.953,199.743, 199.536,199.219,198.891,198.652,198.408 ,198.158,197.895,197.623,197.343, 197.051,196.748,196.268,195.934,195.586 ,195.226,194.655,194.255,193.619, 193.173,192.703,192.22,191.713,190.9, 190.032,189.413,188.092,185.836,183.661 ,183.189,183.545)
ORBIT_NUMBER = 6761
ORBITAL_ECCENTRICITY = 0.576
ORBITAL_INCLINATION = 86.77
ORBITAL_SEMIMAJOR_AXIS = 8687.69
PERIAPSIS_ALTITUDE = 309.12
PERIAPSIS_ARGUMENT_ANGLE = 251.2
PERIAPSIS_TIME = 2009-04-09T07:38:01.000Z
SPACECRAFT_ORIENTATION = (0.0,-1.0,0.0)
^MEX_ORIENTATION_DESC = "MEX_ORIENTATION_DESC.TXT"
SPACECRAFT_POINTING_MODE = ACROSSTRACK
^MEX_POINTING_DESC = "MEX_POINTING_DESC.TXT"
RIGHT_ASCENSION = -1e+32
DECLINATION = -1e+32
OFFSET_ANGLE = -0.4
SPACECRAFT_SOLAR_DISTANCE = 2.06803e+08
TARGET_NAME = MARS
/* CAMERA DATA ELEMENTS */
DETECTOR_TEMPERATURE = 19.5939
FOCAL_PLANE_TEMPERATURE = 8.3794
INST_CMPRS_NAME = "DISCRETE COSINE TRANSFORMATION (DCT)"
INST_CMPRS_RATIO = 4.77745
INST_CMPRS_QUALITY = 0
INST_CMPRS_QUANTZ_TBL_ID = 0
INSTRUMENT_TEMPERATURE = 11.4379
LENS_TEMPERATURE = 8.7872
MACROPIXEL_SIZE = 2
MISSING_FRAMES = 0
PIXEL_SUBSAMPLING_FLAG = N
SIGNAL_CHAIN_ID = 3
/* RADIOMETRIC DATA ELEMENTS */
BANDWIDTH = 177.0
CENTER_FILTER_WAVELENGTH = 676.5
RADIANCE_OFFSET = 6.41635
RADIANCE_SCALING_FACTOR = 0.0271567
REFLECTANCE_SCALING_FACTOR = 0.000615811
MEX:REFLECTANCE_OFFSET = 0.145498
/* IMAGE OBJECT DEFINITIONS */
OBJECT = IMAGE
  INTERCHANGE_FORMAT = BINARY
  LINES = 33088
  LINE_SAMPLES = 11253
  SAMPLE_TYPE = UNSIGNED_INTEGER
  SAMPLE_BITS = 8
  BANDS = 1
  BAND_STORAGE_TYPE = BAND_SEQUENTIAL
  MAXIMUM = 255
  MEAN = 123.435
  MINIMUM = 1
  STANDARD_DEVIATION = 43.0803
END_OBJECT = IMAGE
/* MAP OBJECT DEFINITIONS */
OBJECT = IMAGE_MAP_PROJECTION
  ^DATA_SET_MAP_PROJECTION_CATALOG= "DSMAP.CAT"
  A_AXIS_RADIUS = 3396.0
  B_AXIS_RADIUS = 3396.0
  C_AXIS_RADIUS = 3396.0
  CENTER_LATITUDE = 0.0
  CENTER_LONGITUDE = 201.0
  COORDINATE_SYSTEM_NAME = PLANETOGRAPHIC
  COORDINATE_SYSTEM_TYPE = "BODY-FIXED ROTATING"
  EASTERNMOST_LONGITUDE = 208.875
  FIRST_STANDARD_PARALLEL = "N/A"
  LINE_FIRST_PIXEL = 1
  LINE_LAST_PIXEL = 33088
  LINE_PROJECTION_OFFSET = -165254.75
  MAP_PROJECTION_ROTATION = 0.0
  MAP_PROJECTION_TYPE = SINUSOIDAL
  MAP_RESOLUTION = 2370.85521546667
  MAP_SCALE = 0.025
  MAXIMUM_LATITUDE = -69.6725
  MINIMUM_LATITUDE = -83.648
  POSITIVE_LONGITUDE_DIRECTION = EAST
  REFERENCE_LATITUDE = "N/A"
  REFERENCE_LONGITUDE = "N/A"
  SAMPLE_FIRST_PIXEL = 1
  SAMPLE_LAST_PIXEL = 11253
  SAMPLE_PROJECTION_OFFSET = 5109.25
  SECOND_STANDARD_PARALLEL = "N/A"
  WESTERNMOST_LONGITUDE = 183.189
END_OBJECT = IMAGE_MAP_PROJECTION
END
