PDS_VERSION_ID = PDS3
/* FILE DATA ELEMENTS */
RECORD_TYPE = UNDEFINED
/* POINTERS TO DATA OBJECTS */
^IMAGE = ("H6759_0000_P14.TIF")
/* IDENTIFICATION DATA ELEMENTS */
DATA_SET_ID = "MEX-M-HRSC-4-REFDR-MAPPROJECT-EXT2-V4.0"
DATA_SET_NAME = "MARS EXPRESS HRSC MAP PROJECTED REFDR EXTENSION2 V4.0"
DETECTOR_ID = MEX_HRSC_P1
EVENT_TYPE = "MARS-REGIONAL-MAPPING-Te-Gl-La"
INSTRUMENT_HOST_ID = MEX
INSTRUMENT_HOST_NAME = "MARS EXPRESS"
INSTRUMENT_ID = HRSC
INSTRUMENT_NAME = "HIGH RESOLUTION STEREO CAMERA"
MISSION_NAME = "MARS EXPRESS"
MISSION_PHASE_NAME = ME_Phase_16
PROCESSING_LEVEL_ID = 4
PRODUCT_CREATION_TIME = 2023-02-05T17:30:49.000Z
PRODUCT_ID = "H6759_0000_P14.TIF"
RELEASE_ID = 0007
REVISION_ID = 0000
/* QUALITY DATA ELEMENTS */
DATA_QUALITY_ID = 1
DATA_QUALITY_DESC = "Data calculated based on original SPICE kernels"
/* TIME DATA ELEMENTS */
SPACECRAFT_CLOCK_START_COUNT = "1/0187293345.07290"
SPACECRAFT_CLOCK_STOP_COUNT = "1/0187293638.22661"
START_TIME = 2009-04-08T17:56:00.038Z
STOP_TIME = 2009-04-08T17:58:59.906Z
/* ORBITAL DATA ELEMENTS */
ASCENDING_NODE_LONGITUDE = 88.81
MAXIMUM_RESOLUTION = 0.0328
FOOTPRINT_POINT_LATITUDE = (-84.3901,-84.6118,-84.7562,-85.0045, -85.2174,-85.2244,-85.1907,-84.8445, -84.2962,-83.9225,-83.537,-83.3409, -83.0456,-82.848,-82.6452,-82.4406, -82.2355,-82.0308,-81.7176,-81.5071, -81.2952,-81.0831,-80.8681,-80.6505, -80.3234,-79.9938,-79.7706,-79.5453, -79.3234,-79.0961,-78.8668,-78.6379, -78.4088,-78.0574,-77.8229,-77.4689, -77.2294,-76.9906,-76.6264,-76.3827, -76.14,-75.8895,-75.5155,-75.2674, -74.8907,-74.6364,-74.3764,-74.2469, -74.2351,-74.1756,-74.1346,-74.094, -74.0349,-73.9805,-73.8874,-73.8829, -73.8819,-74.2628,-74.6363,-74.8851, -75.1308,-75.3746,-75.6186,-75.8588, -76.2173,-76.4559,-76.6908,-76.9244, -77.159,-77.3854,-77.6134,-77.8412, -78.1775,-78.3997,-78.6216,-78.8414, -79.0577,-79.2741,-79.5965,-79.8061, -80.1205,-80.329,-80.5343,-80.7366, -80.9375,-81.1385,-81.338,-81.6281, -81.8201,-82.011,-82.2928,-82.4757, -82.6576,-82.9274,-83.3584,-83.6913, -83.9341,-84.2451,-84.3208,-84.3901)
FOOTPRINT_POINT_LONGITUDE = (11.6907,14.1794,15.9907,19.5547, 23.2184,23.3506,24.0597,26.4668,29.6078 ,31.3791,32.9686,33.702,34.7174,35.3448 ,35.9497,36.5286,37.0758,37.5878, 38.3233,38.7805,39.2215,39.6398,40.0429 ,40.4303,40.9791,41.4927,41.8199, 42.1411,42.4334,42.7256,43.0079,43.2768 ,43.5349,43.9111,44.15,44.4912,44.7117, 44.9213,45.2305,45.4247,45.609,45.8013, 46.0677,46.2326,46.4694,46.6289,46.7888 ,46.8652,46.872,45.3753,44.4702,43.634, 42.6142,41.7264,40.3428,40.2802,40.2572 ,39.9426,39.6164,39.3886,39.1563, 38.9161,38.6668,38.412,38.0137,37.7364, 37.4539,37.1595,36.854,36.5405,36.2164, 35.8792,35.355,34.9903,34.6102,34.217, 33.8134,33.3925,32.726,32.268,31.5425, 31.0312,30.502,29.9557,29.3838,28.7847, 28.1589,27.1838,26.4939,25.7695,24.6236 ,23.8244,22.9835,21.6391,19.1969, 17.0196,15.2285,12.654,11.9673,11.6907)
ORBIT_NUMBER = 6759
ORBITAL_ECCENTRICITY = 0.575
ORBITAL_INCLINATION = 86.76
ORBITAL_SEMIMAJOR_AXIS = 8686.01
PERIAPSIS_ALTITUDE = 309.39
PERIAPSIS_ARGUMENT_ANGLE = 251.54
PERIAPSIS_TIME = 2009-04-08T17:50:38.000Z
SPACECRAFT_ORIENTATION = (0.0,-1.0,0.0)
^MEX_ORIENTATION_DESC = "MEX_ORIENTATION_DESC.TXT"
SPACECRAFT_POINTING_MODE = NADIR
^MEX_POINTING_DESC = "MEX_POINTING_DESC.TXT"
RIGHT_ASCENSION = -1e+32
DECLINATION = -1e+32
OFFSET_ANGLE = -1e+32
SPACECRAFT_SOLAR_DISTANCE = 2.06818e+08
TARGET_NAME = MARS
/* CAMERA DATA ELEMENTS */
DETECTOR_TEMPERATURE = 17.1471
FOCAL_PLANE_TEMPERATURE = 7.9716
INST_CMPRS_NAME = "DISCRETE COSINE TRANSFORMATION (DCT)"
INST_CMPRS_RATIO = 18.6971
INST_CMPRS_QUALITY = 0
INST_CMPRS_QUANTZ_TBL_ID = 0
INSTRUMENT_TEMPERATURE = 11.0301
LENS_TEMPERATURE = 8.5833
MACROPIXEL_SIZE = 2
MISSING_FRAMES = 0
PIXEL_SUBSAMPLING_FLAG = N
SIGNAL_CHAIN_ID = 3
/* RADIOMETRIC DATA ELEMENTS */
BANDWIDTH = 174.0
CENTER_FILTER_WAVELENGTH = 675.0
RADIANCE_OFFSET = 7.50459
RADIANCE_SCALING_FACTOR = 0.0295897
REFLECTANCE_SCALING_FACTOR = 0.000680776
MEX:REFLECTANCE_OFFSET = 0.17266
/* IMAGE OBJECT DEFINITIONS */
OBJECT = IMAGE
  INTERCHANGE_FORMAT = BINARY
  LINES = 26857
  LINE_SAMPLES = 12415
  SAMPLE_TYPE = UNSIGNED_INTEGER
  SAMPLE_BITS = 8
  BANDS = 1
  BAND_STORAGE_TYPE = BAND_SEQUENTIAL
  MAXIMUM = 255
  MEAN = 170.472
  MINIMUM = 1
  STANDARD_DEVIATION = 47.6424
END_OBJECT = IMAGE
/* MAP OBJECT DEFINITIONS */
OBJECT = IMAGE_MAP_PROJECTION
  ^DATA_SET_MAP_PROJECTION_CATALOG= "DSMAP.CAT"
  A_AXIS_RADIUS = 3396.0
  B_AXIS_RADIUS = 3396.0
  C_AXIS_RADIUS = 3396.0
  CENTER_LATITUDE = 0.0
  CENTER_LONGITUDE = 37.0
  COORDINATE_SYSTEM_NAME = PLANETOGRAPHIC
  COORDINATE_SYSTEM_TYPE = "BODY-FIXED ROTATING"
  EASTERNMOST_LONGITUDE = 46.872
  FIRST_STANDARD_PARALLEL = "N/A"
  LINE_FIRST_PIXEL = 1
  LINE_LAST_PIXEL = 26857
  LINE_PROJECTION_OFFSET = -175110.75
  MAP_PROJECTION_ROTATION = 0.0
  MAP_PROJECTION_TYPE = SINUSOIDAL
  MAP_RESOLUTION = 2370.85521546667
  MAP_SCALE = 0.025
  MAXIMUM_LATITUDE = -73.8819
  MINIMUM_LATITUDE = -85.2244
  POSITIVE_LONGITUDE_DIRECTION = EAST
  REFERENCE_LATITUDE = "N/A"
  REFERENCE_LONGITUDE = "N/A"
  SAMPLE_FIRST_PIXEL = 1
  SAMPLE_LAST_PIXEL = 12415
  SAMPLE_PROJECTION_OFFSET = 5930.75
  SECOND_STANDARD_PARALLEL = "N/A"
  WESTERNMOST_LONGITUDE = 11.6907
END_OBJECT = IMAGE_MAP_PROJECTION
END
