PDS_VERSION_ID = PDS3
/* FILE DATA ELEMENTS */
RECORD_TYPE = UNDEFINED
/* POINTERS TO DATA OBJECTS */
^IMAGE = ("H6742_0001_RE4.TIF")
/* IDENTIFICATION DATA ELEMENTS */
DATA_SET_ID = "MEX-M-HRSC-4-REFDR-MAPPROJECT-EXT2-V4.0"
DATA_SET_NAME = "MARS EXPRESS HRSC MAP PROJECTED REFDR EXTENSION2 V4.0"
DETECTOR_ID = MEX_HRSC_RED
EVENT_TYPE = "MARS-REGIONAL-MAPPING-Im-Fl-Pf"
INSTRUMENT_HOST_ID = MEX
INSTRUMENT_HOST_NAME = "MARS EXPRESS"
INSTRUMENT_ID = HRSC
INSTRUMENT_NAME = "HIGH RESOLUTION STEREO CAMERA"
MISSION_NAME = "MARS EXPRESS"
MISSION_PHASE_NAME = ME_Phase_16
PROCESSING_LEVEL_ID = 4
PRODUCT_CREATION_TIME = 2023-02-05T17:30:49.000Z
PRODUCT_ID = "H6742_0001_RE4.TIF"
RELEASE_ID = 0007
REVISION_ID = 0000
/* QUALITY DATA ELEMENTS */
DATA_QUALITY_ID = 1
DATA_QUALITY_DESC = "Data calculated based on original SPICE kernels"
/* TIME DATA ELEMENTS */
SPACECRAFT_CLOCK_START_COUNT = "1/0186871569.07300"
SPACECRAFT_CLOCK_STOP_COUNT = "1/0186872220.60392"
START_TIME = 2009-04-03T20:47:54.291Z
STOP_TIME = 2009-04-03T20:56:23.386Z
/* ORBITAL DATA ELEMENTS */
ASCENDING_NODE_LONGITUDE = 89.14
MAXIMUM_RESOLUTION = 0.101
FOOTPRINT_POINT_LATITUDE = (-70.9617,-71.1287,-71.2558,-71.2577, -71.3455,-70.5316,-69.7014,-69.2809, -68.862,-68.4286,-67.9959,-67.5592, -67.1186,-66.6726,-66.2234,-65.7692, -65.3091,-64.8455,-64.3763,-63.9015, -63.4225,-62.9386,-62.4515,-61.7101, -61.214,-60.7262,-60.2411,-59.765, -59.2792,-58.7951,-58.3241,-57.6286, -57.1568,-56.4613,-56.0046,-55.5624, -54.8961,-54.2528,-53.8238,-53.3887, -52.9624,-52.5351,-52.1144,-51.6926, -51.0829,-50.2724,-49.4502,-49.2605, -49.0709,-49.0852,-49.0972,-49.0947, -49.0864,-49.0768,-49.0523,-49.0505, -49.0513,-49.8304,-50.6213,-51.429, -52.4586,-52.8764,-53.2978,-53.7234, -54.1522,-54.585,-55.0217,-55.4619, -55.9059,-56.3461,-56.7728,-57.2337, -57.9246,-58.6212,-59.0915,-59.5771, -60.0583,-60.5403,-61.0271,-61.5171, -62.0073,-62.4909,-62.9698,-63.6839, -64.1507,-64.8452,-65.3011,-65.7509, -66.2068,-66.6506,-67.0872,-67.52, -67.9481,-68.3742,-68.7955,-69.2128, -69.6257,-70.6451,-70.8443,-70.9617)
FOOTPRINT_POINT_LONGITUDE = (316.346,319.38,322.576,322.636,322.722 ,323.042,323.34,323.483,323.625,323.754 ,323.883,324.009,324.131,324.248, 324.363,324.475,324.582,324.686,324.788 ,324.887,324.983,325.076,325.169, 325.302,325.387,325.47,325.55,325.629, 325.697,325.761,325.828,325.927,325.982 ,326.064,326.118,326.176,326.255, 326.339,326.39,326.434,326.48,326.521, 326.564,326.602,326.667,326.745,326.805 ,326.827,326.847,325.624,324.83,323.361 ,322.38,321.705,320.352,320.291,320.27, 320.261,320.248,320.226,320.189,320.171 ,320.151,320.128,320.104,320.076, 320.046,320.014,319.978,319.946,319.926 ,319.877,319.803,319.724,319.665, 319.591,319.52,319.447,319.367,319.283, 319.195,319.104,319.008,318.851,318.743 ,318.569,318.448,318.325,318.181, 318.041,317.9,317.752,317.599,317.436, 317.267,317.091,316.908,316.41,316.305, 316.346)
ORBIT_NUMBER = 6742
ORBITAL_ECCENTRICITY = 0.575
ORBITAL_INCLINATION = 86.78
ORBITAL_SEMIMAJOR_AXIS = 8683.5
PERIAPSIS_ALTITUDE = 309.24
PERIAPSIS_ARGUMENT_ANGLE = 254.45
PERIAPSIS_TIME = 2009-04-03T20:38:07.000Z
SPACECRAFT_ORIENTATION = (0.0,-1.0,0.0)
^MEX_ORIENTATION_DESC = "MEX_ORIENTATION_DESC.TXT"
SPACECRAFT_POINTING_MODE = NADIR
^MEX_POINTING_DESC = "MEX_POINTING_DESC.TXT"
RIGHT_ASCENSION = -1e+32
DECLINATION = -1e+32
OFFSET_ANGLE = -1e+32
SPACECRAFT_SOLAR_DISTANCE = 2.06977e+08
TARGET_NAME = MARS
/* CAMERA DATA ELEMENTS */
DETECTOR_TEMPERATURE = 20.2056
FOCAL_PLANE_TEMPERATURE = 8.3794
INST_CMPRS_NAME = "DISCRETE COSINE TRANSFORMATION (DCT)"
INST_CMPRS_RATIO = 15.8329
INST_CMPRS_QUALITY = 0
INST_CMPRS_QUANTZ_TBL_ID = 0
INSTRUMENT_TEMPERATURE = 12.8652
LENS_TEMPERATURE = 8.7872
MACROPIXEL_SIZE = 4
MISSING_FRAMES = 0
PIXEL_SUBSAMPLING_FLAG = N
SIGNAL_CHAIN_ID = 2
/* RADIOMETRIC DATA ELEMENTS */
BANDWIDTH = 48.0
CENTER_FILTER_WAVELENGTH = 748.0
RADIANCE_OFFSET = 2.0535
RADIANCE_SCALING_FACTOR = 0.0120794
REFLECTANCE_SCALING_FACTOR = 0.00118091
MEX:REFLECTANCE_OFFSET = 0.200755
/* IMAGE OBJECT DEFINITIONS */
OBJECT = IMAGE
  INTERCHANGE_FORMAT = BINARY
  LINES = 13266
  LINE_SAMPLES = 2716
  SAMPLE_TYPE = UNSIGNED_INTEGER
  SAMPLE_BITS = 8
  BANDS = 1
  BAND_STORAGE_TYPE = BAND_SEQUENTIAL
  MAXIMUM = 255
  MEAN = 61.9599
  MINIMUM = 1
  STANDARD_DEVIATION = 41.2578
END_OBJECT = IMAGE
/* MAP OBJECT DEFINITIONS */
OBJECT = IMAGE_MAP_PROJECTION
  ^DATA_SET_MAP_PROJECTION_CATALOG= "DSMAP.CAT"
  A_AXIS_RADIUS = 3396.0
  B_AXIS_RADIUS = 3396.0
  C_AXIS_RADIUS = 3396.0
  CENTER_LATITUDE = 0.0
  CENTER_LONGITUDE = 322.0
  COORDINATE_SYSTEM_NAME = PLANETOGRAPHIC
  COORDINATE_SYSTEM_TYPE = "BODY-FIXED ROTATING"
  EASTERNMOST_LONGITUDE = 326.847
  FIRST_STANDARD_PARALLEL = "N/A"
  LINE_FIRST_PIXEL = 1
  LINE_LAST_PIXEL = 13266
  LINE_PROJECTION_OFFSET = -29030.375
  MAP_PROJECTION_ROTATION = 0.0
  MAP_PROJECTION_TYPE = SINUSOIDAL
  MAP_RESOLUTION = 592.713803866667
  MAP_SCALE = 0.1
  MAXIMUM_LATITUDE = -49.0505
  MINIMUM_LATITUDE = -71.3455
  POSITIVE_LONGITUDE_DIRECTION = EAST
  REFERENCE_LATITUDE = "N/A"
  REFERENCE_LONGITUDE = "N/A"
  SAMPLE_FIRST_PIXEL = 1
  SAMPLE_LAST_PIXEL = 2716
  SAMPLE_PROJECTION_OFFSET = 1071.375
  SECOND_STANDARD_PARALLEL = "N/A"
  WESTERNMOST_LONGITUDE = 316.305
END_OBJECT = IMAGE_MAP_PROJECTION
END
