PDS_VERSION_ID = PDS3
/* FILE DATA ELEMENTS */
RECORD_TYPE = UNDEFINED
/* POINTERS TO DATA OBJECTS */
^IMAGE = ("H6713_0000_S14.TIF")
/* IDENTIFICATION DATA ELEMENTS */
DATA_SET_ID = "MEX-M-HRSC-4-REFDR-MAPPROJECT-EXT2-V4.0"
DATA_SET_NAME = "MARS EXPRESS HRSC MAP PROJECTED REFDR EXTENSION2 V4.0"
DETECTOR_ID = MEX_HRSC_S1
EVENT_TYPE = "MARS-REGIONAL-STEREO-Gl-La-At"
INSTRUMENT_HOST_ID = MEX
INSTRUMENT_HOST_NAME = "MARS EXPRESS"
INSTRUMENT_ID = HRSC
INSTRUMENT_NAME = "HIGH RESOLUTION STEREO CAMERA"
MISSION_NAME = "MARS EXPRESS"
MISSION_PHASE_NAME = ME_Phase_16
PROCESSING_LEVEL_ID = 4
PRODUCT_CREATION_TIME = 2023-02-05T17:30:49.000Z
PRODUCT_ID = "H6713_0000_S14.TIF"
RELEASE_ID = 0007
REVISION_ID = 0000
/* QUALITY DATA ELEMENTS */
DATA_QUALITY_ID = 1
DATA_QUALITY_DESC = "Data calculated based on original SPICE kernels"
/* TIME DATA ELEMENTS */
SPACECRAFT_CLOCK_START_COUNT = "1/0186151636.08229"
SPACECRAFT_CLOCK_STOP_COUNT = "1/0186151827.09078"
START_TIME = 2009-03-26T12:47:18.539Z
STOP_TIME = 2009-03-26T12:48:42.681Z
/* ORBITAL DATA ELEMENTS */
ASCENDING_NODE_LONGITUDE = 89.71
MAXIMUM_RESOLUTION = 0.0162
FOOTPRINT_POINT_LATITUDE = (-74.3894,-74.4505,-74.4898,-74.5282, -74.5656,-74.6019,-74.6372,-74.6715, -74.7048,-74.7371,-74.7685,-74.7989, -74.8284,-74.832,-74.7396,-74.539, -74.2844,-74.0268,-73.8209,-73.6664, -73.4602,-73.2504,-72.9865,-72.7226, -72.5642,-72.4047,-72.2969,-72.1878, -72.0789,-71.9178,-71.7017,-71.5932, -71.4824,-71.3158,-71.2069,-71.0962, -70.9859,-70.8737,-70.7629,-70.6527, -70.5442,-70.431,-70.3179,-70.1481, -69.9786,-69.8664,-69.7543,-69.6397, -69.5243,-69.4087,-69.3507,-69.3439, -69.3201,-69.2827,-69.2558,-69.2313, -69.2025,-69.1727,-69.1342,-69.1062, -69.0546,-69.0208,-68.9613,-68.9566, -68.9545,-69.1256,-69.2398,-69.3535, -69.4656,-69.577,-69.6887,-69.8004, -69.912,-70.0235,-70.1355,-70.2464, -70.3552,-70.4636,-70.5727,-70.7359, -70.901,-71.0097,-71.1189,-71.3312, -71.5451,-71.7581,-72.077,-72.2849, -72.4403,-72.5926,-72.7488,-72.9581, -73.1105,-73.3164,-73.5696,-73.7721, -73.9695,-74.2201,-74.2693,-74.3894)
FOOTPRINT_POINT_LONGITUDE = (355.443,356.057,356.467,356.876, 357.285,357.694,358.103,358.511,358.919 ,359.327,359.735,360.142,360.549,360.6, 360.672,360.847,361.062,361.273,361.436 ,361.556,361.712,361.866,362.055, 362.237,362.344,362.449,362.519,362.589 ,362.658,362.759,362.89,362.955,363.02, 363.116,363.179,363.242,363.303,363.365 ,363.425,363.484,363.542,363.601,363.66 ,363.746,363.831,363.887,363.941, 363.997,364.051,364.106,364.133,364.136 ,363.772,363.271,362.906,362.586,362.22 ,361.853,361.394,361.071,360.517, 360.148,359.545,359.499,359.476,359.379 ,359.314,359.248,359.183,359.116, 359.048,358.98,358.911,358.841,358.77, 358.7,358.628,358.555,358.482,358.37, 358.258,358.18,358.103,357.947,357.788, 357.624,357.372,357.201,357.07,356.932, 356.796,356.611,356.472,356.286,356.04, 355.838,355.625,355.369,355.316, 355.443)
ORBIT_NUMBER = 6713
ORBITAL_ECCENTRICITY = 0.575
ORBITAL_INCLINATION = 86.77
ORBITAL_SEMIMAJOR_AXIS = 8679.64
PERIAPSIS_ALTITUDE = 308.71
PERIAPSIS_ARGUMENT_ANGLE = 259.38
PERIAPSIS_TIME = 2009-03-26T12:41:24.000Z
SPACECRAFT_ORIENTATION = (0.0,-1.0,0.0)
^MEX_ORIENTATION_DESC = "MEX_ORIENTATION_DESC.TXT"
SPACECRAFT_POINTING_MODE = ACROSSTRACK
^MEX_POINTING_DESC = "MEX_POINTING_DESC.TXT"
RIGHT_ASCENSION = -1e+32
DECLINATION = -1e+32
OFFSET_ANGLE = 0.9
SPACECRAFT_SOLAR_DISTANCE = 2.07365e+08
TARGET_NAME = MARS
/* CAMERA DATA ELEMENTS */
DETECTOR_TEMPERATURE = 17.351
FOCAL_PLANE_TEMPERATURE = 8.1755
INST_CMPRS_NAME = "DISCRETE COSINE TRANSFORMATION (DCT)"
INST_CMPRS_RATIO = 10.7593
INST_CMPRS_QUALITY = 0
INST_CMPRS_QUANTZ_TBL_ID = 0
INSTRUMENT_TEMPERATURE = 11.0301
LENS_TEMPERATURE = 8.3794
MACROPIXEL_SIZE = 1
MISSING_FRAMES = 0
PIXEL_SUBSAMPLING_FLAG = N
SIGNAL_CHAIN_ID = 2
/* RADIOMETRIC DATA ELEMENTS */
BANDWIDTH = 180.0
CENTER_FILTER_WAVELENGTH = 677.0
RADIANCE_OFFSET = 7.93229
RADIANCE_SCALING_FACTOR = 0.041557
REFLECTANCE_SCALING_FACTOR = 0.000932305
MEX:REFLECTANCE_OFFSET = 0.177956
/* IMAGE OBJECT DEFINITIONS */
OBJECT = IMAGE
  INTERCHANGE_FORMAT = BINARY
  LINES = 27108
  LINE_SAMPLES = 13493
  SAMPLE_TYPE = UNSIGNED_INTEGER
  SAMPLE_BITS = 8
  BANDS = 1
  BAND_STORAGE_TYPE = BAND_SEQUENTIAL
  MAXIMUM = 255
  MEAN = 191.459
  MINIMUM = 1
  STANDARD_DEVIATION = 71.232
END_OBJECT = IMAGE
/* MAP OBJECT DEFINITIONS */
OBJECT = IMAGE_MAP_PROJECTION
  ^DATA_SET_MAP_PROJECTION_CATALOG= "DSMAP.CAT"
  A_AXIS_RADIUS = 3396.0
  B_AXIS_RADIUS = 3396.0
  C_AXIS_RADIUS = 3396.0
  CENTER_LATITUDE = 0.0
  CENTER_LONGITUDE = 0.0
  COORDINATE_SYSTEM_NAME = PLANETOGRAPHIC
  COORDINATE_SYSTEM_TYPE = "BODY-FIXED ROTATING"
  EASTERNMOST_LONGITUDE = 4.136
  FIRST_STANDARD_PARALLEL = "N/A"
  LINE_FIRST_PIXEL = 1
  LINE_LAST_PIXEL = 27108
  LINE_PROJECTION_OFFSET = -326942.0
  MAP_PROJECTION_ROTATION = 0.0
  MAP_PROJECTION_TYPE = SINUSOIDAL
  MAP_RESOLUTION = 4741.71043093333
  MAP_SCALE = 0.0125
  MAXIMUM_LATITUDE = -68.9545
  MINIMUM_LATITUDE = -74.83199999999999
  POSITIVE_LONGITUDE_DIRECTION = EAST
  REFERENCE_LATITUDE = "N/A"
  REFERENCE_LONGITUDE = "N/A"
  SAMPLE_FIRST_PIXEL = 1
  SAMPLE_LAST_PIXEL = 13493
  SAMPLE_PROJECTION_OFFSET = 6219.0
  SECOND_STANDARD_PARALLEL = "N/A"
  WESTERNMOST_LONGITUDE = -4.684
END_OBJECT = IMAGE_MAP_PROJECTION
END
