PDS_VERSION_ID = PDS3
/* FILE DATA ELEMENTS */
RECORD_TYPE = UNDEFINED
/* POINTERS TO DATA OBJECTS */
^IMAGE = ("H6700_0000_P24.TIF")
/* IDENTIFICATION DATA ELEMENTS */
DATA_SET_ID = "MEX-M-HRSC-4-REFDR-MAPPROJECT-EXT2-V4.0"
DATA_SET_NAME = "MARS EXPRESS HRSC MAP PROJECTED REFDR EXTENSION2 V4.0"
DETECTOR_ID = MEX_HRSC_P2
EVENT_TYPE = "MARS-REGIONAL-MAPPING-Te-Im-Fl"
INSTRUMENT_HOST_ID = MEX
INSTRUMENT_HOST_NAME = "MARS EXPRESS"
INSTRUMENT_ID = HRSC
INSTRUMENT_NAME = "HIGH RESOLUTION STEREO CAMERA"
MISSION_NAME = "MARS EXPRESS"
MISSION_PHASE_NAME = ME_Phase_16
PROCESSING_LEVEL_ID = 4
PRODUCT_CREATION_TIME = 2023-02-05T03:41:04.000Z
PRODUCT_ID = "H6700_0000_P24.TIF"
RELEASE_ID = 0006
REVISION_ID = 0000
/* QUALITY DATA ELEMENTS */
DATA_QUALITY_ID = 1
DATA_QUALITY_DESC = "Data calculated based on original SPICE kernels"
/* TIME DATA ELEMENTS */
SPACECRAFT_CLOCK_START_COUNT = "1/0185829038.09145"
SPACECRAFT_CLOCK_STOP_COUNT = "1/0185829655.40127"
START_TIME = 2009-03-22T19:12:00.341Z
STOP_TIME = 2009-03-22T19:19:56.561Z
/* ORBITAL DATA ELEMENTS */
ASCENDING_NODE_LONGITUDE = 89.96
MAXIMUM_RESOLUTION = 0.0431
FOOTPRINT_POINT_LATITUDE = (-67.9127,-68.0082,-68.0756,-68.131, -68.1326,-68.1956,-67.2846,-66.7299, -65.9835,-65.2166,-64.4402,-63.6492, -62.8437,-62.0225,-61.6066,-61.188, -60.7641,-60.3366,-59.9043,-59.4675, -59.0264,-58.5796,-58.1292,-57.6744, -57.2147,-56.5268,-56.0606,-55.5738, -55.0947,-54.6097,-54.1259,-53.6311, -53.1245,-52.6156,-51.8426,-51.3226, -50.7943,-50.2633,-49.7225,-49.1776, -48.6258,-48.0694,-47.2216,-46.6561, -46.0961,-45.5402,-45.2646,-45.252, -45.2588,-45.2609,-45.2579,-45.2475, -45.2378,-45.2248,-45.2237,-45.2238, -46.0411,-46.5964,-47.1577,-47.7188, -48.2737,-48.8225,-49.3652,-49.9021, -50.4326,-50.9572,-51.4761,-51.9912, -52.4983,-53.0009,-53.4988,-53.991, -54.4774,-54.9596,-55.4355,-55.909, -56.3745,-56.8373,-57.2938,-57.7492, -58.1954,-58.8607,-59.297,-59.7306, -60.1594,-60.5859,-61.0064,-61.4232, -61.8332,-62.4474,-63.2506,-64.0403, -64.8137,-65.5737,-66.1338,-66.6907, -67.2398,-67.7813,-67.9607,-67.9127)
FOOTPRINT_POINT_LONGITUDE = (232.579,234.325,235.795,237.266, 237.312,237.36,237.656,237.825,238.043, 238.247,238.442,238.629,238.806,238.976 ,239.058,239.139,239.217,239.294, 239.369,239.443,239.515,239.584,239.653 ,239.72,239.786,239.888,239.954,240.009 ,240.07,240.13,240.192,240.25,240.303, 240.357,240.437,240.49,240.541,240.593, 240.642,240.692,240.74,240.788,240.858, 240.903,240.947,240.988,241.009,241.01, 240.15,238.883,238.224,237.208,236.495, 235.83,235.779,235.761,235.758,235.75, 235.739,235.727,235.713,235.696,235.678 ,235.656,235.633,235.607,235.579, 235.547,235.515,235.48,235.441,235.401, 235.359,235.314,235.267,235.215,235.165 ,235.11,235.054,234.991,234.932,234.833 ,234.766,234.694,234.62,234.541,234.462 ,234.379,234.298,234.161,233.971, 233.768,233.552,233.324,233.145,232.948 ,232.743,232.53,232.457,232.579)
ORBIT_NUMBER = 6700
ORBITAL_ECCENTRICITY = 0.576
ORBITAL_INCLINATION = 86.78
ORBITAL_SEMIMAJOR_AXIS = 8678.94
PERIAPSIS_ALTITUDE = 307.41
PERIAPSIS_ARGUMENT_ANGLE = 261.61
PERIAPSIS_TIME = 2009-03-22T19:03:38.000Z
SPACECRAFT_ORIENTATION = (0.0,-1.0,0.0)
^MEX_ORIENTATION_DESC = "MEX_ORIENTATION_DESC.TXT"
SPACECRAFT_POINTING_MODE = ACROSSTRACK
^MEX_POINTING_DESC = "MEX_POINTING_DESC.TXT"
RIGHT_ASCENSION = -1e+32
DECLINATION = -1e+32
OFFSET_ANGLE = 0.29
SPACECRAFT_SOLAR_DISTANCE = 2.07586e+08
TARGET_NAME = MARS
/* CAMERA DATA ELEMENTS */
DETECTOR_TEMPERATURE = 18.5744
FOCAL_PLANE_TEMPERATURE = 8.1755
INST_CMPRS_NAME = "DISCRETE COSINE TRANSFORMATION (DCT)"
INST_CMPRS_RATIO = 8.4511
INST_CMPRS_QUALITY = 0
INST_CMPRS_QUANTZ_TBL_ID = 0
INSTRUMENT_TEMPERATURE = 11.234
LENS_TEMPERATURE = 8.5833
MACROPIXEL_SIZE = 2
MISSING_FRAMES = 0
PIXEL_SUBSAMPLING_FLAG = N
SIGNAL_CHAIN_ID = 3
/* RADIOMETRIC DATA ELEMENTS */
BANDWIDTH = 177.0
CENTER_FILTER_WAVELENGTH = 676.5
RADIANCE_OFFSET = 5.93589
RADIANCE_SCALING_FACTOR = 0.0178958
REFLECTANCE_SCALING_FACTOR = 0.000408886
MEX:REFLECTANCE_OFFSET = 0.135624
/* IMAGE OBJECT DEFINITIONS */
OBJECT = IMAGE
  INTERCHANGE_FORMAT = BINARY
  LINES = 27279
  LINE_SAMPLES = 5025
  SAMPLE_TYPE = UNSIGNED_INTEGER
  SAMPLE_BITS = 8
  BANDS = 1
  BAND_STORAGE_TYPE = BAND_SEQUENTIAL
  MAXIMUM = 255
  MEAN = 112.074
  MINIMUM = 1
  STANDARD_DEVIATION = 33.8998
END_OBJECT = IMAGE
/* MAP OBJECT DEFINITIONS */
OBJECT = IMAGE_MAP_PROJECTION
  ^DATA_SET_MAP_PROJECTION_CATALOG= "DSMAP.CAT"
  A_AXIS_RADIUS = 3396.0
  B_AXIS_RADIUS = 3396.0
  C_AXIS_RADIUS = 3396.0
  CENTER_LATITUDE = 0.0
  CENTER_LONGITUDE = 237.0
  COORDINATE_SYSTEM_NAME = PLANETOGRAPHIC
  COORDINATE_SYSTEM_TYPE = "BODY-FIXED ROTATING"
  EASTERNMOST_LONGITUDE = 241.01
  FIRST_STANDARD_PARALLEL = "N/A"
  LINE_FIRST_PIXEL = 1
  LINE_LAST_PIXEL = 27279
  LINE_PROJECTION_OFFSET = -53612.25
  MAP_PROJECTION_ROTATION = 0.0
  MAP_PROJECTION_TYPE = SINUSOIDAL
  MAP_RESOLUTION = 1185.42760773333
  MAP_SCALE = 0.05
  MAXIMUM_LATITUDE = -45.2237
  MINIMUM_LATITUDE = -68.1956
  POSITIVE_LONGITUDE_DIRECTION = EAST
  REFERENCE_LATITUDE = "N/A"
  REFERENCE_LONGITUDE = "N/A"
  SAMPLE_FIRST_PIXEL = 1
  SAMPLE_LAST_PIXEL = 5025
  SAMPLE_PROJECTION_OFFSET = 1965.75
  SECOND_STANDARD_PARALLEL = "N/A"
  WESTERNMOST_LONGITUDE = 232.457
END_OBJECT = IMAGE_MAP_PROJECTION
END
