PDS_VERSION_ID = PDS3
/* FILE DATA ELEMENTS */
RECORD_TYPE = UNDEFINED
/* POINTERS TO DATA OBJECTS */
^IMAGE = ("H6700_0000_GR4.TIF")
/* IDENTIFICATION DATA ELEMENTS */
DATA_SET_ID = "MEX-M-HRSC-4-REFDR-MAPPROJECT-EXT2-V4.0"
DATA_SET_NAME = "MARS EXPRESS HRSC MAP PROJECTED REFDR EXTENSION2 V4.0"
DETECTOR_ID = MEX_HRSC_GREEN
EVENT_TYPE = "MARS-REGIONAL-MAPPING-Te-Im-Fl"
INSTRUMENT_HOST_ID = MEX
INSTRUMENT_HOST_NAME = "MARS EXPRESS"
INSTRUMENT_ID = HRSC
INSTRUMENT_NAME = "HIGH RESOLUTION STEREO CAMERA"
MISSION_NAME = "MARS EXPRESS"
MISSION_PHASE_NAME = ME_Phase_16
PROCESSING_LEVEL_ID = 4
PRODUCT_CREATION_TIME = 2023-02-05T03:41:04.000Z
PRODUCT_ID = "H6700_0000_GR4.TIF"
RELEASE_ID = 0006
REVISION_ID = 0000
/* QUALITY DATA ELEMENTS */
DATA_QUALITY_ID = 1
DATA_QUALITY_DESC = "Data calculated based on original SPICE kernels"
/* TIME DATA ELEMENTS */
SPACECRAFT_CLOCK_START_COUNT = "1/0185829038.09145"
SPACECRAFT_CLOCK_STOP_COUNT = "1/0185829655.40127"
START_TIME = 2009-03-22T19:11:17.584Z
STOP_TIME = 2009-03-22T19:18:11.115Z
/* ORBITAL DATA ELEMENTS */
ASCENDING_NODE_LONGITUDE = 89.96
MAXIMUM_RESOLUTION = 0.078
FOOTPRINT_POINT_LATITUDE = (-68.0235,-68.1618,-68.2571,-68.2588, -68.2472,-67.7123,-66.9877,-66.2509, -65.5028,-64.9319,-64.1589,-63.3722, -62.9725,-62.5702,-62.163,-61.7519, -61.3375,-60.919,-60.4954,-60.068, -59.6367,-59.2014,-58.7613,-58.316, -57.8664,-57.4122,-56.9533,-56.4873, -56.0188,-55.5452,-55.0655,-54.5805, -54.0895,-53.5938,-53.093,-52.5863, -52.0727,-51.5535,-51.0283,-50.4968, -49.9583,-49.4142,-48.8624,-48.3043, -47.7389,-47.1667,-46.5872,-45.7034, -45.4052,-45.321,-45.316,-45.2984, -45.2745,-45.2268,-45.225,-45.2265, -46.1109,-46.6906,-47.263,-47.8289, -48.3872,-48.9394,-49.4844,-50.0233, -50.5554,-51.0814,-51.6016,-52.1152, -52.6226,-53.1247,-53.6212,-54.1123, -54.5971,-55.0779,-55.5531,-56.0227, -56.4871,-56.9467,-57.4009,-57.8507, -58.2964,-58.7371,-59.1737,-59.6063, -60.0334,-60.4559,-60.8746,-61.2905, -61.7017,-62.1078,-62.5115,-63.3052, -64.0848,-64.6603,-65.4159,-66.3421, -67.067,-67.7798,-67.9547,-68.0235)
FOOTPRINT_POINT_LONGITUDE = (232.692,234.98,237.025,237.066,237.126 ,237.302,237.53,237.746,237.945,238.092 ,238.277,238.454,238.54,238.623,238.704 ,238.784,238.861,238.937,239.012, 239.084,239.155,239.224,239.29,239.355, 239.419,239.481,239.542,239.608,239.664 ,239.72,239.776,239.831,239.887,239.939 ,239.989,240.037,240.086,240.133,240.18 ,240.224,240.269,240.311,240.353, 240.394,240.434,240.472,240.51,240.564, 240.582,240.586,239.627,238.456,237.491 ,236.146,236.104,236.09,236.074,236.06, 236.042,236.024,236.003,235.98,235.955, 235.927,235.898,235.867,235.833,235.796 ,235.758,235.718,235.675,235.631, 235.581,235.534,235.484,235.43,235.373, 235.315,235.253,235.19,235.126,235.058, 234.988,234.916,234.841,234.762,234.68, 234.596,234.515,234.424,234.331,234.138 ,233.933,233.772,233.545,233.239, 232.974,232.694,232.621,232.692)
ORBIT_NUMBER = 6700
ORBITAL_ECCENTRICITY = 0.576
ORBITAL_INCLINATION = 86.78
ORBITAL_SEMIMAJOR_AXIS = 8678.94
PERIAPSIS_ALTITUDE = 307.41
PERIAPSIS_ARGUMENT_ANGLE = 261.61
PERIAPSIS_TIME = 2009-03-22T19:03:38.000Z
SPACECRAFT_ORIENTATION = (0.0,-1.0,0.0)
^MEX_ORIENTATION_DESC = "MEX_ORIENTATION_DESC.TXT"
SPACECRAFT_POINTING_MODE = ACROSSTRACK
^MEX_POINTING_DESC = "MEX_POINTING_DESC.TXT"
RIGHT_ASCENSION = -1e+32
DECLINATION = -1e+32
OFFSET_ANGLE = 0.29
SPACECRAFT_SOLAR_DISTANCE = 2.07586e+08
TARGET_NAME = MARS
/* CAMERA DATA ELEMENTS */
DETECTOR_TEMPERATURE = 19.1861
FOCAL_PLANE_TEMPERATURE = 8.1755
INST_CMPRS_NAME = "DISCRETE COSINE TRANSFORMATION (DCT)"
INST_CMPRS_RATIO = 18.9678
INST_CMPRS_QUALITY = 0
INST_CMPRS_QUANTZ_TBL_ID = 0
INSTRUMENT_TEMPERATURE = 11.234
LENS_TEMPERATURE = 8.5833
MACROPIXEL_SIZE = 4
MISSING_FRAMES = 0
PIXEL_SUBSAMPLING_FLAG = N
SIGNAL_CHAIN_ID = 2
/* RADIOMETRIC DATA ELEMENTS */
BANDWIDTH = 88.0
CENTER_FILTER_WAVELENGTH = 538.0
RADIANCE_OFFSET = 2.11314
RADIANCE_SCALING_FACTOR = 0.00571025
REFLECTANCE_SCALING_FACTOR = 0.000211855
MEX:REFLECTANCE_OFFSET = 0.0783993
/* IMAGE OBJECT DEFINITIONS */
OBJECT = IMAGE
  INTERCHANGE_FORMAT = BINARY
  LINES = 13640
  LINE_SAMPLES = 2513
  SAMPLE_TYPE = UNSIGNED_INTEGER
  SAMPLE_BITS = 8
  BANDS = 1
  BAND_STORAGE_TYPE = BAND_SEQUENTIAL
  MAXIMUM = 255
  MEAN = 90.4882
  MINIMUM = 1
  STANDARD_DEVIATION = 32.9606
END_OBJECT = IMAGE
/* MAP OBJECT DEFINITIONS */
OBJECT = IMAGE_MAP_PROJECTION
  ^DATA_SET_MAP_PROJECTION_CATALOG= "DSMAP.CAT"
  A_AXIS_RADIUS = 3396.0
  B_AXIS_RADIUS = 3396.0
  C_AXIS_RADIUS = 3396.0
  CENTER_LATITUDE = 0.0
  CENTER_LONGITUDE = 237.0
  COORDINATE_SYSTEM_NAME = PLANETOGRAPHIC
  COORDINATE_SYSTEM_TYPE = "BODY-FIXED ROTATING"
  EASTERNMOST_LONGITUDE = 240.586
  FIRST_STANDARD_PARALLEL = "N/A"
  LINE_FIRST_PIXEL = 1
  LINE_LAST_PIXEL = 13640
  LINE_PROJECTION_OFFSET = -26806.375
  MAP_PROJECTION_ROTATION = 0.0
  MAP_PROJECTION_TYPE = SINUSOIDAL
  MAP_RESOLUTION = 592.713803866667
  MAP_SCALE = 0.1
  MAXIMUM_LATITUDE = -45.225
  MINIMUM_LATITUDE = -68.25879999999999
  POSITIVE_LONGITUDE_DIRECTION = EAST
  REFERENCE_LATITUDE = "N/A"
  REFERENCE_LONGITUDE = "N/A"
  SAMPLE_FIRST_PIXEL = 1
  SAMPLE_LAST_PIXEL = 2513
  SAMPLE_PROJECTION_OFFSET = 982.625
  SECOND_STANDARD_PARALLEL = "N/A"
  WESTERNMOST_LONGITUDE = 232.621
END_OBJECT = IMAGE_MAP_PROJECTION
END
