PDS_VERSION_ID = PDS3
/* FILE DATA ELEMENTS */
RECORD_TYPE = UNDEFINED
/* POINTERS TO DATA OBJECTS */
^IMAGE = ("H6685_0000_S24.TIF")
/* IDENTIFICATION DATA ELEMENTS */
DATA_SET_ID = "MEX-M-HRSC-4-REFDR-MAPPROJECT-EXT2-V4.0"
DATA_SET_NAME = "MARS EXPRESS HRSC MAP PROJECTED REFDR EXTENSION2 V4.0"
DETECTOR_ID = MEX_HRSC_S2
EVENT_TYPE = "MARS-REGIONAL-STEREO-Gl-La-At"
INSTRUMENT_HOST_ID = MEX
INSTRUMENT_HOST_NAME = "MARS EXPRESS"
INSTRUMENT_ID = HRSC
INSTRUMENT_NAME = "HIGH RESOLUTION STEREO CAMERA"
MISSION_NAME = "MARS EXPRESS"
MISSION_PHASE_NAME = ME_Phase_16
PROCESSING_LEVEL_ID = 4
PRODUCT_CREATION_TIME = 2023-02-05T03:41:04.000Z
PRODUCT_ID = "H6685_0000_S24.TIF"
RELEASE_ID = 0006
REVISION_ID = 0000
/* QUALITY DATA ELEMENTS */
DATA_QUALITY_ID = 1
DATA_QUALITY_DESC = "Data calculated based on original SPICE kernels"
/* TIME DATA ELEMENTS */
SPACECRAFT_CLOCK_START_COUNT = "1/0185456498.09058"
SPACECRAFT_CLOCK_STOP_COUNT = "1/0185456649.33937"
START_TIME = 2009-03-18T11:42:44.192Z
STOP_TIME = 2009-03-18T11:44:09.942Z
/* ORBITAL DATA ELEMENTS */
ASCENDING_NODE_LONGITUDE = 90.25
MAXIMUM_RESOLUTION = 0.0153
FOOTPRINT_POINT_LATITUDE = (-81.0428,-81.1144,-81.1831,-81.249, -81.3118,-81.3714,-81.4413,-81.4447, -81.5635,-81.254,-81.0767,-80.8998, -80.7019,-80.5962,-80.4902,-80.3844, -80.2786,-80.1729,-80.0144,-79.9086, -79.805,-79.6968,-79.5908,-79.4863, -79.3813,-79.2761,-79.1714,-79.0136, -78.8553,-78.7498,-78.5919,-78.4344, -78.3293,-78.2243,-78.12,-78.0155, -77.9111,-77.8068,-77.7026,-77.5466, -77.4425,-77.3388,-77.1829,-77.0788, -76.9742,-76.8183,-76.7146,-76.6107, -76.5069,-76.455,-76.449,-76.427, -76.3882,-76.3636,-76.3208,-76.2848, -76.2598,-76.2112,-76.1811,-76.153, -76.1495,-76.148,-76.3527,-76.5058, -76.7105,-76.9145,-77.0167,-77.17, -77.2725,-77.3754,-77.4777,-77.6314, -77.7339,-77.8867,-77.9888,-78.1451, -78.2491,-78.3515,-78.454,-78.6074, -78.7582,-78.961,-79.0644,-79.2241, -79.3784,-79.4828,-79.5862,-79.69, -79.7928,-79.8927,-79.9947,-80.1491, -80.2531,-80.453,-80.6208,-80.7489, -80.9199,-81.0903,-81.1329,-81.0428)
FOOTPRINT_POINT_LONGITUDE = (295.486,296.615,297.769,298.948, 300.151,301.378,302.95,303.03,303.281, 303.8,304.079,304.348,304.634,304.782, 304.926,305.067,305.204,305.339,305.536 ,305.663,305.791,305.909,306.027, 306.146,306.261,306.374,306.485,306.646 ,306.801,306.902,307.05,307.194,307.287 ,307.379,307.47,307.56,307.647,307.733, 307.818,307.942,308.023,308.102,308.219 ,308.294,308.368,308.477,308.548, 308.618,308.687,308.721,308.725,308.179 ,307.276,306.74,305.855,305.154,304.69, 303.829,303.317,302.865,302.809,302.781 ,302.589,302.441,302.237,302.027, 301.919,301.754,301.641,301.525,301.408 ,301.228,301.105,300.918,300.791, 300.589,300.452,300.315,300.174,299.96, 299.744,299.442,299.282,299.027,298.776 ,298.6,298.422,298.24,298.056,297.875, 297.684,297.387,297.18,296.771,296.414, 296.13,295.738,295.331,295.226,295.486)
ORBIT_NUMBER = 6685
ORBITAL_ECCENTRICITY = 0.575
ORBITAL_INCLINATION = 86.77
ORBITAL_SEMIMAJOR_AXIS = 8677.87
PERIAPSIS_ALTITUDE = 308.08
PERIAPSIS_ARGUMENT_ANGLE = 264.2
PERIAPSIS_TIME = 2009-03-18T11:38:39.000Z
SPACECRAFT_ORIENTATION = (0.0,-1.0,0.0)
^MEX_ORIENTATION_DESC = "MEX_ORIENTATION_DESC.TXT"
SPACECRAFT_POINTING_MODE = ACROSSTRACK
^MEX_POINTING_DESC = "MEX_POINTING_DESC.TXT"
RIGHT_ASCENSION = -1e+32
DECLINATION = -1e+32
OFFSET_ANGLE = -0.5
SPACECRAFT_SOLAR_DISTANCE = 2.07876e+08
TARGET_NAME = MARS
/* CAMERA DATA ELEMENTS */
DETECTOR_TEMPERATURE = 17.9627
FOCAL_PLANE_TEMPERATURE = 7.7677
INST_CMPRS_NAME = "DISCRETE COSINE TRANSFORMATION (DCT)"
INST_CMPRS_RATIO = 28.7111
INST_CMPRS_QUALITY = 0
INST_CMPRS_QUANTZ_TBL_ID = 0
INSTRUMENT_TEMPERATURE = 11.0301
LENS_TEMPERATURE = 8.1755
MACROPIXEL_SIZE = 1
MISSING_FRAMES = 0
PIXEL_SUBSAMPLING_FLAG = N
SIGNAL_CHAIN_ID = 1
/* RADIOMETRIC DATA ELEMENTS */
BANDWIDTH = 178.0
CENTER_FILTER_WAVELENGTH = 679.0
RADIANCE_OFFSET = 7.1057
RADIANCE_SCALING_FACTOR = 0.0278655
REFLECTANCE_SCALING_FACTOR = 0.000637681
MEX:REFLECTANCE_OFFSET = 0.162609
/* IMAGE OBJECT DEFINITIONS */
OBJECT = IMAGE
  INTERCHANGE_FORMAT = BINARY
  LINES = 25442
  LINE_SAMPLES = 11743
  SAMPLE_TYPE = UNSIGNED_INTEGER
  SAMPLE_BITS = 8
  BANDS = 1
  BAND_STORAGE_TYPE = BAND_SEQUENTIAL
  MAXIMUM = 255
  MEAN = 184.088
  MINIMUM = 1
  STANDARD_DEVIATION = 27.8048
END_OBJECT = IMAGE
/* MAP OBJECT DEFINITIONS */
OBJECT = IMAGE_MAP_PROJECTION
  ^DATA_SET_MAP_PROJECTION_CATALOG= "DSMAP.CAT"
  A_AXIS_RADIUS = 3396.0
  B_AXIS_RADIUS = 3396.0
  C_AXIS_RADIUS = 3396.0
  CENTER_LATITUDE = 0.0
  CENTER_LONGITUDE = 303.0
  COORDINATE_SYSTEM_NAME = PLANETOGRAPHIC
  COORDINATE_SYSTEM_TYPE = "BODY-FIXED ROTATING"
  EASTERNMOST_LONGITUDE = 308.725
  FIRST_STANDARD_PARALLEL = "N/A"
  LINE_FIRST_PIXEL = 1
  LINE_LAST_PIXEL = 25442
  LINE_PROJECTION_OFFSET = -361303.0
  MAP_PROJECTION_ROTATION = 0.0
  MAP_PROJECTION_TYPE = SINUSOIDAL
  MAP_RESOLUTION = 4741.71043093333
  MAP_SCALE = 0.0125
  MAXIMUM_LATITUDE = -76.148
  MINIMUM_LATITUDE = -81.5635
  POSITIVE_LONGITUDE_DIRECTION = EAST
  REFERENCE_LATITUDE = "N/A"
  REFERENCE_LONGITUDE = "N/A"
  SAMPLE_FIRST_PIXEL = 1
  SAMPLE_LAST_PIXEL = 11743
  SAMPLE_PROJECTION_OFFSET = 5647.0
  SECOND_STANDARD_PARALLEL = "N/A"
  WESTERNMOST_LONGITUDE = 295.226
END_OBJECT = IMAGE_MAP_PROJECTION
END
