PDS_VERSION_ID = PDS3
/* FILE DATA ELEMENTS */
RECORD_TYPE = UNDEFINED
/* POINTERS TO DATA OBJECTS */
^IMAGE = ("H6676_0000_RE4.TIF")
/* IDENTIFICATION DATA ELEMENTS */
DATA_SET_ID = "MEX-M-HRSC-4-REFDR-MAPPROJECT-EXT2-V4.0"
DATA_SET_NAME = "MARS EXPRESS HRSC MAP PROJECTED REFDR EXTENSION2 V4.0"
DETECTOR_ID = MEX_HRSC_RED
EVENT_TYPE = "MARS-REGIONAL-VARIABLE-Gl-At"
INSTRUMENT_HOST_ID = MEX
INSTRUMENT_HOST_NAME = "MARS EXPRESS"
INSTRUMENT_ID = HRSC
INSTRUMENT_NAME = "HIGH RESOLUTION STEREO CAMERA"
MISSION_NAME = "MARS EXPRESS"
MISSION_PHASE_NAME = ME_Phase_16
PROCESSING_LEVEL_ID = 4
PRODUCT_CREATION_TIME = 2023-02-05T03:41:04.000Z
PRODUCT_ID = "H6676_0000_RE4.TIF"
RELEASE_ID = 0006
REVISION_ID = 0000
/* QUALITY DATA ELEMENTS */
DATA_QUALITY_ID = 1
DATA_QUALITY_DESC = "Data calculated based on original SPICE kernels"
/* TIME DATA ELEMENTS */
SPACECRAFT_CLOCK_START_COUNT = "1/0185232846.09047"
SPACECRAFT_CLOCK_STOP_COUNT = "1/0185233148.37297"
START_TIME = 2009-03-15T21:34:13.323Z
STOP_TIME = 2009-03-15T21:38:12.601Z
/* ORBITAL DATA ELEMENTS */
ASCENDING_NODE_LONGITUDE = 90.43
MAXIMUM_RESOLUTION = 0.0506
FOOTPRINT_POINT_LATITUDE = (-81.5528,-81.3413,-81.1832,-81.1792, -81.2411,-81.5191,-81.7956,-82.2051, -82.6097,-82.8766,-83.3937,-83.6506, -83.8988,-84.1414,-84.6011,-84.9268, -85.1311,-85.3238,-85.5031,-85.743, -85.8809,-85.9989,-86.0951,-86.1678, -86.2303,-86.2393,-86.2036,-86.1476, -86.0172,-85.9028,-85.7676,-85.6136, -85.4427,-85.2557,-85.0512,-84.8399, -84.6103,-84.3756,-84.1291,-83.7442, -83.4797,-83.0728,-82.7953,-82.5147, -82.2301,-81.9324,-81.6312,-81.327, -81.1742,-81.1103,-81.406,-81.5295, -81.5328,-81.5347,-81.8549,-82.1737, -82.4903,-82.9533,-83.2543,-83.5522, -83.9962,-84.4308,-84.7152,-84.9935, -85.2658,-85.658,-85.8998,-86.1325, -86.4568,-86.6541,-86.8314,-87.0533, -87.1666,-87.2484,-87.2956,-87.2981, -87.2194,-87.1253,-87.0008,-86.8496, -86.6759,-86.483,-86.274,-86.0514, -85.8171,-85.5742,-85.1957,-84.9351, -84.6707,-84.4064,-84.1325,-83.7154, -83.4334,-83.1483,-82.8614,-82.5729, -82.1376,-81.8462,-81.7004,-81.5528)
FOOTPRINT_POINT_LONGITUDE = (344.137,348.01,350.449,350.506,350.92, 351.797,352.738,354.269,355.984,357.248 ,360.026,361.648,363.362,365.228, 369.367,373.02,375.721,378.664,381.856, 387.134,390.975,395.063,399.385,403.905 ,410.929,415.702,422.822,427.453, 434.095,438.24,442.144,445.792,449.181, 452.323,455.244,457.897,460.417,462.706 ,464.819,467.671,469.381,471.694, 473.088,474.375,475.568,476.709,477.769 ,478.753,479.219,479.408,484.022, 486.412,486.481,486.502,485.753,484.94, 484.061,482.62,481.567,480.421,478.461, 476.206,474.493,472.598,470.479,466.827 ,464.126,461.059,455.747,451.609, 447.005,439.16,433.344,427.104,420.559, 410.534,400.805,394.742,389.119,383.985 ,379.364,375.229,371.546,368.268,365.35 ,362.753,359.367,357.397,355.626, 354.033,352.579,350.64,349.487,348.43, 347.459,346.564,345.348,344.611,344.262 ,344.137)
ORBIT_NUMBER = 6676
ORBITAL_ECCENTRICITY = 0.575
ORBITAL_INCLINATION = 86.77
ORBITAL_SEMIMAJOR_AXIS = 8677.53
PERIAPSIS_ALTITUDE = 308.32
PERIAPSIS_ARGUMENT_ANGLE = 265.71
PERIAPSIS_TIME = 2009-03-15T21:35:31.000Z
SPACECRAFT_ORIENTATION = (0.0,1.0,0.0)
^MEX_ORIENTATION_DESC = "MEX_ORIENTATION_DESC.TXT"
SPACECRAFT_POINTING_MODE = NADIR
^MEX_POINTING_DESC = "MEX_POINTING_DESC.TXT"
RIGHT_ASCENSION = -1e+32
DECLINATION = -1e+32
OFFSET_ANGLE = -1e+32
SPACECRAFT_SOLAR_DISTANCE = 2.08068e+08
TARGET_NAME = MARS
/* CAMERA DATA ELEMENTS */
DETECTOR_TEMPERATURE = 18.5744
FOCAL_PLANE_TEMPERATURE = 8.1755
INST_CMPRS_NAME = "DISCRETE COSINE TRANSFORMATION (DCT)"
INST_CMPRS_RATIO = 6.96195
INST_CMPRS_QUALITY = 0
INST_CMPRS_QUANTZ_TBL_ID = 0
INSTRUMENT_TEMPERATURE = 11.234
LENS_TEMPERATURE = 7.7677
MACROPIXEL_SIZE = 4
MISSING_FRAMES = 0
PIXEL_SUBSAMPLING_FLAG = N
SIGNAL_CHAIN_ID = 2
/* RADIOMETRIC DATA ELEMENTS */
BANDWIDTH = 48.0
CENTER_FILTER_WAVELENGTH = 748.0
RADIANCE_OFFSET = 1.24086
RADIANCE_SCALING_FACTOR = 0.00552265
REFLECTANCE_SCALING_FACTOR = 0.000545611
MEX:REFLECTANCE_OFFSET = 0.122591
/* IMAGE OBJECT DEFINITIONS */
OBJECT = IMAGE
  INTERCHANGE_FORMAT = BINARY
  LINES = 16266
  LINE_SAMPLES = 11922
  SAMPLE_TYPE = UNSIGNED_INTEGER
  SAMPLE_BITS = 8
  BANDS = 1
  BAND_STORAGE_TYPE = BAND_SEQUENTIAL
  MAXIMUM = 255
  MEAN = 100.893
  MINIMUM = 1
  STANDARD_DEVIATION = 59.4496
END_OBJECT = IMAGE
/* MAP OBJECT DEFINITIONS */
OBJECT = IMAGE_MAP_PROJECTION
  ^DATA_SET_MAP_PROJECTION_CATALOG= "DSMAP.CAT"
  A_AXIS_RADIUS = 3396.0
  B_AXIS_RADIUS = 3396.0
  C_AXIS_RADIUS = 3396.0
  CENTER_LATITUDE = -90.0
  CENTER_LONGITUDE = 0.0
  COORDINATE_SYSTEM_NAME = PLANETOGRAPHIC
  COORDINATE_SYSTEM_TYPE = "BODY-FIXED ROTATING"
  EASTERNMOST_LONGITUDE = 126.502
  FIRST_STANDARD_PARALLEL = "N/A"
  LINE_FIRST_PIXEL = 1
  LINE_LAST_PIXEL = 16266
  LINE_PROJECTION_OFFSET = 10239.75
  MAP_PROJECTION_ROTATION = 0.0
  MAP_PROJECTION_TYPE = STEREOGRAPHIC
  MAP_RESOLUTION = 1185.42760773333
  MAP_SCALE = 0.05
  MAXIMUM_LATITUDE = -81.1103
  MINIMUM_LATITUDE = -87.29810000000001
  POSITIVE_LONGITUDE_DIRECTION = EAST
  REFERENCE_LATITUDE = "N/A"
  REFERENCE_LONGITUDE = "N/A"
  SAMPLE_FIRST_PIXEL = 1
  SAMPLE_LAST_PIXEL = 11922
  SAMPLE_PROJECTION_OFFSET = 2685.75
  SECOND_STANDARD_PARALLEL = "N/A"
  WESTERNMOST_LONGITUDE = -15.863
END_OBJECT = IMAGE_MAP_PROJECTION
END
