PDS_VERSION_ID = PDS3
/* FILE DATA ELEMENTS */
RECORD_TYPE = UNDEFINED
/* POINTERS TO DATA OBJECTS */
^IMAGE = ("H6663_0000_GR4.TIF")
/* IDENTIFICATION DATA ELEMENTS */
DATA_SET_ID = "MEX-M-HRSC-4-REFDR-MAPPROJECT-EXT2-V4.0"
DATA_SET_NAME = "MARS EXPRESS HRSC MAP PROJECTED REFDR EXTENSION2 V4.0"
DETECTOR_ID = MEX_HRSC_GREEN
EVENT_TYPE = "MARS-REGIONAL-STEREO-Gl-La-At"
INSTRUMENT_HOST_ID = MEX
INSTRUMENT_HOST_NAME = "MARS EXPRESS"
INSTRUMENT_ID = HRSC
INSTRUMENT_NAME = "HIGH RESOLUTION STEREO CAMERA"
MISSION_NAME = "MARS EXPRESS"
MISSION_PHASE_NAME = ME_Phase_16
PROCESSING_LEVEL_ID = 4
PRODUCT_CREATION_TIME = 2023-02-05T03:41:04.000Z
PRODUCT_ID = "H6663_0000_GR4.TIF"
RELEASE_ID = 0006
REVISION_ID = 0000
/* QUALITY DATA ELEMENTS */
DATA_QUALITY_ID = 1
DATA_QUALITY_DESC = "Data calculated based on original SPICE kernels"
/* TIME DATA ELEMENTS */
SPACECRAFT_CLOCK_START_COUNT = "1/0184910490.09038"
SPACECRAFT_CLOCK_STOP_COUNT = "1/0184910649.38433"
START_TIME = 2009-03-12T04:02:10.627Z
STOP_TIME = 2009-03-12T04:03:35.500Z
/* ORBITAL DATA ELEMENTS */
ASCENDING_NODE_LONGITUDE = 90.68
MAXIMUM_RESOLUTION = 0.1067
FOOTPRINT_POINT_LATITUDE = (-74.6816,-74.6362,-74.6006,-74.5629, -74.5232,-74.4813,-74.4286,-74.4258, -74.4261,-74.3249,-74.173,-74.0717, -73.9705,-73.8693,-73.7681,-73.6668, -73.5656,-73.4644,-73.3632,-73.2113, -73.1101,-73.009,-72.9078,-72.8066, -72.7055,-72.6044,-72.4022,-72.2508, -72.0991,-71.8971,-71.6449,-71.4429, -71.2413,-70.9895,-70.8382,-70.5864, -70.3852,-70.2344,-70.0334,-69.8828, -69.7798,-69.6767,-69.5737,-69.4708, -69.3164,-69.2649,-69.2135,-69.2535, -69.2828,-69.3064,-69.323,-69.339, -69.3564,-69.3712,-69.3855,-69.3993, -69.4238,-69.4253,-69.4284,-69.5323, -69.6879,-69.7917,-69.8956,-69.9995, -70.1033,-70.3059,-70.4582,-70.6613, -70.8136,-70.9661,-71.1694,-71.3729, -71.5766,-71.7804,-71.9844,-72.1885, -72.2906,-72.3928,-72.5459,-72.6991, -72.8013,-72.9549,-73.0573,-73.1595, -73.2621,-73.3644,-73.4669,-73.5694, -73.6718,-73.7743,-73.877,-73.9795, -74.0821,-74.1853,-74.288,-74.3903, -74.493,-74.5958,-74.6472,-74.6816)
FOOTPRINT_POINT_LONGITUDE = (364.287,363.362,362.69,362.018,361.348 ,360.679,359.884,359.842,359.659, 359.752,359.89,359.98,360.069,360.152, 360.238,360.323,360.407,360.49,360.571, 360.691,360.77,360.848,360.924,361.0, 361.075,361.149,361.293,361.393,361.501 ,361.636,361.795,361.927,362.049, 362.197,362.289,362.435,362.547,362.629 ,362.736,362.815,362.868,362.922, 362.973,363.023,363.098,363.123,363.148 ,363.783,364.272,364.686,364.987, 365.288,365.626,365.928,366.228,366.529 ,367.093,367.13,367.155,367.114,367.052 ,367.01,366.967,366.924,366.881,366.795 ,366.729,366.64,366.571,366.502,366.407 ,366.309,366.21,366.108,366.003,365.896 ,365.842,365.786,365.702,365.616, 365.558,365.469,365.409,365.348,365.287 ,365.224,365.161,365.097,365.032, 364.966,364.899,364.831,364.763,364.695 ,364.624,364.552,364.479,364.406, 364.369,364.287)
ORBIT_NUMBER = 6663
ORBITAL_ECCENTRICITY = 0.575
ORBITAL_INCLINATION = 86.77
ORBITAL_SEMIMAJOR_AXIS = 8676.72
PERIAPSIS_ALTITUDE = 307.77
PERIAPSIS_ARGUMENT_ANGLE = 267.92
PERIAPSIS_TIME = 2009-03-12T03:57:46.000Z
SPACECRAFT_ORIENTATION = (0.0,1.0,0.0)
^MEX_ORIENTATION_DESC = "MEX_ORIENTATION_DESC.TXT"
SPACECRAFT_POINTING_MODE = ACROSSTRACK
^MEX_POINTING_DESC = "MEX_POINTING_DESC.TXT"
RIGHT_ASCENSION = -1e+32
DECLINATION = -1e+32
OFFSET_ANGLE = 0.3
SPACECRAFT_SOLAR_DISTANCE = 2.08368e+08
TARGET_NAME = MARS
/* CAMERA DATA ELEMENTS */
DETECTOR_TEMPERATURE = 17.7588
FOCAL_PLANE_TEMPERATURE = 7.7677
INST_CMPRS_NAME = "DISCRETE COSINE TRANSFORMATION (DCT)"
INST_CMPRS_RATIO = 20.3293
INST_CMPRS_QUALITY = 0
INST_CMPRS_QUANTZ_TBL_ID = 0
INSTRUMENT_TEMPERATURE = 10.8262
LENS_TEMPERATURE = 7.9716
MACROPIXEL_SIZE = 8
MISSING_FRAMES = 0
PIXEL_SUBSAMPLING_FLAG = N
SIGNAL_CHAIN_ID = 2
/* RADIOMETRIC DATA ELEMENTS */
BANDWIDTH = 88.0
CENTER_FILTER_WAVELENGTH = 538.0
RADIANCE_OFFSET = 3.44671
RADIANCE_SCALING_FACTOR = 0.0147807
REFLECTANCE_SCALING_FACTOR = 0.000552513
MEX:REFLECTANCE_OFFSET = 0.128841
/* IMAGE OBJECT DEFINITIONS */
OBJECT = IMAGE
  INTERCHANGE_FORMAT = BINARY
  LINES = 3254
  LINE_SAMPLES = 1351
  SAMPLE_TYPE = UNSIGNED_INTEGER
  SAMPLE_BITS = 8
  BANDS = 1
  BAND_STORAGE_TYPE = BAND_SEQUENTIAL
  MAXIMUM = 254
  MEAN = 197.448
  MINIMUM = 1
  STANDARD_DEVIATION = 11.5787
END_OBJECT = IMAGE
/* MAP OBJECT DEFINITIONS */
OBJECT = IMAGE_MAP_PROJECTION
  ^DATA_SET_MAP_PROJECTION_CATALOG= "DSMAP.CAT"
  A_AXIS_RADIUS = 3396.0
  B_AXIS_RADIUS = 3396.0
  C_AXIS_RADIUS = 3396.0
  CENTER_LATITUDE = 0.0
  CENTER_LONGITUDE = 4.0
  COORDINATE_SYSTEM_NAME = PLANETOGRAPHIC
  COORDINATE_SYSTEM_TYPE = "BODY-FIXED ROTATING"
  EASTERNMOST_LONGITUDE = 7.155
  FIRST_STANDARD_PARALLEL = "N/A"
  LINE_FIRST_PIXEL = 1
  LINE_LAST_PIXEL = 3254
  LINE_PROJECTION_OFFSET = -41028.8125
  MAP_PROJECTION_ROTATION = 0.0
  MAP_PROJECTION_TYPE = SINUSOIDAL
  MAP_RESOLUTION = 592.713803866667
  MAP_SCALE = 0.1
  MAXIMUM_LATITUDE = -69.2135
  MINIMUM_LATITUDE = -74.6816
  POSITIVE_LONGITUDE_DIRECTION = EAST
  REFERENCE_LATITUDE = "N/A"
  REFERENCE_LONGITUDE = "N/A"
  SAMPLE_FIRST_PIXEL = 1
  SAMPLE_LAST_PIXEL = 1351
  SAMPLE_PROJECTION_OFFSET = 698.1875
  SECOND_STANDARD_PARALLEL = "N/A"
  WESTERNMOST_LONGITUDE = -0.341
END_OBJECT = IMAGE_MAP_PROJECTION
END
