PDS_VERSION_ID = PDS3
/* FILE DATA ELEMENTS */
RECORD_TYPE = UNDEFINED
/* POINTERS TO DATA OBJECTS */
^IMAGE = ("H6661_0000_S14.TIF")
/* IDENTIFICATION DATA ELEMENTS */
DATA_SET_ID = "MEX-M-HRSC-4-REFDR-MAPPROJECT-EXT2-V4.0"
DATA_SET_NAME = "MARS EXPRESS HRSC MAP PROJECTED REFDR EXTENSION2 V4.0"
DETECTOR_ID = MEX_HRSC_S1
EVENT_TYPE = "MARS-LOCAL-STEREO-Gl-La"
INSTRUMENT_HOST_ID = MEX
INSTRUMENT_HOST_NAME = "MARS EXPRESS"
INSTRUMENT_ID = HRSC
INSTRUMENT_NAME = "HIGH RESOLUTION STEREO CAMERA"
MISSION_NAME = "MARS EXPRESS"
MISSION_PHASE_NAME = ME_Phase_16
PROCESSING_LEVEL_ID = 4
PRODUCT_CREATION_TIME = 2023-02-05T03:41:04.000Z
PRODUCT_ID = "H6661_0000_S14.TIF"
RELEASE_ID = 0006
REVISION_ID = 0000
/* QUALITY DATA ELEMENTS */
DATA_QUALITY_ID = 1
DATA_QUALITY_DESC = "Data calculated based on original SPICE kernels"
/* TIME DATA ELEMENTS */
SPACECRAFT_CLOCK_START_COUNT = "1/0184860813.07304"
SPACECRAFT_CLOCK_STOP_COUNT = "1/0184860953.57583"
START_TIME = 2009-03-11T14:14:39.285Z
STOP_TIME = 2009-03-11T14:15:54.270Z
/* ORBITAL DATA ELEMENTS */
ASCENDING_NODE_LONGITUDE = 90.72
MAXIMUM_RESOLUTION = 0.0153
FOOTPRINT_POINT_LATITUDE = (-76.6575,-76.6232,-76.6041,-76.5842, -76.5638,-76.5428,-76.5211,-76.4989, -76.476,-76.4525,-76.4284,-76.3878, -76.3846,-76.4633,-76.274,-76.122, -75.9701,-75.8044,-75.7137,-75.6231, -75.4468,-75.3103,-75.1742,-75.0834, -74.9927,-74.9022,-74.8119,-74.7216, -74.6316,-74.5419,-74.3638,-74.2725, -74.1827,-74.048,-73.958,-73.8674, -73.7746,-73.6814,-73.5896,-73.4526, -73.3622,-73.1834,-72.9156,-72.7354, -72.5126,-72.3787,-72.2449,-72.1111, -72.0658,-72.0497,-72.0849,-72.106, -72.1232,-72.1493,-72.1832,-72.2003, -72.2166,-72.2292,-72.2376,-72.2522, -72.2678,-72.2695,-72.2706,-72.4073, -72.6347,-72.8165,-72.998,-73.0892, -73.2706,-73.4528,-73.5897,-73.6808, -73.7718,-73.8632,-73.9547,-74.0922, -74.1839,-74.2755,-74.3671,-74.5045, -74.596,-74.7321,-74.8691,-75.0076, -75.0994,-75.1913,-75.2837,-75.4216, -75.513,-75.6042,-75.6965,-75.789, -75.9275,-76.0197,-76.1989,-76.431, -76.5856,-76.7015,-76.7401,-76.6575)
FOOTPRINT_POINT_LONGITUDE = (204.706,203.949,203.546,203.143, 202.741,202.339,201.938,201.538,201.139 ,200.74,200.341,199.695,199.645,199.34, 199.571,199.751,199.928,200.113,200.214 ,200.313,200.491,200.636,200.776, 200.868,200.958,201.047,201.134,201.22, 201.304,201.386,201.543,201.627,201.705 ,201.821,201.898,201.975,202.057, 202.139,202.217,202.329,202.401,202.537 ,202.735,202.867,203.023,203.114, 203.205,203.293,203.324,203.335,203.914 ,204.271,204.584,205.077,205.749, 206.109,206.468,206.828,207.143,207.456 ,207.815,207.86,207.881,207.81,207.688, 207.588,207.486,207.433,207.327,207.218 ,207.135,207.079,207.022,206.964, 206.905,206.816,206.756,206.695,206.633 ,206.539,206.475,206.377,206.278, 206.177,206.108,206.039,205.968,205.861 ,205.788,205.714,205.639,205.563, 205.447,205.369,205.212,205.004,204.861 ,204.751,204.714,204.706)
ORBIT_NUMBER = 6661
ORBITAL_ECCENTRICITY = 0.576
ORBITAL_INCLINATION = 86.77
ORBITAL_SEMIMAJOR_AXIS = 8676.78
PERIAPSIS_ALTITUDE = 306.84
PERIAPSIS_ARGUMENT_ANGLE = 268.28
PERIAPSIS_TIME = 2009-03-11T14:10:25.000Z
SPACECRAFT_ORIENTATION = (0.0,1.0,0.0)
^MEX_ORIENTATION_DESC = "MEX_ORIENTATION_DESC.TXT"
SPACECRAFT_POINTING_MODE = ACROSSTRACK
^MEX_POINTING_DESC = "MEX_POINTING_DESC.TXT"
RIGHT_ASCENSION = -1e+32
DECLINATION = -1e+32
OFFSET_ANGLE = 0.229
SPACECRAFT_SOLAR_DISTANCE = 2.08416e+08
TARGET_NAME = MARS
/* CAMERA DATA ELEMENTS */
DETECTOR_TEMPERATURE = 16.3315
FOCAL_PLANE_TEMPERATURE = 7.7677
INST_CMPRS_NAME = "DISCRETE COSINE TRANSFORMATION (DCT)"
INST_CMPRS_RATIO = 9.78612
INST_CMPRS_QUALITY = 0
INST_CMPRS_QUANTZ_TBL_ID = 0
INSTRUMENT_TEMPERATURE = 10.8262
LENS_TEMPERATURE = 8.3794
MACROPIXEL_SIZE = 1
MISSING_FRAMES = 0
PIXEL_SUBSAMPLING_FLAG = N
SIGNAL_CHAIN_ID = 2
/* RADIOMETRIC DATA ELEMENTS */
BANDWIDTH = 180.0
CENTER_FILTER_WAVELENGTH = 677.0
RADIANCE_OFFSET = 5.61412
RADIANCE_SCALING_FACTOR = 0.0223078
REFLECTANCE_SCALING_FACTOR = 0.000505545
MEX:REFLECTANCE_OFFSET = 0.127229
/* IMAGE OBJECT DEFINITIONS */
OBJECT = IMAGE
  INTERCHANGE_FORMAT = BINARY
  LINES = 22415
  LINE_SAMPLES = 10438
  SAMPLE_TYPE = UNSIGNED_INTEGER
  SAMPLE_BITS = 8
  BANDS = 1
  BAND_STORAGE_TYPE = BAND_SEQUENTIAL
  MAXIMUM = 255
  MEAN = 213.724
  MINIMUM = 1
  STANDARD_DEVIATION = 61.1279
END_OBJECT = IMAGE
/* MAP OBJECT DEFINITIONS */
OBJECT = IMAGE_MAP_PROJECTION
  ^DATA_SET_MAP_PROJECTION_CATALOG= "DSMAP.CAT"
  A_AXIS_RADIUS = 3396.0
  B_AXIS_RADIUS = 3396.0
  C_AXIS_RADIUS = 3396.0
  CENTER_LATITUDE = 0.0
  CENTER_LONGITUDE = 204.0
  COORDINATE_SYSTEM_NAME = PLANETOGRAPHIC
  COORDINATE_SYSTEM_TYPE = "BODY-FIXED ROTATING"
  EASTERNMOST_LONGITUDE = 207.881
  FIRST_STANDARD_PARALLEL = "N/A"
  LINE_FIRST_PIXEL = 1
  LINE_LAST_PIXEL = 22415
  LINE_PROJECTION_OFFSET = -341696.0
  MAP_PROJECTION_ROTATION = 0.0
  MAP_PROJECTION_TYPE = SINUSOIDAL
  MAP_RESOLUTION = 4741.71043093333
  MAP_SCALE = 0.0125
  MAXIMUM_LATITUDE = -72.0497
  MINIMUM_LATITUDE = -76.7401
  POSITIVE_LONGITUDE_DIRECTION = EAST
  REFERENCE_LATITUDE = "N/A"
  REFERENCE_LONGITUDE = "N/A"
  SAMPLE_FIRST_PIXEL = 1
  SAMPLE_LAST_PIXEL = 10438
  SAMPLE_PROJECTION_OFFSET = 5074.0
  SECOND_STANDARD_PARALLEL = "N/A"
  WESTERNMOST_LONGITUDE = 199.34
END_OBJECT = IMAGE_MAP_PROJECTION
END
