PDS_VERSION_ID = PDS3
/* FILE DATA ELEMENTS */
RECORD_TYPE = UNDEFINED
/* POINTERS TO DATA OBJECTS */
^IMAGE = ("H6661_0000_P14.TIF")
/* IDENTIFICATION DATA ELEMENTS */
DATA_SET_ID = "MEX-M-HRSC-4-REFDR-MAPPROJECT-EXT2-V4.0"
DATA_SET_NAME = "MARS EXPRESS HRSC MAP PROJECTED REFDR EXTENSION2 V4.0"
DETECTOR_ID = MEX_HRSC_P1
EVENT_TYPE = "MARS-LOCAL-STEREO-Gl-La"
INSTRUMENT_HOST_ID = MEX
INSTRUMENT_HOST_NAME = "MARS EXPRESS"
INSTRUMENT_ID = HRSC
INSTRUMENT_NAME = "HIGH RESOLUTION STEREO CAMERA"
MISSION_NAME = "MARS EXPRESS"
MISSION_PHASE_NAME = ME_Phase_16
PROCESSING_LEVEL_ID = 4
PRODUCT_CREATION_TIME = 2023-02-05T03:41:04.000Z
PRODUCT_ID = "H6661_0000_P14.TIF"
RELEASE_ID = 0006
REVISION_ID = 0000
/* QUALITY DATA ELEMENTS */
DATA_QUALITY_ID = 1
DATA_QUALITY_DESC = "Data calculated based on original SPICE kernels"
/* TIME DATA ELEMENTS */
SPACECRAFT_CLOCK_START_COUNT = "1/0184860813.07304"
SPACECRAFT_CLOCK_STOP_COUNT = "1/0184860953.57583"
START_TIME = 2009-03-11T14:14:27.643Z
STOP_TIME = 2009-03-11T14:15:41.066Z
/* ORBITAL DATA ELEMENTS */
ASCENDING_NODE_LONGITUDE = 90.72
MAXIMUM_RESOLUTION = 0.0292
FOOTPRINT_POINT_LATITUDE = (-76.6994,-76.6745,-76.6364,-76.601, -76.5584,-76.5362,-76.5135,-76.4901, -76.4661,-76.4259,-76.4227,-76.4695, -76.3525,-76.1962,-75.9618,-75.7666, -75.6101,-75.3784,-75.2216,-75.0407, -74.9473,-74.8541,-74.7609,-74.6679, -74.575,-74.4823,-74.3435,-74.2499, -74.1572,-74.0642,-73.9711,-73.8778, -73.7829,-73.6878,-73.5937,-73.4536, -73.36,-73.2673,-73.1284,-72.9896, -72.8502,-72.7571,-72.665,-72.5261, -72.4335,-72.3411,-72.2023,-72.11, -72.0637,-72.0533,-72.0876,-72.1107, -72.1422,-72.1629,-72.181,-72.2026, -72.2231,-72.2374,-72.2488,-72.276, -72.2783,-72.2794,-72.4204,-72.5144, -72.6082,-72.7021,-72.843,-72.937, -73.0311,-73.125,-73.2188,-73.36, -73.4543,-73.5485,-73.6898,-73.7839, -73.8784,-74.0201,-74.1147,-74.2565, -74.351,-74.4454,-74.5399,-74.6809, -74.7755,-74.8697,-74.9646,-75.0592, -75.2017,-75.2969,-75.4818,-75.6397, -75.8389,-75.9585,-76.1176,-76.2369, -76.3961,-76.7145,-76.7542,-76.6994)
FOOTPRINT_POINT_LONGITUDE = (204.615,204.079,203.301,202.622, 201.848,201.462,201.077,200.693,200.308 ,199.685,199.638,199.382,199.525, 199.713,199.985,200.205,200.376,200.613 ,200.776,200.96,201.052,201.143,201.232 ,201.319,201.405,201.489,201.611, 201.696,201.776,201.856,201.936,202.016 ,202.1,202.184,202.264,202.377,202.453, 202.524,202.628,202.731,202.834,202.902 ,202.966,203.064,203.128,203.19,203.284 ,203.345,203.375,203.382,203.937, 204.322,204.88,205.266,205.61,206.04, 206.471,206.815,207.159,207.76,207.804, 207.819,207.745,207.695,207.645,207.593 ,207.515,207.463,207.409,207.355,207.3, 207.217,207.16,207.103,207.016,206.957, 206.897,206.807,206.745,206.651,206.587 ,206.523,206.458,206.358,206.29,206.221 ,206.152,206.082,205.975,205.902, 205.757,205.629,205.466,205.365,205.228 ,205.123,204.98,204.683,204.645, 204.615)
ORBIT_NUMBER = 6661
ORBITAL_ECCENTRICITY = 0.576
ORBITAL_INCLINATION = 86.77
ORBITAL_SEMIMAJOR_AXIS = 8676.78
PERIAPSIS_ALTITUDE = 306.84
PERIAPSIS_ARGUMENT_ANGLE = 268.28
PERIAPSIS_TIME = 2009-03-11T14:10:25.000Z
SPACECRAFT_ORIENTATION = (0.0,1.0,0.0)
^MEX_ORIENTATION_DESC = "MEX_ORIENTATION_DESC.TXT"
SPACECRAFT_POINTING_MODE = ACROSSTRACK
^MEX_POINTING_DESC = "MEX_POINTING_DESC.TXT"
RIGHT_ASCENSION = -1e+32
DECLINATION = -1e+32
OFFSET_ANGLE = 0.229
SPACECRAFT_SOLAR_DISTANCE = 2.08416e+08
TARGET_NAME = MARS
/* CAMERA DATA ELEMENTS */
DETECTOR_TEMPERATURE = 16.3315
FOCAL_PLANE_TEMPERATURE = 7.7677
INST_CMPRS_NAME = "DISCRETE COSINE TRANSFORMATION (DCT)"
INST_CMPRS_RATIO = 7.40738
INST_CMPRS_QUALITY = 0
INST_CMPRS_QUANTZ_TBL_ID = 0
INSTRUMENT_TEMPERATURE = 10.8262
LENS_TEMPERATURE = 8.3794
MACROPIXEL_SIZE = 2
MISSING_FRAMES = 0
PIXEL_SUBSAMPLING_FLAG = N
SIGNAL_CHAIN_ID = 3
/* RADIOMETRIC DATA ELEMENTS */
BANDWIDTH = 174.0
CENTER_FILTER_WAVELENGTH = 675.0
RADIANCE_OFFSET = 5.36814
RADIANCE_SCALING_FACTOR = 0.0209175
REFLECTANCE_SCALING_FACTOR = 0.000488717
MEX:REFLECTANCE_OFFSET = 0.125422
/* IMAGE OBJECT DEFINITIONS */
OBJECT = IMAGE
  INTERCHANGE_FORMAT = BINARY
  LINES = 11208
  LINE_SAMPLES = 5219
  SAMPLE_TYPE = UNSIGNED_INTEGER
  SAMPLE_BITS = 8
  BANDS = 1
  BAND_STORAGE_TYPE = BAND_SEQUENTIAL
  MAXIMUM = 255
  MEAN = 165.865
  MINIMUM = 1
  STANDARD_DEVIATION = 32.768
END_OBJECT = IMAGE
/* MAP OBJECT DEFINITIONS */
OBJECT = IMAGE_MAP_PROJECTION
  ^DATA_SET_MAP_PROJECTION_CATALOG= "DSMAP.CAT"
  A_AXIS_RADIUS = 3396.0
  B_AXIS_RADIUS = 3396.0
  C_AXIS_RADIUS = 3396.0
  CENTER_LATITUDE = 0.0
  CENTER_LONGITUDE = 204.0
  COORDINATE_SYSTEM_NAME = PLANETOGRAPHIC
  COORDINATE_SYSTEM_TYPE = "BODY-FIXED ROTATING"
  EASTERNMOST_LONGITUDE = 207.819
  FIRST_STANDARD_PARALLEL = "N/A"
  LINE_FIRST_PIXEL = 1
  LINE_LAST_PIXEL = 11208
  LINE_PROJECTION_OFFSET = -170848.25
  MAP_PROJECTION_ROTATION = 0.0
  MAP_PROJECTION_TYPE = SINUSOIDAL
  MAP_RESOLUTION = 2370.85521546667
  MAP_SCALE = 0.025
  MAXIMUM_LATITUDE = -72.05329999999999
  MINIMUM_LATITUDE = -76.7542
  POSITIVE_LONGITUDE_DIRECTION = EAST
  REFERENCE_LATITUDE = "N/A"
  REFERENCE_LONGITUDE = "N/A"
  SAMPLE_FIRST_PIXEL = 1
  SAMPLE_LAST_PIXEL = 5219
  SAMPLE_PROJECTION_OFFSET = 2536.75
  SECOND_STANDARD_PARALLEL = "N/A"
  WESTERNMOST_LONGITUDE = 199.382
END_OBJECT = IMAGE_MAP_PROJECTION
END
