PDS_VERSION_ID = PDS3
/* FILE DATA ELEMENTS */
RECORD_TYPE = UNDEFINED
/* POINTERS TO DATA OBJECTS */
^IMAGE = ("H6631_0000_S24.TIF")
/* IDENTIFICATION DATA ELEMENTS */
DATA_SET_ID = "MEX-M-HRSC-4-REFDR-MAPPROJECT-EXT2-V4.0"
DATA_SET_NAME = "MARS EXPRESS HRSC MAP PROJECTED REFDR EXTENSION2 V4.0"
DETECTOR_ID = MEX_HRSC_S2
EVENT_TYPE = "MARS-REGIONAL-MAPPING-Te-Im-Fl"
INSTRUMENT_HOST_ID = MEX
INSTRUMENT_HOST_NAME = "MARS EXPRESS"
INSTRUMENT_ID = HRSC
INSTRUMENT_NAME = "HIGH RESOLUTION STEREO CAMERA"
MISSION_NAME = "MARS EXPRESS"
MISSION_PHASE_NAME = ME_Phase_16
PROCESSING_LEVEL_ID = 4
PRODUCT_CREATION_TIME = 2023-02-05T03:41:04.000Z
PRODUCT_ID = "H6631_0000_S24.TIF"
RELEASE_ID = 0006
REVISION_ID = 0000
/* QUALITY DATA ELEMENTS */
DATA_QUALITY_ID = 1
DATA_QUALITY_DESC = "Data calculated based on original SPICE kernels"
/* TIME DATA ELEMENTS */
SPACECRAFT_CLOCK_START_COUNT = "1/0184116560.08265"
SPACECRAFT_CLOCK_STOP_COUNT = "1/0184117058.15107"
START_TIME = 2009-03-02T23:29:22.537Z
STOP_TIME = 2009-03-02T23:33:37.657Z
/* ORBITAL DATA ELEMENTS */
ASCENDING_NODE_LONGITUDE = 91.3
MAXIMUM_RESOLUTION = 0.0474
FOOTPRINT_POINT_LATITUDE = (-48.636,-48.584,-48.5541,-48.5215, -48.486,-48.4326,-48.4301,-48.3667, -47.9431,-47.3825,-46.9485,-46.367, -45.7799,-45.1819,-44.8814,-44.577, -44.1169,-43.808,-43.4941,-43.1799, -42.863,-42.5439,-42.2227,-41.9014, -41.4204,-40.9378,-40.6177,-40.1394, -39.6622,-39.3445,-39.0279,-38.7124, -38.3977,-38.0795,-37.7718,-37.4558, -36.99,-36.676,-36.3645,-36.0546, -35.5918,-35.281,-34.8209,-34.5116, -34.204,-33.8954,-33.5903,-33.1308, -32.978,-32.9361,-32.9782,-33.0033, -33.0325,-33.0503,-33.0725,-33.085, -33.0857,-33.0869,-33.3931,-33.6993, -34.006,-34.3137,-34.6221,-34.9314, -35.3977,-35.7093,-36.1778,-36.4883, -36.7995,-37.26,-37.5742,-37.8883, -38.2157,-38.5306,-38.8464,-39.1634, -39.4798,-39.7986,-40.2768,-40.5963, -40.9168,-41.2377,-41.5597,-42.0398, -42.5274,-43.0083,-43.3271,-43.6413, -43.9548,-44.266,-44.5749,-44.8811, -45.3365,-46.0858,-46.6732,-47.4012, -47.9752,-48.3947,-48.5325,-48.636)
FOOTPRINT_POINT_LONGITUDE = (356.238,355.344,354.893,354.439, 353.981,353.346,353.317,353.263,353.293 ,353.338,353.367,353.404,353.441, 353.473,353.489,353.505,353.527,353.541 ,353.554,353.566,353.579,353.59,353.601 ,353.612,353.627,353.639,353.647, 353.658,353.668,353.674,353.679,353.684 ,353.689,353.691,353.698,353.699, 353.704,353.704,353.705,353.707,353.708 ,353.706,353.706,353.704,353.701, 353.698,353.695,353.689,353.687,353.686 ,354.37,354.812,355.453,356.223,356.591 ,357.122,357.155,357.167,357.156, 357.146,357.135,357.124,357.112,357.101 ,357.082,357.07,357.05,357.037,357.024, 357.004,356.99,356.975,356.958,356.943, 356.928,356.911,356.895,356.878,356.852 ,356.834,356.816,356.797,356.778, 356.748,356.717,356.686,356.665,356.643 ,356.622,356.599,356.577,356.554,356.52 ,356.461,356.412,356.35,356.299,356.26, 356.247,356.238)
ORBIT_NUMBER = 6631
ORBITAL_ECCENTRICITY = 0.575
ORBITAL_INCLINATION = 86.77
ORBITAL_SEMIMAJOR_AXIS = 8676.45
PERIAPSIS_ALTITUDE = 307.05
PERIAPSIS_ARGUMENT_ANGLE = 273.39
PERIAPSIS_TIME = 2009-03-02T23:20:18.000Z
SPACECRAFT_ORIENTATION = (0.0,1.0,0.0)
^MEX_ORIENTATION_DESC = "MEX_ORIENTATION_DESC.TXT"
SPACECRAFT_POINTING_MODE = ACROSSTRACK
^MEX_POINTING_DESC = "MEX_POINTING_DESC.TXT"
RIGHT_ASCENSION = -1e+32
DECLINATION = -1e+32
OFFSET_ANGLE = 0.916
SPACECRAFT_SOLAR_DISTANCE = 2.0922e+08
TARGET_NAME = MARS
/* CAMERA DATA ELEMENTS */
DETECTOR_TEMPERATURE = 18.5744
FOCAL_PLANE_TEMPERATURE = 7.7677
INST_CMPRS_NAME = "DISCRETE COSINE TRANSFORMATION (DCT)"
INST_CMPRS_RATIO = 11.8748
INST_CMPRS_QUALITY = 0
INST_CMPRS_QUANTZ_TBL_ID = 0
INSTRUMENT_TEMPERATURE = 11.0301
LENS_TEMPERATURE = 8.5833
MACROPIXEL_SIZE = 2
MISSING_FRAMES = 0
PIXEL_SUBSAMPLING_FLAG = N
SIGNAL_CHAIN_ID = 1
/* RADIOMETRIC DATA ELEMENTS */
BANDWIDTH = 178.0
CENTER_FILTER_WAVELENGTH = 679.0
RADIANCE_OFFSET = 6.24147
RADIANCE_SCALING_FACTOR = 0.0154308
REFLECTANCE_SCALING_FACTOR = 0.000357701
MEX:REFLECTANCE_OFFSET = 0.144684
/* IMAGE OBJECT DEFINITIONS */
OBJECT = IMAGE
  INTERCHANGE_FORMAT = BINARY
  LINES = 18386
  LINE_SAMPLES = 3899
  SAMPLE_TYPE = UNSIGNED_INTEGER
  SAMPLE_BITS = 8
  BANDS = 1
  BAND_STORAGE_TYPE = BAND_SEQUENTIAL
  MAXIMUM = 255
  MEAN = 143.412
  MINIMUM = 1
  STANDARD_DEVIATION = 33.1948
END_OBJECT = IMAGE
/* MAP OBJECT DEFINITIONS */
OBJECT = IMAGE_MAP_PROJECTION
  ^DATA_SET_MAP_PROJECTION_CATALOG= "DSMAP.CAT"
  A_AXIS_RADIUS = 3396.0
  B_AXIS_RADIUS = 3396.0
  C_AXIS_RADIUS = 3396.0
  CENTER_LATITUDE = 0.0
  CENTER_LONGITUDE = 355.0
  COORDINATE_SYSTEM_NAME = PLANETOGRAPHIC
  COORDINATE_SYSTEM_TYPE = "BODY-FIXED ROTATING"
  EASTERNMOST_LONGITUDE = 357.167
  FIRST_STANDARD_PARALLEL = "N/A"
  LINE_FIRST_PIXEL = 1
  LINE_LAST_PIXEL = 18386
  LINE_PROJECTION_OFFSET = -39131.25
  MAP_PROJECTION_ROTATION = 0.0
  MAP_PROJECTION_TYPE = SINUSOIDAL
  MAP_RESOLUTION = 1185.42760773333
  MAP_SCALE = 0.05
  MAXIMUM_LATITUDE = -32.9361
  MINIMUM_LATITUDE = -48.636
  POSITIVE_LONGITUDE_DIRECTION = EAST
  REFERENCE_LATITUDE = "N/A"
  REFERENCE_LONGITUDE = "N/A"
  SAMPLE_FIRST_PIXEL = 1
  SAMPLE_LAST_PIXEL = 3899
  SAMPLE_PROJECTION_OFFSET = 1538.75
  SECOND_STANDARD_PARALLEL = "N/A"
  WESTERNMOST_LONGITUDE = 353.263
END_OBJECT = IMAGE_MAP_PROJECTION
END
