PDS_VERSION_ID = PDS3
/* FILE DATA ELEMENTS */
RECORD_TYPE = UNDEFINED
/* POINTERS TO DATA OBJECTS */
^IMAGE = ("H6631_0000_P24.TIF")
/* IDENTIFICATION DATA ELEMENTS */
DATA_SET_ID = "MEX-M-HRSC-4-REFDR-MAPPROJECT-EXT2-V4.0"
DATA_SET_NAME = "MARS EXPRESS HRSC MAP PROJECTED REFDR EXTENSION2 V4.0"
DETECTOR_ID = MEX_HRSC_P2
EVENT_TYPE = "MARS-REGIONAL-MAPPING-Te-Im-Fl"
INSTRUMENT_HOST_ID = MEX
INSTRUMENT_HOST_NAME = "MARS EXPRESS"
INSTRUMENT_ID = HRSC
INSTRUMENT_NAME = "HIGH RESOLUTION STEREO CAMERA"
MISSION_NAME = "MARS EXPRESS"
MISSION_PHASE_NAME = ME_Phase_16
PROCESSING_LEVEL_ID = 4
PRODUCT_CREATION_TIME = 2023-02-05T03:41:04.000Z
PRODUCT_ID = "H6631_0000_P24.TIF"
RELEASE_ID = 0006
REVISION_ID = 0000
/* QUALITY DATA ELEMENTS */
DATA_QUALITY_ID = 1
DATA_QUALITY_DESC = "Data calculated based on original SPICE kernels"
/* TIME DATA ELEMENTS */
SPACECRAFT_CLOCK_START_COUNT = "1/0184116560.08265"
SPACECRAFT_CLOCK_STOP_COUNT = "1/0184117058.15107"
START_TIME = 2009-03-02T23:29:41.193Z
STOP_TIME = 2009-03-02T23:34:07.978Z
/* ORBITAL DATA ELEMENTS */
ASCENDING_NODE_LONGITUDE = 91.3
MAXIMUM_RESOLUTION = 0.0471
FOOTPRINT_POINT_LATITUDE = (-48.5864,-48.5661,-48.5434,-48.5182, -48.4904,-48.46,-48.4139,-48.4117, -48.3688,-47.7884,-47.3551,-46.762, -46.1637,-45.8605,-45.5562,-45.2473, -44.7825,-44.4702,-44.1544,-43.8383, -43.5165,-43.1958,-42.8766,-42.5574, -42.2397,-41.9227,-41.6061,-41.2901, -40.9734,-40.6583,-40.3442,-40.031, -39.7183,-39.4062,-39.0952,-38.785, -38.4758,-38.1624,-37.8604,-37.5513, -37.0942,-36.7869,-36.4819,-36.1781, -35.8751,-35.5732,-34.82,-34.2192, -33.6217,-33.1748,-33.0257,-32.9625, -32.9911,-33.0199,-33.038,-33.0528, -33.0696,-33.0699,-33.0707,-33.6677, -34.2672,-34.8701,-35.3251,-35.782, -36.0872,-36.5444,-36.8498,-37.3044, -37.6119,-37.922,-38.2379,-38.5479, -39.0144,-39.3259,-39.6385,-39.9524, -40.266,-40.5807,-40.8962,-41.2125, -41.5298,-42.005,-42.4845,-42.8041, -43.1245,-43.4452,-43.7667,-44.2466, -44.5645,-44.878,-45.1912,-45.5018, -45.8103,-46.1151,-46.5683,-47.1678, -47.6123,-48.3406,-48.482,-48.5864)
FOOTPRINT_POINT_LONGITUDE = (356.276,355.819,355.359,354.897, 354.431,353.962,353.311,353.281,353.226 ,353.265,353.301,353.339,353.376, 353.394,353.411,353.427,353.451,353.466 ,353.481,353.495,353.507,353.519, 353.531,353.542,353.553,353.563,353.572 ,353.581,353.588,353.595,353.601, 353.608,353.613,353.618,353.623,353.627 ,353.631,353.63,353.639,353.639,353.644 ,353.643,353.644,353.644,353.644, 353.644,353.64,353.634,353.626,353.619, 353.616,353.615,354.217,354.921,355.514 ,356.346,357.174,357.208,357.22,357.199 ,357.177,357.153,357.135,357.116, 357.103,357.083,357.069,357.049,357.035 ,357.02,357.003,356.988,356.964,356.948 ,356.931,356.913,356.896,356.878, 356.859,356.841,356.821,356.792,356.761 ,356.74,356.718,356.696,356.674,356.64, 356.616,356.593,356.569,356.544,356.52, 356.495,356.458,356.406,356.367,356.299 ,356.286,356.276)
ORBIT_NUMBER = 6631
ORBITAL_ECCENTRICITY = 0.575
ORBITAL_INCLINATION = 86.77
ORBITAL_SEMIMAJOR_AXIS = 8676.45
PERIAPSIS_ALTITUDE = 307.05
PERIAPSIS_ARGUMENT_ANGLE = 273.39
PERIAPSIS_TIME = 2009-03-02T23:20:18.000Z
SPACECRAFT_ORIENTATION = (0.0,1.0,0.0)
^MEX_ORIENTATION_DESC = "MEX_ORIENTATION_DESC.TXT"
SPACECRAFT_POINTING_MODE = ACROSSTRACK
^MEX_POINTING_DESC = "MEX_POINTING_DESC.TXT"
RIGHT_ASCENSION = -1e+32
DECLINATION = -1e+32
OFFSET_ANGLE = 0.916
SPACECRAFT_SOLAR_DISTANCE = 2.0922e+08
TARGET_NAME = MARS
/* CAMERA DATA ELEMENTS */
DETECTOR_TEMPERATURE = 18.5744
FOCAL_PLANE_TEMPERATURE = 7.7677
INST_CMPRS_NAME = "DISCRETE COSINE TRANSFORMATION (DCT)"
INST_CMPRS_RATIO = 7.37124
INST_CMPRS_QUALITY = 0
INST_CMPRS_QUANTZ_TBL_ID = 0
INSTRUMENT_TEMPERATURE = 11.0301
LENS_TEMPERATURE = 8.5833
MACROPIXEL_SIZE = 2
MISSING_FRAMES = 0
PIXEL_SUBSAMPLING_FLAG = N
SIGNAL_CHAIN_ID = 3
/* RADIOMETRIC DATA ELEMENTS */
BANDWIDTH = 177.0
CENTER_FILTER_WAVELENGTH = 676.5
RADIANCE_OFFSET = 5.8597
RADIANCE_SCALING_FACTOR = 0.0161296
REFLECTANCE_SCALING_FACTOR = 0.000374355
MEX:REFLECTANCE_OFFSET = 0.135999
/* IMAGE OBJECT DEFINITIONS */
OBJECT = IMAGE
  INTERCHANGE_FORMAT = BINARY
  LINES = 18386
  LINE_SAMPLES = 3899
  SAMPLE_TYPE = UNSIGNED_INTEGER
  SAMPLE_BITS = 8
  BANDS = 1
  BAND_STORAGE_TYPE = BAND_SEQUENTIAL
  MAXIMUM = 255
  MEAN = 139.152
  MINIMUM = 1
  STANDARD_DEVIATION = 32.8026
END_OBJECT = IMAGE
/* MAP OBJECT DEFINITIONS */
OBJECT = IMAGE_MAP_PROJECTION
  ^DATA_SET_MAP_PROJECTION_CATALOG= "DSMAP.CAT"
  A_AXIS_RADIUS = 3396.0
  B_AXIS_RADIUS = 3396.0
  C_AXIS_RADIUS = 3396.0
  CENTER_LATITUDE = 0.0
  CENTER_LONGITUDE = 355.0
  COORDINATE_SYSTEM_NAME = PLANETOGRAPHIC
  COORDINATE_SYSTEM_TYPE = "BODY-FIXED ROTATING"
  EASTERNMOST_LONGITUDE = 357.22
  FIRST_STANDARD_PARALLEL = "N/A"
  LINE_FIRST_PIXEL = 1
  LINE_LAST_PIXEL = 18386
  LINE_PROJECTION_OFFSET = -39131.25
  MAP_PROJECTION_ROTATION = 0.0
  MAP_PROJECTION_TYPE = SINUSOIDAL
  MAP_RESOLUTION = 1185.42760773333
  MAP_SCALE = 0.05
  MAXIMUM_LATITUDE = -32.9625
  MINIMUM_LATITUDE = -48.5864
  POSITIVE_LONGITUDE_DIRECTION = EAST
  REFERENCE_LATITUDE = "N/A"
  REFERENCE_LONGITUDE = "N/A"
  SAMPLE_FIRST_PIXEL = 1
  SAMPLE_LAST_PIXEL = 3899
  SAMPLE_PROJECTION_OFFSET = 1538.75
  SECOND_STANDARD_PARALLEL = "N/A"
  WESTERNMOST_LONGITUDE = 353.226
END_OBJECT = IMAGE_MAP_PROJECTION
END
