PDS_VERSION_ID = PDS3
/* FILE DATA ELEMENTS */
RECORD_TYPE = UNDEFINED
/* POINTERS TO DATA OBJECTS */
^IMAGE = ("H6621_0000_RE4.TIF")
/* IDENTIFICATION DATA ELEMENTS */
DATA_SET_ID = "MEX-M-HRSC-4-REFDR-MAPPROJECT-EXT2-V4.0"
DATA_SET_NAME = "MARS EXPRESS HRSC MAP PROJECTED REFDR EXTENSION2 V4.0"
DETECTOR_ID = MEX_HRSC_RED
EVENT_TYPE = "MARS-REGIONAL-VARIABLE-Gl-At"
INSTRUMENT_HOST_ID = MEX
INSTRUMENT_HOST_NAME = "MARS EXPRESS"
INSTRUMENT_ID = HRSC
INSTRUMENT_NAME = "HIGH RESOLUTION STEREO CAMERA"
MISSION_NAME = "MARS EXPRESS"
MISSION_PHASE_NAME = ME_Phase_16
PROCESSING_LEVEL_ID = 4
PRODUCT_CREATION_TIME = 2023-02-05T03:41:04.000Z
PRODUCT_ID = "H6621_0000_RE4.TIF"
RELEASE_ID = 0006
REVISION_ID = 0000
/* QUALITY DATA ELEMENTS */
DATA_QUALITY_ID = 1
DATA_QUALITY_DESC = "Data calculated based on original SPICE kernels"
/* TIME DATA ELEMENTS */
SPACECRAFT_CLOCK_START_COUNT = "1/0183867606.09060"
SPACECRAFT_CLOCK_STOP_COUNT = "1/0183867965.36715"
START_TIME = 2009-02-28T02:20:14.157Z
STOP_TIME = 2009-02-28T02:25:13.859Z
/* ORBITAL DATA ELEMENTS */
ASCENDING_NODE_LONGITUDE = 91.5
MAXIMUM_RESOLUTION = 0.1011
FOOTPRINT_POINT_LATITUDE = (-82.6178,-82.5115,-82.3517,-82.1562, -82.1512,-82.2102,-82.5648,-82.9174, -83.4291,-83.7519,-84.0661,-84.3686, -84.7992,-85.066,-85.422,-85.6321, -85.8167,-86.0366,-86.1782,-86.2235, -86.2289,-86.166,-86.0776,-85.9546, -85.7996,-85.6164,-85.4074,-85.054, -84.6603,-84.3802,-84.0867,-83.7848, -83.4737,-82.9899,-82.6595,-82.1538, -81.6385,-81.2897,-80.7587,-80.2222, -79.6793,-79.3149,-78.7651,-78.3963, -78.0269,-77.6557,-77.2842,-76.9086, -76.7213,-76.5763,-76.6613,-76.7812, -76.8271,-76.8283,-76.8311,-77.215, -77.5966,-78.166,-78.5473,-78.9253, -79.4913,-79.8676,-80.2433,-80.6181, -80.9899,-81.3619,-81.9134,-82.2786, -82.8218,-83.1798,-83.5342,-83.8843, -84.2294,-84.5684,-84.9002,-85.3805, -85.8369,-86.1235,-86.5172,-86.748, -86.9476,-87.1103,-87.2704,-87.3142, -87.2783,-87.1842,-87.0411,-86.7494, -86.5141,-86.2533,-85.8238,-85.3466, -85.0135,-84.6719,-84.323,-83.9686, -83.4132,-83.0371,-82.8481,-82.6178)
FOOTPRINT_POINT_LONGITUDE = (132.19,134.249,136.973,139.862,139.93, 140.46,141.948,143.622,146.438,148.513, 150.819,153.362,157.736,161.067,166.634 ,170.826,175.462,183.085,191.483, 197.367,203.135,211.656,217.124,222.313 ,227.168,231.648,235.755,241.218, 245.919,248.673,251.164,253.409,255.443 ,258.153,259.757,261.904,263.786, 264.914,266.445,267.805,269.02,269.759, 270.776,271.398,271.981,272.527,273.041 ,273.523,273.754,273.927,275.275, 277.466,278.423,278.469,278.496,278.144 ,277.773,277.178,276.738,276.276, 275.518,274.964,274.364,273.714,273.016 ,272.249,270.981,270.033,268.428, 267.218,265.875,264.377,262.698,260.812 ,258.679,254.938,250.334,246.662, 240.064,234.865,228.953,222.287,211.029 ,203.051,190.825,182.887,175.622,166.19 ,160.886,156.295,150.549,145.794, 143.142,140.832,138.808,137.023,134.658 ,133.291,132.663,132.19)
ORBIT_NUMBER = 6621
ORBITAL_ECCENTRICITY = 0.576
ORBITAL_INCLINATION = 86.76
ORBITAL_SEMIMAJOR_AXIS = 8677.4
PERIAPSIS_ALTITUDE = 306.77
PERIAPSIS_ARGUMENT_ANGLE = 275.12
PERIAPSIS_TIME = 2009-02-28T02:23:40.000Z
SPACECRAFT_ORIENTATION = (0.0,1.0,0.0)
^MEX_ORIENTATION_DESC = "MEX_ORIENTATION_DESC.TXT"
SPACECRAFT_POINTING_MODE = NADIR
^MEX_POINTING_DESC = "MEX_POINTING_DESC.TXT"
RIGHT_ASCENSION = -1e+32
DECLINATION = -1e+32
OFFSET_ANGLE = -1e+32
SPACECRAFT_SOLAR_DISTANCE = 2.09518e+08
TARGET_NAME = MARS
/* CAMERA DATA ELEMENTS */
DETECTOR_TEMPERATURE = 18.5744
FOCAL_PLANE_TEMPERATURE = 7.9716
INST_CMPRS_NAME = "DISCRETE COSINE TRANSFORMATION (DCT)"
INST_CMPRS_RATIO = 7.75281
INST_CMPRS_QUALITY = 0
INST_CMPRS_QUANTZ_TBL_ID = 0
INSTRUMENT_TEMPERATURE = 11.234
LENS_TEMPERATURE = 8.3794
MACROPIXEL_SIZE = 8
MISSING_FRAMES = 0
PIXEL_SUBSAMPLING_FLAG = N
SIGNAL_CHAIN_ID = 2
/* RADIOMETRIC DATA ELEMENTS */
BANDWIDTH = 48.0
CENTER_FILTER_WAVELENGTH = 748.0
RADIANCE_OFFSET = 0.524856
RADIANCE_SCALING_FACTOR = 0.0151701
REFLECTANCE_SCALING_FACTOR = 0.0015197
MEX:REFLECTANCE_OFFSET = 0.0525784
/* IMAGE OBJECT DEFINITIONS */
OBJECT = IMAGE
  INTERCHANGE_FORMAT = BINARY
  LINES = 4725
  LINE_SAMPLES = 11177
  SAMPLE_TYPE = UNSIGNED_INTEGER
  SAMPLE_BITS = 8
  BANDS = 1
  BAND_STORAGE_TYPE = BAND_SEQUENTIAL
  MAXIMUM = 255
  MEAN = 87.5203
  MINIMUM = 1
  STANDARD_DEVIATION = 60.618
END_OBJECT = IMAGE
/* MAP OBJECT DEFINITIONS */
OBJECT = IMAGE_MAP_PROJECTION
  ^DATA_SET_MAP_PROJECTION_CATALOG= "DSMAP.CAT"
  A_AXIS_RADIUS = 3396.0
  B_AXIS_RADIUS = 3396.0
  C_AXIS_RADIUS = 3396.0
  CENTER_LATITUDE = -90.0
  CENTER_LONGITUDE = 0.0
  COORDINATE_SYSTEM_NAME = PLANETOGRAPHIC
  COORDINATE_SYSTEM_TYPE = "BODY-FIXED ROTATING"
  EASTERNMOST_LONGITUDE = 278.496
  FIRST_STANDARD_PARALLEL = "N/A"
  LINE_FIRST_PIXEL = 1
  LINE_LAST_PIXEL = 4725
  LINE_PROJECTION_OFFSET = 1163.625
  MAP_PROJECTION_ROTATION = 0.0
  MAP_PROJECTION_TYPE = STEREOGRAPHIC
  MAP_RESOLUTION = 592.713803866667
  MAP_SCALE = 0.1
  MAXIMUM_LATITUDE = -76.5763
  MINIMUM_LATITUDE = -87.3142
  POSITIVE_LONGITUDE_DIRECTION = EAST
  REFERENCE_LATITUDE = "N/A"
  REFERENCE_LONGITUDE = "N/A"
  SAMPLE_FIRST_PIXEL = 1
  SAMPLE_LAST_PIXEL = 11177
  SAMPLE_PROJECTION_OFFSET = 7986.875
  SECOND_STANDARD_PARALLEL = "N/A"
  WESTERNMOST_LONGITUDE = 132.19
END_OBJECT = IMAGE_MAP_PROJECTION
END
