PDS_VERSION_ID = PDS3
/* FILE DATA ELEMENTS */
RECORD_TYPE = UNDEFINED
/* POINTERS TO DATA OBJECTS */
^IMAGE = ("H6607_0000_IR4.TIF")
/* IDENTIFICATION DATA ELEMENTS */
DATA_SET_ID = "MEX-M-HRSC-4-REFDR-MAPPROJECT-EXT2-V4.0"
DATA_SET_NAME = "MARS EXPRESS HRSC MAP PROJECTED REFDR EXTENSION2 V4.0"
DETECTOR_ID = MEX_HRSC_IR
EVENT_TYPE = "MARS-REGIONAL-MAPPING-Im"
INSTRUMENT_HOST_ID = MEX
INSTRUMENT_HOST_NAME = "MARS EXPRESS"
INSTRUMENT_ID = HRSC
INSTRUMENT_NAME = "HIGH RESOLUTION STEREO CAMERA"
MISSION_NAME = "MARS EXPRESS"
MISSION_PHASE_NAME = ME_Phase_16
PROCESSING_LEVEL_ID = 4
PRODUCT_CREATION_TIME = 2023-02-05T03:41:04.000Z
PRODUCT_ID = "H6607_0000_IR4.TIF"
RELEASE_ID = 0006
REVISION_ID = 0000
/* QUALITY DATA ELEMENTS */
DATA_QUALITY_ID = 1
DATA_QUALITY_DESC = "Data calculated based on original SPICE kernels"
/* TIME DATA ELEMENTS */
SPACECRAFT_CLOCK_START_COUNT = "1/0183520634.09051"
SPACECRAFT_CLOCK_STOP_COUNT = "1/0183520888.62760"
START_TIME = 2009-02-24T01:58:25.032Z
STOP_TIME = 2009-02-24T02:01:18.909Z
/* ORBITAL DATA ELEMENTS */
ASCENDING_NODE_LONGITUDE = 91.77
MAXIMUM_RESOLUTION = 0.1401
FOOTPRINT_POINT_LATITUDE = (-60.3709,-60.3509,-60.3366,-60.3211, -60.3045,-60.2866,-60.2676,-60.2663, -60.3223,-60.0579,-59.7042,-59.3446, -59.0761,-58.7161,-58.2593,-57.8908, -57.6122,-57.4238,-57.0515,-56.8633, -56.674,-56.4855,-56.2947,-56.1017, -55.9089,-55.7169,-55.5229,-55.3282, -55.1329,-54.9383,-54.7401,-54.5422, -54.2455,-54.0496,-53.8489,-53.6472, -53.4398,-53.2356,-53.0312,-52.8319, -52.6248,-52.4142,-52.2063,-51.9962, -51.7864,-51.4697,-51.2565,-51.0442, -50.7202,-50.6125,-50.5121,-50.5221, -50.533,-50.5434,-50.5551,-50.5644, -50.5717,-50.578,-50.5783,-50.581, -50.9064,-51.2333,-51.5483,-51.7619, -51.9722,-52.1831,-52.3928,-52.6, -52.8077,-53.1178,-53.322,-53.6299, -53.933,-54.135,-54.3366,-54.5348, -54.7337,-55.0316,-55.2274,-55.5221, -55.7189,-55.9118,-56.1076,-56.3941, -56.5861,-56.7756,-56.9652,-57.1553, -57.344,-57.7167,-57.996,-58.2731, -58.6395,-59.0061,-59.2757,-59.5462, -59.907,-60.2607,-60.3498,-60.3709)
FOOTPRINT_POINT_LONGITUDE = (255.866,255.2,254.773,254.345,253.917, 253.487,253.057,253.03,252.943,252.993, 253.059,253.122,253.168,253.227,253.3, 253.358,253.399,253.429,253.48,253.505, 253.531,253.556,253.581,253.606,253.631 ,253.655,253.678,253.7,253.723,253.745, 253.767,253.788,253.82,253.835,253.855, 253.876,253.9,253.92,253.939,253.952, 253.971,253.992,254.01,254.027,254.044, 254.069,254.085,254.101,254.125,254.132 ,254.139,254.448,254.817,255.214, 255.723,256.175,256.598,257.105,257.133 ,257.151,257.121,257.092,257.059, 257.038,257.017,256.995,256.974,256.952 ,256.93,256.897,256.875,256.841,256.807 ,256.784,256.761,256.737,256.714, 256.678,256.654,256.618,256.593,256.568 ,256.545,256.505,256.48,256.455,256.428 ,256.402,256.376,256.322,256.281, 256.239,256.183,256.126,256.083,256.039 ,255.979,255.918,255.903,255.866)
ORBIT_NUMBER = 6607
ORBITAL_ECCENTRICITY = 0.576
ORBITAL_INCLINATION = 86.77
ORBITAL_SEMIMAJOR_AXIS = 8677.78
PERIAPSIS_ALTITUDE = 306.02
PERIAPSIS_ARGUMENT_ANGLE = 277.5
PERIAPSIS_TIME = 2009-02-24T01:52:18.000Z
SPACECRAFT_ORIENTATION = (0.0,1.0,0.0)
^MEX_ORIENTATION_DESC = "MEX_ORIENTATION_DESC.TXT"
SPACECRAFT_POINTING_MODE = ACROSSTRACK
^MEX_POINTING_DESC = "MEX_POINTING_DESC.TXT"
RIGHT_ASCENSION = -1e+32
DECLINATION = -1e+32
OFFSET_ANGLE = 0.24
SPACECRAFT_SOLAR_DISTANCE = 2.0996e+08
TARGET_NAME = MARS
/* CAMERA DATA ELEMENTS */
DETECTOR_TEMPERATURE = 16.9432
FOCAL_PLANE_TEMPERATURE = 7.7677
INST_CMPRS_NAME = "DISCRETE COSINE TRANSFORMATION (DCT)"
INST_CMPRS_RATIO = 26.4018
INST_CMPRS_QUALITY = 0
INST_CMPRS_QUANTZ_TBL_ID = 0
INSTRUMENT_TEMPERATURE = 10.8262
LENS_TEMPERATURE = 8.1755
MACROPIXEL_SIZE = 8
MISSING_FRAMES = 0
PIXEL_SUBSAMPLING_FLAG = N
SIGNAL_CHAIN_ID = 2
/* RADIOMETRIC DATA ELEMENTS */
BANDWIDTH = 81.0
CENTER_FILTER_WAVELENGTH = 955.5
RADIANCE_OFFSET = 1.08362
RADIANCE_SCALING_FACTOR = 0.00403701
REFLECTANCE_SCALING_FACTOR = 0.000383936
MEX:REFLECTANCE_OFFSET = 0.103057
/* IMAGE OBJECT DEFINITIONS */
OBJECT = IMAGE
  INTERCHANGE_FORMAT = BINARY
  LINES = 5895
  LINE_SAMPLES = 1355
  SAMPLE_TYPE = UNSIGNED_INTEGER
  SAMPLE_BITS = 8
  BANDS = 1
  BAND_STORAGE_TYPE = BAND_SEQUENTIAL
  MAXIMUM = 255
  MEAN = 120.07
  MINIMUM = 1
  STANDARD_DEVIATION = 21.9311
END_OBJECT = IMAGE
/* MAP OBJECT DEFINITIONS */
OBJECT = IMAGE_MAP_PROJECTION
  ^DATA_SET_MAP_PROJECTION_CATALOG= "DSMAP.CAT"
  A_AXIS_RADIUS = 3396.0
  B_AXIS_RADIUS = 3396.0
  C_AXIS_RADIUS = 3396.0
  CENTER_LATITUDE = 0.0
  CENTER_LONGITUDE = 255.0
  COORDINATE_SYSTEM_NAME = PLANETOGRAPHIC
  COORDINATE_SYSTEM_TYPE = "BODY-FIXED ROTATING"
  EASTERNMOST_LONGITUDE = 257.151
  FIRST_STANDARD_PARALLEL = "N/A"
  LINE_FIRST_PIXEL = 1
  LINE_LAST_PIXEL = 5895
  LINE_PROJECTION_OFFSET = -29945.9375
  MAP_PROJECTION_ROTATION = 0.0
  MAP_PROJECTION_TYPE = SINUSOIDAL
  MAP_RESOLUTION = 592.713803866667
  MAP_SCALE = 0.1
  MAXIMUM_LATITUDE = -50.5121
  MINIMUM_LATITUDE = -60.3709
  POSITIVE_LONGITUDE_DIRECTION = EAST
  REFERENCE_LATITUDE = "N/A"
  REFERENCE_LONGITUDE = "N/A"
  SAMPLE_FIRST_PIXEL = 1
  SAMPLE_LAST_PIXEL = 1355
  SAMPLE_PROJECTION_OFFSET = 592.5625
  SECOND_STANDARD_PARALLEL = "N/A"
  WESTERNMOST_LONGITUDE = 252.943
END_OBJECT = IMAGE_MAP_PROJECTION
END
