PDS_VERSION_ID = PDS3
/* FILE DATA ELEMENTS */
RECORD_TYPE = UNDEFINED
/* POINTERS TO DATA OBJECTS */
^IMAGE = ("H6578_0000_ND4.TIF")
/* IDENTIFICATION DATA ELEMENTS */
DATA_SET_ID = "MEX-M-HRSC-4-REFDR-MAPPROJECT-EXT2-V4.0"
DATA_SET_NAME = "MARS EXPRESS HRSC MAP PROJECTED REFDR EXTENSION2 V4.0"
DETECTOR_ID = MEX_HRSC_NADIR
EVENT_TYPE = "MARS-LOCAL-STEREO-Im-Fl-Gl"
INSTRUMENT_HOST_ID = MEX
INSTRUMENT_HOST_NAME = "MARS EXPRESS"
INSTRUMENT_ID = HRSC
INSTRUMENT_NAME = "HIGH RESOLUTION STEREO CAMERA"
MISSION_NAME = "MARS EXPRESS"
MISSION_PHASE_NAME = ME_Phase_15
PROCESSING_LEVEL_ID = 4
PRODUCT_CREATION_TIME = 2023-02-05T03:41:04.000Z
PRODUCT_ID = "H6578_0000_ND4.TIF"
RELEASE_ID = 0006
REVISION_ID = 0000
/* QUALITY DATA ELEMENTS */
DATA_QUALITY_ID = 1
DATA_QUALITY_DESC = "Data calculated based on original SPICE kernels"
/* TIME DATA ELEMENTS */
SPACECRAFT_CLOCK_START_COUNT = "1/0182800790.09052"
SPACECRAFT_CLOCK_STOP_COUNT = "1/0182801154.09013"
START_TIME = 2009-02-15T18:00:24.685Z
STOP_TIME = 2009-02-15T18:04:53.668Z
/* ORBITAL DATA ELEMENTS */
ASCENDING_NODE_LONGITUDE = 92.34
MAXIMUM_RESOLUTION = 0.0145
FOOTPRINT_POINT_LATITUDE = (-60.0359,-60.0085,-59.9836,-59.9383, -59.9371,-59.9329,-59.5446,-58.9326, -58.6248,-58.3172,-58.01,-57.7033, -57.397,-57.091,-56.48,-55.8705, -55.2629,-54.6569,-54.3465,-54.0364, -53.7268,-53.412,-53.0953,-52.7793, -52.459,-52.1359,-51.8132,-51.486, -51.1565,-50.8277,-50.4919,-49.9889, -49.6472,-49.1349,-48.7865,-48.4385, -47.9093,-47.5554,-47.1946,-46.8345, -46.4685,-46.1025,-45.7304,-45.3583, -44.9796,-44.4053,-44.0216,-43.6311, -43.4364,-43.4231,-43.4439,-43.4549, -43.4669,-43.4743,-43.4745,-43.4749, -43.8659,-44.4471,-45.0235,-45.4033, -45.7768,-46.1503,-46.5175,-46.8849, -47.246,-47.6079,-47.9629,-48.4939, -48.8429,-49.1926,-49.7066,-50.0493, -50.554,-50.8909,-51.2207,-51.5511, -51.8795,-52.2031,-52.5273,-52.8486, -53.1657,-53.4834,-53.7993,-54.1098, -54.4207,-54.7322,-55.3401,-55.9497, -56.5609,-57.1739,-57.4809,-57.7884, -58.0962,-58.4044,-58.713,-59.022, -59.3313,-59.8976,-60.0275,-60.0359)
FOOTPRINT_POINT_LONGITUDE = (300.26,299.465,298.84,297.857,297.833, 297.773,297.84,297.941,297.99,298.037, 298.083,298.129,298.175,298.217,298.297 ,298.37,298.442,298.509,298.54,298.571, 298.6,298.629,298.659,298.689,298.716, 298.745,298.77,298.796,298.82,298.845, 298.866,298.902,298.921,298.956,298.976 ,298.994,299.022,299.038,299.053, 299.068,299.084,299.099,299.113,299.126 ,299.138,299.156,299.169,299.176, 299.181,299.182,299.927,300.415,301.109 ,301.751,301.777,301.79,301.769,301.74, 301.711,301.689,301.667,301.644,301.619 ,301.596,301.574,301.551,301.526, 301.498,301.472,301.447,301.412,301.386 ,301.337,301.309,301.291,301.26,301.238 ,301.208,301.172,301.144,301.116, 301.093,301.066,301.035,301.005,300.967 ,300.9,300.832,300.762,300.695,300.654, 300.616,300.577,300.536,300.496,300.455 ,300.412,300.33,300.311,300.26)
ORBIT_NUMBER = 6578
ORBITAL_ECCENTRICITY = 0.576
ORBITAL_INCLINATION = 86.76
ORBITAL_SEMIMAJOR_AXIS = 8680.18
PERIAPSIS_ALTITUDE = 306.22
PERIAPSIS_ARGUMENT_ANGLE = 282.48
PERIAPSIS_TIME = 2009-02-15T17:56:01.000Z
SPACECRAFT_ORIENTATION = (0.0,1.0,0.0)
^MEX_ORIENTATION_DESC = "MEX_ORIENTATION_DESC.TXT"
SPACECRAFT_POINTING_MODE = NADIR
^MEX_POINTING_DESC = "MEX_POINTING_DESC.TXT"
RIGHT_ASCENSION = -1e+32
DECLINATION = -1e+32
OFFSET_ANGLE = -1e+32
SPACECRAFT_SOLAR_DISTANCE = 2.10962e+08
TARGET_NAME = MARS
/* CAMERA DATA ELEMENTS */
DETECTOR_TEMPERATURE = 17.7588
FOCAL_PLANE_TEMPERATURE = 7.7677
INST_CMPRS_NAME = "DISCRETE COSINE TRANSFORMATION (DCT)"
INST_CMPRS_RATIO = 7.16733
INST_CMPRS_QUALITY = 0
INST_CMPRS_QUANTZ_TBL_ID = 0
INSTRUMENT_TEMPERATURE = 10.8262
LENS_TEMPERATURE = 8.1755
MACROPIXEL_SIZE = 1
MISSING_FRAMES = 0
MISSING_FRAMES = 1
PIXEL_SUBSAMPLING_FLAG = N
SIGNAL_CHAIN_ID = 0
/* RADIOMETRIC DATA ELEMENTS */
BANDWIDTH = 177.0
CENTER_FILTER_WAVELENGTH = 677.5
RADIANCE_OFFSET = 4.22405
RADIANCE_SCALING_FACTOR = 0.0340501
REFLECTANCE_SCALING_FACTOR = 0.000805027
MEX:REFLECTANCE_OFFSET = 0.0998669
/* IMAGE OBJECT DEFINITIONS */
OBJECT = IMAGE
  INTERCHANGE_FORMAT = BINARY
  LINES = 78775
  LINE_SAMPLES = 11449
  SAMPLE_TYPE = UNSIGNED_INTEGER
  SAMPLE_BITS = 8
  BANDS = 1
  BAND_STORAGE_TYPE = BAND_SEQUENTIAL
  MAXIMUM = 255
  MEAN = 64.7674
  MINIMUM = 1
  STANDARD_DEVIATION = 14.5375
END_OBJECT = IMAGE
/* MAP OBJECT DEFINITIONS */
OBJECT = IMAGE_MAP_PROJECTION
  ^DATA_SET_MAP_PROJECTION_CATALOG= "DSMAP.CAT"
  A_AXIS_RADIUS = 3396.0
  B_AXIS_RADIUS = 3396.0
  C_AXIS_RADIUS = 3396.0
  CENTER_LATITUDE = 0.0
  CENTER_LONGITUDE = 300.0
  COORDINATE_SYSTEM_NAME = PLANETOGRAPHIC
  COORDINATE_SYSTEM_TYPE = "BODY-FIXED ROTATING"
  EASTERNMOST_LONGITUDE = 301.79
  FIRST_STANDARD_PARALLEL = "N/A"
  LINE_FIRST_PIXEL = 1
  LINE_LAST_PIXEL = 78775
  LINE_PROJECTION_OFFSET = -205902.0
  MAP_PROJECTION_ROTATION = 0.0
  MAP_PROJECTION_TYPE = SINUSOIDAL
  MAP_RESOLUTION = 4741.71043093333
  MAP_SCALE = 0.0125
  MAXIMUM_LATITUDE = -43.4231
  MINIMUM_LATITUDE = -60.0359
  POSITIVE_LONGITUDE_DIRECTION = EAST
  REFERENCE_LATITUDE = "N/A"
  REFERENCE_LONGITUDE = "N/A"
  SAMPLE_FIRST_PIXEL = 1
  SAMPLE_LAST_PIXEL = 11449
  SAMPLE_PROJECTION_OFFSET = 5290.0
  SECOND_STANDARD_PARALLEL = "N/A"
  WESTERNMOST_LONGITUDE = 297.773
END_OBJECT = IMAGE_MAP_PROJECTION
END
