PDS_VERSION_ID = PDS3
/* FILE DATA ELEMENTS */
RECORD_TYPE = UNDEFINED
/* POINTERS TO DATA OBJECTS */
^IMAGE = ("H6547_0000_S14.TIF")
/* IDENTIFICATION DATA ELEMENTS */
DATA_SET_ID = "MEX-M-HRSC-4-REFDR-MAPPROJECT-EXT2-V4.0"
DATA_SET_NAME = "MARS EXPRESS HRSC MAP PROJECTED REFDR EXTENSION2 V4.0"
DETECTOR_ID = MEX_HRSC_S1
EVENT_TYPE = "MARS-REGIONAL-MAPPING-Te-Im-Fl"
INSTRUMENT_HOST_ID = MEX
INSTRUMENT_HOST_NAME = "MARS EXPRESS"
INSTRUMENT_ID = HRSC
INSTRUMENT_NAME = "HIGH RESOLUTION STEREO CAMERA"
MISSION_NAME = "MARS EXPRESS"
MISSION_PHASE_NAME = ME_Phase_15
PROCESSING_LEVEL_ID = 4
PRODUCT_CREATION_TIME = 2023-02-05T03:41:04.000Z
PRODUCT_ID = "H6547_0000_S14.TIF"
RELEASE_ID = 0006
REVISION_ID = 0000
/* QUALITY DATA ELEMENTS */
DATA_QUALITY_ID = 1
DATA_QUALITY_DESC = "Data calculated based on original SPICE kernels"
/* TIME DATA ELEMENTS */
SPACECRAFT_CLOCK_START_COUNT = "1/0182031476.08262"
SPACECRAFT_CLOCK_STOP_COUNT = "1/0182031985.61100"
START_TIME = 2009-02-06T20:19:20.592Z
STOP_TIME = 2009-02-06T20:26:26.430Z
/* ORBITAL DATA ELEMENTS */
ASCENDING_NODE_LONGITUDE = 92.94
MAXIMUM_RESOLUTION = 0.0383
FOOTPRINT_POINT_LATITUDE = (-47.7808,-47.7895,-47.7951,-47.7975, -47.7975,-47.8476,-46.9257,-46.369, -45.7975,-45.0322,-44.0578,-43.2596, -42.8569,-42.4578,-42.0497,-41.6376, -41.2212,-40.8015,-40.3784,-39.7354, -39.3038,-38.8681,-38.4267,-37.982, -37.5322,-37.0774,-36.6185,-36.1583, -35.6929,-35.2207,-34.7556,-34.2941, -33.8337,-33.3749,-32.9211,-32.468, -31.7916,-31.1368,-30.7002,-30.2663, -29.8355,-29.4081,-28.9836,-28.5626, -28.1445,-27.7348,-27.3151,-26.9081, -26.705,-26.6537,-26.6228,-26.5986, -26.5739,-26.532,-26.511,-26.5095, -26.5096,-26.9137,-27.327,-27.7437, -28.1633,-28.8032,-29.2286,-29.6601, -30.093,-30.5287,-31.1918,-31.6352, -32.0831,-32.5364,-33.2141,-33.6724, -34.1322,-34.5966,-35.3102,-35.7836, -36.2551,-36.7181,-37.4064,-37.8592, -38.3062,-38.7467,-39.4067,-39.8428, -40.2749,-40.7011,-41.3349,-41.7517, -42.1655,-42.574,-43.1813,-43.7796, -44.3721,-45.1478,-45.7244,-46.4833, -47.0467,-47.6018,-47.7867,-47.7808)
FOOTPRINT_POINT_LONGITUDE = (185.07,184.348,183.604,182.69,182.665, 182.581,182.669,182.71,182.763,182.82, 182.89,182.944,182.969,182.983,183.004, 183.025,183.045,183.064,183.082,183.107 ,183.122,183.134,183.147,183.159, 183.171,183.182,183.191,183.197,183.202 ,183.206,183.21,183.213,183.216,183.22, 183.221,183.223,183.226,183.215,183.21, 183.204,183.198,183.19,183.182,183.173, 183.163,183.149,183.143,183.13,183.124, 183.122,183.912,184.489,185.191,185.987 ,186.544,186.577,186.588,186.568, 186.547,186.526,186.504,186.472,186.449 ,186.427,186.403,186.38,186.344,186.319 ,186.293,186.268,186.228,186.201, 186.173,186.145,186.1,186.07,186.039, 186.008,185.961,185.93,185.898,185.867, 185.818,185.785,185.751,185.718,185.667 ,185.632,185.597,185.563,185.509, 185.456,185.401,185.328,185.27,185.192, 185.133,185.072,185.051,185.07)
ORBIT_NUMBER = 6547
ORBITAL_ECCENTRICITY = 0.576
ORBITAL_INCLINATION = 86.77
ORBITAL_SEMIMAJOR_AXIS = 8684.95
PERIAPSIS_ALTITUDE = 305.84
PERIAPSIS_ARGUMENT_ANGLE = 287.77
PERIAPSIS_TIME = 2009-02-06T20:12:26.000Z
SPACECRAFT_ORIENTATION = (0.0,1.0,0.0)
^MEX_ORIENTATION_DESC = "MEX_ORIENTATION_DESC.TXT"
SPACECRAFT_POINTING_MODE = ACROSSTRACK
^MEX_POINTING_DESC = "MEX_POINTING_DESC.TXT"
RIGHT_ASCENSION = -1e+32
DECLINATION = -1e+32
OFFSET_ANGLE = 1.42
SPACECRAFT_SOLAR_DISTANCE = 2.12155e+08
TARGET_NAME = MARS
/* CAMERA DATA ELEMENTS */
DETECTOR_TEMPERATURE = 17.5549
FOCAL_PLANE_TEMPERATURE = 8.1755
INST_CMPRS_NAME = "DISCRETE COSINE TRANSFORMATION (DCT)"
INST_CMPRS_RATIO = 9.79765
INST_CMPRS_QUALITY = 0
INST_CMPRS_QUANTZ_TBL_ID = 0
INSTRUMENT_TEMPERATURE = 11.0301
LENS_TEMPERATURE = 8.3794
MACROPIXEL_SIZE = 2
MISSING_FRAMES = 1
PIXEL_SUBSAMPLING_FLAG = N
SIGNAL_CHAIN_ID = 1
/* RADIOMETRIC DATA ELEMENTS */
BANDWIDTH = 180.0
CENTER_FILTER_WAVELENGTH = 677.0
RADIANCE_OFFSET = 5.06992
RADIANCE_SCALING_FACTOR = 0.0216895
REFLECTANCE_SCALING_FACTOR = 0.000509327
MEX:REFLECTANCE_OFFSET = 0.119055
/* IMAGE OBJECT DEFINITIONS */
OBJECT = IMAGE
  INTERCHANGE_FORMAT = BINARY
  LINES = 50619
  LINE_SAMPLES = 6545
  SAMPLE_TYPE = UNSIGNED_INTEGER
  SAMPLE_BITS = 8
  BANDS = 1
  BAND_STORAGE_TYPE = BAND_SEQUENTIAL
  MAXIMUM = 255
  MEAN = 115.208
  MINIMUM = 1
  STANDARD_DEVIATION = 32.7755
END_OBJECT = IMAGE
/* MAP OBJECT DEFINITIONS */
OBJECT = IMAGE_MAP_PROJECTION
  ^DATA_SET_MAP_PROJECTION_CATALOG= "DSMAP.CAT"
  A_AXIS_RADIUS = 3396.0
  B_AXIS_RADIUS = 3396.0
  C_AXIS_RADIUS = 3396.0
  CENTER_LATITUDE = 0.0
  CENTER_LONGITUDE = 185.0
  COORDINATE_SYSTEM_NAME = PLANETOGRAPHIC
  COORDINATE_SYSTEM_TYPE = "BODY-FIXED ROTATING"
  EASTERNMOST_LONGITUDE = 186.588
  FIRST_STANDARD_PARALLEL = "N/A"
  LINE_FIRST_PIXEL = 1
  LINE_LAST_PIXEL = 50619
  LINE_PROJECTION_OFFSET = -62973.75
  MAP_PROJECTION_ROTATION = 0.0
  MAP_PROJECTION_TYPE = SINUSOIDAL
  MAP_RESOLUTION = 2370.85521546667
  MAP_SCALE = 0.025
  MAXIMUM_LATITUDE = -26.5095
  MINIMUM_LATITUDE = -47.8476
  POSITIVE_LONGITUDE_DIRECTION = EAST
  REFERENCE_LATITUDE = "N/A"
  REFERENCE_LONGITUDE = "N/A"
  SAMPLE_FIRST_PIXEL = 1
  SAMPLE_LAST_PIXEL = 6545
  SAMPLE_PROJECTION_OFFSET = 3703.25
  SECOND_STANDARD_PARALLEL = "N/A"
  WESTERNMOST_LONGITUDE = 182.581
END_OBJECT = IMAGE_MAP_PROJECTION
END
