PDS_VERSION_ID = PDS3
/* FILE DATA ELEMENTS */
RECORD_TYPE = UNDEFINED
/* POINTERS TO DATA OBJECTS */
^IMAGE = ("H6547_0000_RE4.TIF")
/* IDENTIFICATION DATA ELEMENTS */
DATA_SET_ID = "MEX-M-HRSC-4-REFDR-MAPPROJECT-EXT2-V4.0"
DATA_SET_NAME = "MARS EXPRESS HRSC MAP PROJECTED REFDR EXTENSION2 V4.0"
DETECTOR_ID = MEX_HRSC_RED
EVENT_TYPE = "MARS-REGIONAL-MAPPING-Te-Im-Fl"
INSTRUMENT_HOST_ID = MEX
INSTRUMENT_HOST_NAME = "MARS EXPRESS"
INSTRUMENT_ID = HRSC
INSTRUMENT_NAME = "HIGH RESOLUTION STEREO CAMERA"
MISSION_NAME = "MARS EXPRESS"
MISSION_PHASE_NAME = ME_Phase_15
PROCESSING_LEVEL_ID = 4
PRODUCT_CREATION_TIME = 2023-02-05T03:41:04.000Z
PRODUCT_ID = "H6547_0000_RE4.TIF"
RELEASE_ID = 0006
REVISION_ID = 0000
/* QUALITY DATA ELEMENTS */
DATA_QUALITY_ID = 1
DATA_QUALITY_DESC = "Data calculated based on original SPICE kernels"
/* TIME DATA ELEMENTS */
SPACECRAFT_CLOCK_START_COUNT = "1/0182031476.08262"
SPACECRAFT_CLOCK_STOP_COUNT = "1/0182031985.61100"
START_TIME = 2009-02-06T20:18:04.940Z
STOP_TIME = 2009-02-06T20:23:44.701Z
/* ORBITAL DATA ELEMENTS */
ASCENDING_NODE_LONGITUDE = 92.94
MAXIMUM_RESOLUTION = 0.0673
FOOTPRINT_POINT_LATITUDE = (-48.0193,-47.9654,-47.9053,-47.8161, -47.8138,-47.7609,-47.2481,-46.5578, -46.2025,-45.8549,-45.3187,-44.9609, -44.5954,-44.0506,-43.4977,-43.1285, -42.7503,-42.3639,-41.9827,-41.4007, -41.0119,-40.6167,-40.2201,-39.8167, -39.412,-39.0001,-38.5884,-38.1699, -37.5367,-37.1124,-36.6798,-36.0228, -35.3561,-34.6803,-33.9949,-33.5349, -32.8313,-32.3597,-31.6343,-31.145, -30.6487,-30.1475,-29.6429,-29.1293, -28.6085,-28.0862,-27.5673,-26.788, -26.53,-26.4949,-26.544,-26.5737, -26.5987,-26.6387,-26.6396,-26.6415, -27.4231,-28.2073,-28.7324,-29.251, -29.7657,-30.2743,-30.778,-31.2773, -31.7703,-32.2519,-32.9723,-33.6852, -34.3764,-34.8388,-35.2914,-35.7376, -36.1795,-36.6188,-37.0511,-37.6952, -38.3301,-38.9606,-39.3719,-39.7785, -40.1818,-40.5823,-40.9792,-41.5672, -42.1508,-42.5334,-43.1052,-43.4803, -44.0415,-44.5941,-44.9628,-45.3234, -45.6825,-46.0396,-46.3907,-46.7408, -47.0916,-47.7786,-47.9503,-48.0193)
FOOTPRINT_POINT_LONGITUDE = (184.924,184.307,183.672,182.808, 182.787,182.713,182.767,182.835,182.861 ,182.895,182.94,182.97,182.994,183.041, 183.083,183.114,183.134,183.153,183.176 ,183.21,183.232,183.254,183.274,183.293 ,183.311,183.327,183.343,183.36,183.382 ,183.398,183.411,183.427,183.442, 183.456,183.47,183.48,183.491,183.5, 183.506,183.509,183.51,183.511,183.513, 183.511,183.508,183.504,183.501,183.491 ,183.488,183.488,184.267,184.779,185.31 ,186.181,186.205,186.214,186.189, 186.163,186.145,186.126,186.107,186.088 ,186.068,186.048,186.028,186.006, 185.975,185.943,185.909,185.887,185.864 ,185.84,185.816,185.792,185.767,185.729 ,185.691,185.653,185.626,185.599, 185.571,185.543,185.515,185.472,185.428 ,185.398,185.353,185.323,185.276,185.23 ,185.198,185.166,185.133,185.098, 185.065,185.03,184.994,184.923,184.905, 184.924)
ORBIT_NUMBER = 6547
ORBITAL_ECCENTRICITY = 0.576
ORBITAL_INCLINATION = 86.77
ORBITAL_SEMIMAJOR_AXIS = 8684.95
PERIAPSIS_ALTITUDE = 305.84
PERIAPSIS_ARGUMENT_ANGLE = 287.77
PERIAPSIS_TIME = 2009-02-06T20:12:26.000Z
SPACECRAFT_ORIENTATION = (0.0,1.0,0.0)
^MEX_ORIENTATION_DESC = "MEX_ORIENTATION_DESC.TXT"
SPACECRAFT_POINTING_MODE = ACROSSTRACK
^MEX_POINTING_DESC = "MEX_POINTING_DESC.TXT"
RIGHT_ASCENSION = -1e+32
DECLINATION = -1e+32
OFFSET_ANGLE = 1.42
SPACECRAFT_SOLAR_DISTANCE = 2.12155e+08
TARGET_NAME = MARS
/* CAMERA DATA ELEMENTS */
DETECTOR_TEMPERATURE = 18.5744
FOCAL_PLANE_TEMPERATURE = 8.1755
INST_CMPRS_NAME = "DISCRETE COSINE TRANSFORMATION (DCT)"
INST_CMPRS_RATIO = 15.7591
INST_CMPRS_QUALITY = 0
INST_CMPRS_QUANTZ_TBL_ID = 0
INSTRUMENT_TEMPERATURE = 11.0301
LENS_TEMPERATURE = 8.3794
MACROPIXEL_SIZE = 4
MISSING_FRAMES = 0
PIXEL_SUBSAMPLING_FLAG = N
SIGNAL_CHAIN_ID = 2
/* RADIOMETRIC DATA ELEMENTS */
BANDWIDTH = 48.0
CENTER_FILTER_WAVELENGTH = 748.0
RADIANCE_OFFSET = 1.1479
RADIANCE_SCALING_FACTOR = 0.00562697
REFLECTANCE_SCALING_FACTOR = 0.000577971
MEX:REFLECTANCE_OFFSET = 0.117906
/* IMAGE OBJECT DEFINITIONS */
OBJECT = IMAGE
  INTERCHANGE_FORMAT = BINARY
  LINES = 25310
  LINE_SAMPLES = 3273
  SAMPLE_TYPE = UNSIGNED_INTEGER
  SAMPLE_BITS = 8
  BANDS = 1
  BAND_STORAGE_TYPE = BAND_SEQUENTIAL
  MAXIMUM = 255
  MEAN = 114.255
  MINIMUM = 1
  STANDARD_DEVIATION = 33.4301
END_OBJECT = IMAGE
/* MAP OBJECT DEFINITIONS */
OBJECT = IMAGE_MAP_PROJECTION
  ^DATA_SET_MAP_PROJECTION_CATALOG= "DSMAP.CAT"
  A_AXIS_RADIUS = 3396.0
  B_AXIS_RADIUS = 3396.0
  C_AXIS_RADIUS = 3396.0
  CENTER_LATITUDE = 0.0
  CENTER_LONGITUDE = 185.0
  COORDINATE_SYSTEM_NAME = PLANETOGRAPHIC
  COORDINATE_SYSTEM_TYPE = "BODY-FIXED ROTATING"
  EASTERNMOST_LONGITUDE = 186.214
  FIRST_STANDARD_PARALLEL = "N/A"
  LINE_FIRST_PIXEL = 1
  LINE_LAST_PIXEL = 25310
  LINE_PROJECTION_OFFSET = -31487.125
  MAP_PROJECTION_ROTATION = 0.0
  MAP_PROJECTION_TYPE = SINUSOIDAL
  MAP_RESOLUTION = 1185.42760773333
  MAP_SCALE = 0.05
  MAXIMUM_LATITUDE = -26.4949
  MINIMUM_LATITUDE = -48.0193
  POSITIVE_LONGITUDE_DIRECTION = EAST
  REFERENCE_LATITUDE = "N/A"
  REFERENCE_LONGITUDE = "N/A"
  SAMPLE_FIRST_PIXEL = 1
  SAMPLE_LAST_PIXEL = 3273
  SAMPLE_PROJECTION_OFFSET = 1851.375
  SECOND_STANDARD_PARALLEL = "N/A"
  WESTERNMOST_LONGITUDE = 182.713
END_OBJECT = IMAGE_MAP_PROJECTION
END
