PDS_VERSION_ID = PDS3
/* FILE DATA ELEMENTS */
RECORD_TYPE = UNDEFINED
/* POINTERS TO DATA OBJECTS */
^IMAGE = ("H6547_0000_GR4.TIF")
/* IDENTIFICATION DATA ELEMENTS */
DATA_SET_ID = "MEX-M-HRSC-4-REFDR-MAPPROJECT-EXT2-V4.0"
DATA_SET_NAME = "MARS EXPRESS HRSC MAP PROJECTED REFDR EXTENSION2 V4.0"
DETECTOR_ID = MEX_HRSC_GREEN
EVENT_TYPE = "MARS-REGIONAL-MAPPING-Te-Im-Fl"
INSTRUMENT_HOST_ID = MEX
INSTRUMENT_HOST_NAME = "MARS EXPRESS"
INSTRUMENT_ID = HRSC
INSTRUMENT_NAME = "HIGH RESOLUTION STEREO CAMERA"
MISSION_NAME = "MARS EXPRESS"
MISSION_PHASE_NAME = ME_Phase_15
PROCESSING_LEVEL_ID = 4
PRODUCT_CREATION_TIME = 2023-02-05T03:41:04.000Z
PRODUCT_ID = "H6547_0000_GR4.TIF"
RELEASE_ID = 0006
REVISION_ID = 0000
/* QUALITY DATA ELEMENTS */
DATA_QUALITY_ID = 1
DATA_QUALITY_DESC = "Data calculated based on original SPICE kernels"
/* TIME DATA ELEMENTS */
SPACECRAFT_CLOCK_START_COUNT = "1/0182031476.08262"
SPACECRAFT_CLOCK_STOP_COUNT = "1/0182031985.61100"
START_TIME = 2009-02-06T20:18:43.921Z
STOP_TIME = 2009-02-06T20:25:01.470Z
/* ORBITAL DATA ELEMENTS */
ASCENDING_NODE_LONGITUDE = 92.94
MAXIMUM_RESOLUTION = 0.0681
FOOTPRINT_POINT_LATITUDE = (-47.8891,-47.8688,-47.8443,-47.8049, -47.8039,-47.8069,-47.1063,-46.216, -45.4928,-44.757,-44.196,-43.4399, -42.865,-42.4785,-42.0878,-41.6942, -41.2963,-40.8967,-40.4908,-40.0837, -39.6714,-39.2556,-38.6254,-38.2014, -37.7709,-37.3368,-36.8993,-36.4577, -36.0106,-35.5593,-35.1037,-34.6436, -34.1787,-33.7083,-33.2324,-32.7517, -32.265,-31.5391,-31.0579,-30.579, -30.1025,-29.6282,-29.1563,-28.687, -28.2199,-27.755,-27.2927,-26.8328, -26.6034,-26.5681,-26.5723,-26.5733, -26.5688,-26.5648,-26.5645,-26.5658, -27.0269,-27.4907,-27.9567,-28.4252, -28.896,-29.3694,-29.845,-30.3227, -30.8025,-31.285,-31.7693,-32.257, -32.7457,-33.2282,-33.7058,-34.1786, -34.6456,-35.1084,-35.5669,-36.0214, -36.4711,-36.9149,-37.3545,-37.7907, -38.2231,-38.6483,-39.0716,-39.4919, -39.9066,-40.3197,-40.7272,-41.3324, -41.7324,-42.1272,-42.5199,-42.9085, -43.6765,-44.432,-45.1754,-46.0895, -46.9874,-47.6947,-47.8691,-47.8891)
FOOTPRINT_POINT_LONGITUDE = (184.998,184.348,183.68,182.772,182.75, 182.673,182.742,182.818,182.882,182.935 ,182.981,183.036,183.076,183.091, 183.114,183.136,183.157,183.177,183.198 ,183.216,183.234,183.25,183.272,183.287 ,183.301,183.314,183.327,183.337, 183.346,183.354,183.361,183.368,183.375 ,183.382,183.388,183.393,183.401, 183.401,183.4,183.399,183.397,183.395, 183.391,183.385,183.379,183.372,183.365 ,183.356,183.353,183.35,184.07,184.836, 185.894,186.333,186.36,186.37,186.352, 186.334,186.316,186.298,186.278,186.258 ,186.238,186.217,186.196,186.174, 186.151,186.128,186.104,186.08,186.056, 186.031,186.006,185.981,185.955,185.928 ,185.902,185.875,185.848,185.82,185.792 ,185.766,185.737,185.708,185.679, 185.649,185.619,185.573,185.542,185.511 ,185.48,185.448,185.383,185.317,185.25, 185.163,185.071,184.997,184.978, 184.998)
ORBIT_NUMBER = 6547
ORBITAL_ECCENTRICITY = 0.576
ORBITAL_INCLINATION = 86.77
ORBITAL_SEMIMAJOR_AXIS = 8684.95
PERIAPSIS_ALTITUDE = 305.84
PERIAPSIS_ARGUMENT_ANGLE = 287.77
PERIAPSIS_TIME = 2009-02-06T20:12:26.000Z
SPACECRAFT_ORIENTATION = (0.0,1.0,0.0)
^MEX_ORIENTATION_DESC = "MEX_ORIENTATION_DESC.TXT"
SPACECRAFT_POINTING_MODE = ACROSSTRACK
^MEX_POINTING_DESC = "MEX_POINTING_DESC.TXT"
RIGHT_ASCENSION = -1e+32
DECLINATION = -1e+32
OFFSET_ANGLE = 1.42
SPACECRAFT_SOLAR_DISTANCE = 2.12155e+08
TARGET_NAME = MARS
/* CAMERA DATA ELEMENTS */
DETECTOR_TEMPERATURE = 18.3705
FOCAL_PLANE_TEMPERATURE = 8.1755
INST_CMPRS_NAME = "DISCRETE COSINE TRANSFORMATION (DCT)"
INST_CMPRS_RATIO = 12.7549
INST_CMPRS_QUALITY = 0
INST_CMPRS_QUANTZ_TBL_ID = 0
INSTRUMENT_TEMPERATURE = 11.0301
LENS_TEMPERATURE = 8.3794
MACROPIXEL_SIZE = 4
MISSING_FRAMES = 0
PIXEL_SUBSAMPLING_FLAG = N
SIGNAL_CHAIN_ID = 2
/* RADIOMETRIC DATA ELEMENTS */
BANDWIDTH = 88.0
CENTER_FILTER_WAVELENGTH = 538.0
RADIANCE_OFFSET = 1.72838
RADIANCE_SCALING_FACTOR = 0.00613246
REFLECTANCE_SCALING_FACTOR = 0.000237644
MEX:REFLECTANCE_OFFSET = 0.066978
/* IMAGE OBJECT DEFINITIONS */
OBJECT = IMAGE
  INTERCHANGE_FORMAT = BINARY
  LINES = 25310
  LINE_SAMPLES = 3273
  SAMPLE_TYPE = UNSIGNED_INTEGER
  SAMPLE_BITS = 8
  BANDS = 1
  BAND_STORAGE_TYPE = BAND_SEQUENTIAL
  MAXIMUM = 255
  MEAN = 115.58
  MINIMUM = 1
  STANDARD_DEVIATION = 27.9081
END_OBJECT = IMAGE
/* MAP OBJECT DEFINITIONS */
OBJECT = IMAGE_MAP_PROJECTION
  ^DATA_SET_MAP_PROJECTION_CATALOG= "DSMAP.CAT"
  A_AXIS_RADIUS = 3396.0
  B_AXIS_RADIUS = 3396.0
  C_AXIS_RADIUS = 3396.0
  CENTER_LATITUDE = 0.0
  CENTER_LONGITUDE = 185.0
  COORDINATE_SYSTEM_NAME = PLANETOGRAPHIC
  COORDINATE_SYSTEM_TYPE = "BODY-FIXED ROTATING"
  EASTERNMOST_LONGITUDE = 186.37
  FIRST_STANDARD_PARALLEL = "N/A"
  LINE_FIRST_PIXEL = 1
  LINE_LAST_PIXEL = 25310
  LINE_PROJECTION_OFFSET = -31487.125
  MAP_PROJECTION_ROTATION = 0.0
  MAP_PROJECTION_TYPE = SINUSOIDAL
  MAP_RESOLUTION = 1185.42760773333
  MAP_SCALE = 0.05
  MAXIMUM_LATITUDE = -26.5645
  MINIMUM_LATITUDE = -47.8891
  POSITIVE_LONGITUDE_DIRECTION = EAST
  REFERENCE_LATITUDE = "N/A"
  REFERENCE_LONGITUDE = "N/A"
  SAMPLE_FIRST_PIXEL = 1
  SAMPLE_LAST_PIXEL = 3273
  SAMPLE_PROJECTION_OFFSET = 1851.375
  SECOND_STANDARD_PARALLEL = "N/A"
  WESTERNMOST_LONGITUDE = 182.673
END_OBJECT = IMAGE_MAP_PROJECTION
END
