PDS_VERSION_ID = PDS3
/* FILE DATA ELEMENTS */
RECORD_TYPE = UNDEFINED
/* POINTERS TO DATA OBJECTS */
^IMAGE = ("H6544_0000_IR4.TIF")
/* IDENTIFICATION DATA ELEMENTS */
DATA_SET_ID = "MEX-M-HRSC-4-REFDR-MAPPROJECT-EXT2-V4.0"
DATA_SET_NAME = "MARS EXPRESS HRSC MAP PROJECTED REFDR EXTENSION2 V4.0"
DETECTOR_ID = MEX_HRSC_IR
EVENT_TYPE = "MARS-REGIONAL-MAPPING-Te-Fl-Gl"
INSTRUMENT_HOST_ID = MEX
INSTRUMENT_HOST_NAME = "MARS EXPRESS"
INSTRUMENT_ID = HRSC
INSTRUMENT_NAME = "HIGH RESOLUTION STEREO CAMERA"
MISSION_NAME = "MARS EXPRESS"
MISSION_PHASE_NAME = ME_Phase_15
PROCESSING_LEVEL_ID = 4
PRODUCT_CREATION_TIME = 2023-02-05T03:41:04.000Z
PRODUCT_ID = "H6544_0000_IR4.TIF"
RELEASE_ID = 0006
REVISION_ID = 0000
/* QUALITY DATA ELEMENTS */
DATA_QUALITY_ID = 1
DATA_QUALITY_DESC = "Data calculated based on original SPICE kernels"
/* TIME DATA ELEMENTS */
SPACECRAFT_CLOCK_START_COUNT = "1/0181956806.09043"
SPACECRAFT_CLOCK_STOP_COUNT = "1/0181957265.40645"
START_TIME = 2009-02-05T23:34:21.597Z
STOP_TIME = 2009-02-05T23:40:55.055Z
/* ORBITAL DATA ELEMENTS */
ASCENDING_NODE_LONGITUDE = 93.01
MAXIMUM_RESOLUTION = 0.0547
FOOTPRINT_POINT_LATITUDE = (-61.4516,-61.4041,-61.3661,-61.3651, -61.4201,-60.269,-59.679,-59.2849, -58.8911,-58.4978,-58.1058,-57.3248, -56.741,-56.1587,-55.3881,-54.9348, -54.4761,-54.0192,-53.5631,-53.1079, -52.6539,-52.198,-51.7459,-51.3012, -50.8544,-50.171,-49.7141,-49.2479, -48.7839,-48.3078,-47.8331,-47.3528, -46.867,-46.3774,-45.8823,-45.3838, -44.8776,-44.3654,-43.8497,-43.329, -42.5259,-41.9887,-41.4449,-40.8932, -40.3343,-39.7714,-39.2051,-38.6284, -38.3372,-38.3147,-38.3218,-38.3224, -38.3252,-38.3271,-38.3271,-38.3283, -38.9129,-39.486,-40.0549,-40.6168, -41.1728,-41.7221,-42.2651,-42.8007, -43.3411,-43.8642,-44.3815,-44.8944, -45.405,-45.9012,-46.399,-46.8901, -47.6187,-48.101,-48.576,-49.2777, -49.7438,-50.436,-50.8872,-51.3349, -51.7887,-52.2451,-52.9306,-53.61, -54.0674,-54.5223,-54.9776,-55.8274, -56.6043,-57.1921,-57.7795,-58.1727, -58.5665,-58.9603,-59.3545,-59.7495, -60.3415,-61.304,-61.4972,-61.4516)
FOOTPRINT_POINT_LONGITUDE = (127.519,126.149,125.24,125.218,125.127 ,125.378,125.496,125.572,125.646, 125.717,125.785,125.912,126.002,126.087 ,126.191,126.249,126.306,126.361, 126.413,126.464,126.513,126.563,126.608 ,126.645,126.684,126.742,126.779, 126.814,126.847,126.881,126.912,126.939 ,126.968,126.994,127.019,127.043, 127.065,127.087,127.107,127.124,127.149 ,127.164,127.178,127.191,127.203, 127.211,127.216,127.222,127.224,127.224 ,127.921,128.424,128.973,129.757, 129.781,129.789,129.76,129.729,129.699, 129.668,129.638,129.607,129.576,129.544 ,129.511,129.478,129.445,129.411, 129.377,129.341,129.306,129.27,129.215, 129.178,129.14,129.081,129.041,128.982, 128.939,128.897,128.854,128.811,128.742 ,128.668,128.618,128.565,128.51,128.407 ,128.307,128.228,128.145,128.088,128.03 ,127.969,127.906,127.842,127.742, 127.569,127.533,127.519)
ORBIT_NUMBER = 6544
ORBITAL_ECCENTRICITY = 0.576
ORBITAL_INCLINATION = 86.76
ORBITAL_SEMIMAJOR_AXIS = 8687.39
PERIAPSIS_ALTITUDE = 305.76
PERIAPSIS_ARGUMENT_ANGLE = 288.27
PERIAPSIS_TIME = 2009-02-05T23:31:26.000Z
SPACECRAFT_ORIENTATION = (0.0,1.0,0.0)
^MEX_ORIENTATION_DESC = "MEX_ORIENTATION_DESC.TXT"
SPACECRAFT_POINTING_MODE = ACROSSTRACK
^MEX_POINTING_DESC = "MEX_POINTING_DESC.TXT"
RIGHT_ASCENSION = -1e+32
DECLINATION = -1e+32
OFFSET_ANGLE = 0.3
SPACECRAFT_SOLAR_DISTANCE = 2.12276e+08
TARGET_NAME = MARS
/* CAMERA DATA ELEMENTS */
DETECTOR_TEMPERATURE = 17.1471
FOCAL_PLANE_TEMPERATURE = 8.3794
INST_CMPRS_NAME = "DISCRETE COSINE TRANSFORMATION (DCT)"
INST_CMPRS_RATIO = 16.977
INST_CMPRS_QUALITY = 0
INST_CMPRS_QUANTZ_TBL_ID = 0
INSTRUMENT_TEMPERATURE = 11.234
LENS_TEMPERATURE = 8.7872
MACROPIXEL_SIZE = 4
MISSING_FRAMES = 1
PIXEL_SUBSAMPLING_FLAG = N
SIGNAL_CHAIN_ID = 2
/* RADIOMETRIC DATA ELEMENTS */
BANDWIDTH = 81.0
CENTER_FILTER_WAVELENGTH = 955.5
RADIANCE_OFFSET = 0.846717
RADIANCE_SCALING_FACTOR = 0.00852043
REFLECTANCE_SCALING_FACTOR = 0.000828304
MEX:REFLECTANCE_OFFSET = 0.0823127
/* IMAGE OBJECT DEFINITIONS */
OBJECT = IMAGE
  INTERCHANGE_FORMAT = BINARY
  LINES = 27540
  LINE_SAMPLES = 3181
  SAMPLE_TYPE = UNSIGNED_INTEGER
  SAMPLE_BITS = 8
  BANDS = 1
  BAND_STORAGE_TYPE = BAND_SEQUENTIAL
  MAXIMUM = 255
  MEAN = 127.092
  MINIMUM = 1
  STANDARD_DEVIATION = 65.9887
END_OBJECT = IMAGE
/* MAP OBJECT DEFINITIONS */
OBJECT = IMAGE_MAP_PROJECTION
  ^DATA_SET_MAP_PROJECTION_CATALOG= "DSMAP.CAT"
  A_AXIS_RADIUS = 3396.0
  B_AXIS_RADIUS = 3396.0
  C_AXIS_RADIUS = 3396.0
  CENTER_LATITUDE = 0.0
  CENTER_LONGITUDE = 128.0
  COORDINATE_SYSTEM_NAME = PLANETOGRAPHIC
  COORDINATE_SYSTEM_TYPE = "BODY-FIXED ROTATING"
  EASTERNMOST_LONGITUDE = 129.789
  FIRST_STANDARD_PARALLEL = "N/A"
  LINE_FIRST_PIXEL = 1
  LINE_LAST_PIXEL = 27540
  LINE_PROJECTION_OFFSET = -45412.625
  MAP_PROJECTION_ROTATION = 0.0
  MAP_PROJECTION_TYPE = SINUSOIDAL
  MAP_RESOLUTION = 1185.42760773333
  MAP_SCALE = 0.05
  MAXIMUM_LATITUDE = -38.3147
  MINIMUM_LATITUDE = -61.4972
  POSITIVE_LONGITUDE_DIRECTION = EAST
  REFERENCE_LATITUDE = "N/A"
  REFERENCE_LONGITUDE = "N/A"
  SAMPLE_FIRST_PIXEL = 1
  SAMPLE_LAST_PIXEL = 3181
  SAMPLE_PROJECTION_OFFSET = 1618.375
  SECOND_STANDARD_PARALLEL = "N/A"
  WESTERNMOST_LONGITUDE = 125.127
END_OBJECT = IMAGE_MAP_PROJECTION
END
