PDS_VERSION_ID = PDS3
/* FILE DATA ELEMENTS */
RECORD_TYPE = UNDEFINED
/* POINTERS TO DATA OBJECTS */
^IMAGE = ("H6544_0000_BL4.TIF")
/* IDENTIFICATION DATA ELEMENTS */
DATA_SET_ID = "MEX-M-HRSC-4-REFDR-MAPPROJECT-EXT2-V4.0"
DATA_SET_NAME = "MARS EXPRESS HRSC MAP PROJECTED REFDR EXTENSION2 V4.0"
DETECTOR_ID = MEX_HRSC_BLUE
EVENT_TYPE = "MARS-REGIONAL-MAPPING-Te-Fl-Gl"
INSTRUMENT_HOST_ID = MEX
INSTRUMENT_HOST_NAME = "MARS EXPRESS"
INSTRUMENT_ID = HRSC
INSTRUMENT_NAME = "HIGH RESOLUTION STEREO CAMERA"
MISSION_NAME = "MARS EXPRESS"
MISSION_PHASE_NAME = ME_Phase_15
PROCESSING_LEVEL_ID = 4
PRODUCT_CREATION_TIME = 2023-02-05T03:41:04.000Z
PRODUCT_ID = "H6544_0000_BL4.TIF"
RELEASE_ID = 0006
REVISION_ID = 0000
/* QUALITY DATA ELEMENTS */
DATA_QUALITY_ID = 1
DATA_QUALITY_DESC = "Data calculated based on original SPICE kernels"
/* TIME DATA ELEMENTS */
SPACECRAFT_CLOCK_START_COUNT = "1/0181956806.09043"
SPACECRAFT_CLOCK_STOP_COUNT = "1/0181957265.40645"
START_TIME = 2009-02-05T23:33:52.182Z
STOP_TIME = 2009-02-05T23:39:58.288Z
/* ORBITAL DATA ELEMENTS */
ASCENDING_NODE_LONGITUDE = 93.01
MAXIMUM_RESOLUTION = 0.0511
FOOTPRINT_POINT_LATITUDE = (-61.5605,-61.5044,-61.4509,-61.4497, -61.4308,-60.6699,-59.889,-59.1035, -58.3192,-57.7144,-57.31,-56.9058, -56.5022,-56.0988,-55.6954,-55.2928, -54.8906,-54.4891,-54.088,-53.2874, -52.8248,-52.3494,-51.6373,-51.1623, -50.6892,-50.2169,-49.7457,-49.2751, -48.805,-48.3369,-47.8571,-47.3772, -46.8892,-46.3995,-45.9009,-45.401, -44.8914,-44.1199,-43.5999,-43.0702, -42.5368,-41.9965,-41.4478,-40.8948, -40.3354,-39.766,-39.1886,-38.6046, -38.3111,-38.3086,-38.3303,-38.342, -38.3554,-38.3556,-38.3569,-39.2373, -39.8158,-40.3865,-40.9478,-41.5029, -42.0532,-42.5945,-43.1294,-43.6606, -44.1819,-44.9556,-45.4665,-45.968, -46.4677,-46.9587,-47.4483,-47.9285, -48.4098,-48.8797,-49.3513,-50.0583, -50.7696,-51.2442,-51.9567,-52.4318, -52.9087,-53.3742,-53.7752,-54.1771, -54.5799,-54.9837,-55.5884,-55.9918, -56.3962,-56.8012,-57.2056,-57.6116, -58.0173,-58.4211,-59.2086,-59.9971, -60.7819,-61.3549,-61.5461,-61.5605)
FOOTPRINT_POINT_LONGITUDE = (127.464,126.241,125.256,125.235, 125.162,125.333,125.496,125.649,125.793 ,125.896,125.962,126.025,126.087, 126.146,126.201,126.255,126.308,126.359 ,126.408,126.502,126.554,126.607, 126.679,126.721,126.765,126.805,126.845 ,126.882,126.916,126.952,126.985, 127.014,127.045,127.074,127.101,127.126 ,127.151,127.186,127.207,127.227, 127.246,127.262,127.279,127.296,127.31, 127.322,127.33,127.339,127.343,127.343, 128.146,128.666,129.634,129.656,129.663 ,129.623,129.596,129.569,129.541, 129.513,129.485,129.456,129.426,129.395 ,129.365,129.317,129.285,129.252, 129.218,129.184,129.149,129.114,129.078 ,129.042,129.003,128.946,128.883,128.84 ,128.775,128.731,128.684,128.635, 128.593,128.549,128.503,128.455,128.384 ,128.335,128.284,128.231,128.178, 128.122,128.065,128.007,127.887,127.76, 127.625,127.523,127.487,127.464)
ORBIT_NUMBER = 6544
ORBITAL_ECCENTRICITY = 0.576
ORBITAL_INCLINATION = 86.76
ORBITAL_SEMIMAJOR_AXIS = 8687.39
PERIAPSIS_ALTITUDE = 305.76
PERIAPSIS_ARGUMENT_ANGLE = 288.27
PERIAPSIS_TIME = 2009-02-05T23:31:26.000Z
SPACECRAFT_ORIENTATION = (0.0,1.0,0.0)
^MEX_ORIENTATION_DESC = "MEX_ORIENTATION_DESC.TXT"
SPACECRAFT_POINTING_MODE = ACROSSTRACK
^MEX_POINTING_DESC = "MEX_POINTING_DESC.TXT"
RIGHT_ASCENSION = -1e+32
DECLINATION = -1e+32
OFFSET_ANGLE = 0.3
SPACECRAFT_SOLAR_DISTANCE = 2.12276e+08
TARGET_NAME = MARS
/* CAMERA DATA ELEMENTS */
DETECTOR_TEMPERATURE = 18.1666
FOCAL_PLANE_TEMPERATURE = 8.3794
INST_CMPRS_NAME = "DISCRETE COSINE TRANSFORMATION (DCT)"
INST_CMPRS_RATIO = 13.7409
INST_CMPRS_QUALITY = 0
INST_CMPRS_QUANTZ_TBL_ID = 0
INSTRUMENT_TEMPERATURE = 11.234
LENS_TEMPERATURE = 8.7872
MACROPIXEL_SIZE = 4
MISSING_FRAMES = 0
PIXEL_SUBSAMPLING_FLAG = N
SIGNAL_CHAIN_ID = 2
/* RADIOMETRIC DATA ELEMENTS */
BANDWIDTH = 76.0
CENTER_FILTER_WAVELENGTH = 444.0
RADIANCE_OFFSET = 0.660845
RADIANCE_SCALING_FACTOR = 0.00561502
REFLECTANCE_SCALING_FACTOR = 0.000259962
MEX:REFLECTANCE_OFFSET = 0.0305956
/* IMAGE OBJECT DEFINITIONS */
OBJECT = IMAGE
  INTERCHANGE_FORMAT = BINARY
  LINES = 27540
  LINE_SAMPLES = 3181
  SAMPLE_TYPE = UNSIGNED_INTEGER
  SAMPLE_BITS = 8
  BANDS = 1
  BAND_STORAGE_TYPE = BAND_SEQUENTIAL
  MAXIMUM = 255
  MEAN = 47.9663
  MINIMUM = 1
  STANDARD_DEVIATION = 19.4874
END_OBJECT = IMAGE
/* MAP OBJECT DEFINITIONS */
OBJECT = IMAGE_MAP_PROJECTION
  ^DATA_SET_MAP_PROJECTION_CATALOG= "DSMAP.CAT"
  A_AXIS_RADIUS = 3396.0
  B_AXIS_RADIUS = 3396.0
  C_AXIS_RADIUS = 3396.0
  CENTER_LATITUDE = 0.0
  CENTER_LONGITUDE = 128.0
  COORDINATE_SYSTEM_NAME = PLANETOGRAPHIC
  COORDINATE_SYSTEM_TYPE = "BODY-FIXED ROTATING"
  EASTERNMOST_LONGITUDE = 129.663
  FIRST_STANDARD_PARALLEL = "N/A"
  LINE_FIRST_PIXEL = 1
  LINE_LAST_PIXEL = 27540
  LINE_PROJECTION_OFFSET = -45412.625
  MAP_PROJECTION_ROTATION = 0.0
  MAP_PROJECTION_TYPE = SINUSOIDAL
  MAP_RESOLUTION = 1185.42760773333
  MAP_SCALE = 0.05
  MAXIMUM_LATITUDE = -38.3086
  MINIMUM_LATITUDE = -61.5605
  POSITIVE_LONGITUDE_DIRECTION = EAST
  REFERENCE_LATITUDE = "N/A"
  REFERENCE_LONGITUDE = "N/A"
  SAMPLE_FIRST_PIXEL = 1
  SAMPLE_LAST_PIXEL = 3181
  SAMPLE_PROJECTION_OFFSET = 1618.375
  SECOND_STANDARD_PARALLEL = "N/A"
  WESTERNMOST_LONGITUDE = 125.162
END_OBJECT = IMAGE_MAP_PROJECTION
END
