PDS_VERSION_ID = PDS3
/* FILE DATA ELEMENTS */
RECORD_TYPE = UNDEFINED
/* POINTERS TO DATA OBJECTS */
^IMAGE = ("H6515_0000_GR4.TIF")
/* IDENTIFICATION DATA ELEMENTS */
DATA_SET_ID = "MEX-M-HRSC-4-REFDR-MAPPROJECT-EXT2-V4.0"
DATA_SET_NAME = "MARS EXPRESS HRSC MAP PROJECTED REFDR EXTENSION2 V4.0"
DETECTOR_ID = MEX_HRSC_GREEN
EVENT_TYPE = "MARS-REGIONAL-MAPPING-Im-Fl"
INSTRUMENT_HOST_ID = MEX
INSTRUMENT_HOST_NAME = "MARS EXPRESS"
INSTRUMENT_ID = HRSC
INSTRUMENT_NAME = "HIGH RESOLUTION STEREO CAMERA"
MISSION_NAME = "MARS EXPRESS"
MISSION_PHASE_NAME = ME_Phase_15
PROCESSING_LEVEL_ID = 4
PRODUCT_CREATION_TIME = 2023-02-05T03:41:04.000Z
PRODUCT_ID = "H6515_0000_GR4.TIF"
RELEASE_ID = 0006
REVISION_ID = 0000
/* QUALITY DATA ELEMENTS */
DATA_QUALITY_ID = 1
DATA_QUALITY_DESC = "Data calculated based on original SPICE kernels"
/* TIME DATA ELEMENTS */
SPACECRAFT_CLOCK_START_COUNT = "1/0181237068.08232"
SPACECRAFT_CLOCK_STOP_COUNT = "1/0181237295.46149"
START_TIME = 2009-01-28T15:38:24.587Z
STOP_TIME = 2009-01-28T15:41:02.895Z
/* ORBITAL DATA ELEMENTS */
ASCENDING_NODE_LONGITUDE = 93.57
MAXIMUM_RESOLUTION = 0.0528
FOOTPRINT_POINT_LATITUDE = (-54.7767,-54.7574,-54.7272,-54.7085, -54.7077,-54.715,-54.251,-53.7878, -53.503,-53.3119,-53.0254,-52.8346, -52.6438,-52.4532,-52.2626,-52.0722, -51.8819,-51.6917,-51.5017,-51.3118, -51.122,-50.9322,-50.7427,-50.5533, -50.3639,-49.9858,-49.6081,-49.2312, -48.8549,-48.644,-48.4205,-48.1967, -47.9725,-47.7493,-47.5262,-47.3032, -47.0806,-46.8581,-46.6359,-46.414, -46.1922,-45.9707,-45.7495,-45.4177, -45.0865,-44.8662,-44.7561,-44.6481, -44.6619,-44.6772,-44.6855,-44.6951, -44.6955,-44.6965,-44.917,-45.1378, -45.3588,-45.5801,-45.8016,-46.0235, -46.2456,-46.468,-46.6905,-46.9132, -47.1362,-47.3594,-47.5828,-47.8063, -48.0302,-48.2542,-48.4784,-48.7029, -48.9143,-49.2914,-49.6691,-49.953, -50.1424,-50.332,-50.5218,-50.7115, -50.9013,-51.0923,-51.2826,-51.472, -51.6625,-51.8532,-52.044,-52.2349, -52.4259,-52.617,-52.8082,-52.9995, -53.1909,-53.3825,-53.5742,-53.8596, -54.2313,-54.6032,-54.6961,-54.7767)
FOOTPRINT_POINT_LONGITUDE = (172.943,172.315,171.491,171.043, 171.025,170.986,171.039,171.09,171.12, 171.14,171.169,171.188,171.206,171.225, 171.243,171.261,171.278,171.295,171.312 ,171.329,171.345,171.361,171.376, 171.392,171.407,171.437,171.465,171.493 ,171.518,171.531,171.543,171.558, 171.573,171.586,171.599,171.612,171.625 ,171.637,171.649,171.66,171.672,171.682 ,171.693,171.71,171.726,171.735,171.74, 171.745,172.199,172.783,173.148,173.678 ,173.697,173.703,173.691,173.679, 173.667,173.655,173.643,173.631,173.618 ,173.606,173.593,173.58,173.566,173.553 ,173.539,173.524,173.51,173.496,173.48, 173.465,173.451,173.425,173.399,173.379 ,173.366,173.353,173.339,173.325,173.31 ,173.298,173.284,173.267,173.252, 173.237,173.222,173.206,173.19,173.174, 173.158,173.142,173.125,173.108,173.091 ,173.065,173.03,172.994,172.984, 172.943)
ORBIT_NUMBER = 6515
ORBITAL_ECCENTRICITY = 0.576
ORBITAL_INCLINATION = 86.76
ORBITAL_SEMIMAJOR_AXIS = 8691.24
PERIAPSIS_ALTITUDE = 305.93
PERIAPSIS_ARGUMENT_ANGLE = 293.25
PERIAPSIS_TIME = 2009-01-28T15:35:21.000Z
SPACECRAFT_ORIENTATION = (0.0,1.0,0.0)
^MEX_ORIENTATION_DESC = "MEX_ORIENTATION_DESC.TXT"
SPACECRAFT_POINTING_MODE = NADIR
^MEX_POINTING_DESC = "MEX_POINTING_DESC.TXT"
RIGHT_ASCENSION = -1e+32
DECLINATION = -1e+32
OFFSET_ANGLE = -1e+32
SPACECRAFT_SOLAR_DISTANCE = 2.13505e+08
TARGET_NAME = MARS
/* CAMERA DATA ELEMENTS */
DETECTOR_TEMPERATURE = 18.3705
FOCAL_PLANE_TEMPERATURE = 8.5833
INST_CMPRS_NAME = "DISCRETE COSINE TRANSFORMATION (DCT)"
INST_CMPRS_RATIO = 18.8381
INST_CMPRS_QUALITY = 0
INST_CMPRS_QUANTZ_TBL_ID = 0
INSTRUMENT_TEMPERATURE = 11.234
LENS_TEMPERATURE = 8.7872
MACROPIXEL_SIZE = 4
MISSING_FRAMES = 0
PIXEL_SUBSAMPLING_FLAG = N
SIGNAL_CHAIN_ID = 2
/* RADIOMETRIC DATA ELEMENTS */
BANDWIDTH = 88.0
CENTER_FILTER_WAVELENGTH = 538.0
RADIANCE_OFFSET = 1.49833
RADIANCE_SCALING_FACTOR = 0.00432524
REFLECTANCE_SCALING_FACTOR = 0.000169752
MEX:REFLECTANCE_OFFSET = 0.0588045
/* IMAGE OBJECT DEFINITIONS */
OBJECT = IMAGE
  INTERCHANGE_FORMAT = BINARY
  LINES = 12019
  LINE_SAMPLES = 2126
  SAMPLE_TYPE = UNSIGNED_INTEGER
  SAMPLE_BITS = 8
  BANDS = 1
  BAND_STORAGE_TYPE = BAND_SEQUENTIAL
  MAXIMUM = 255
  MEAN = 108.23
  MINIMUM = 1
  STANDARD_DEVIATION = 31.1778
END_OBJECT = IMAGE
/* MAP OBJECT DEFINITIONS */
OBJECT = IMAGE_MAP_PROJECTION
  ^DATA_SET_MAP_PROJECTION_CATALOG= "DSMAP.CAT"
  A_AXIS_RADIUS = 3396.0
  B_AXIS_RADIUS = 3396.0
  C_AXIS_RADIUS = 3396.0
  CENTER_LATITUDE = 0.0
  CENTER_LONGITUDE = 172.0
  COORDINATE_SYSTEM_NAME = PLANETOGRAPHIC
  COORDINATE_SYSTEM_TYPE = "BODY-FIXED ROTATING"
  EASTERNMOST_LONGITUDE = 173.703
  FIRST_STANDARD_PARALLEL = "N/A"
  LINE_FIRST_PIXEL = 1
  LINE_LAST_PIXEL = 12019
  LINE_PROJECTION_OFFSET = -52931.625
  MAP_PROJECTION_ROTATION = 0.0
  MAP_PROJECTION_TYPE = SINUSOIDAL
  MAP_RESOLUTION = 1185.42760773333
  MAP_SCALE = 0.05
  MAXIMUM_LATITUDE = -44.6481
  MINIMUM_LATITUDE = -54.7767
  POSITIVE_LONGITUDE_DIRECTION = EAST
  REFERENCE_LATITUDE = "N/A"
  REFERENCE_LONGITUDE = "N/A"
  SAMPLE_FIRST_PIXEL = 1
  SAMPLE_LAST_PIXEL = 2126
  SAMPLE_PROJECTION_OFFSET = 697.875
  SECOND_STANDARD_PARALLEL = "N/A"
  WESTERNMOST_LONGITUDE = 170.986
END_OBJECT = IMAGE_MAP_PROJECTION
END
