PDS_VERSION_ID = PDS3
/* FILE DATA ELEMENTS */
RECORD_TYPE = UNDEFINED
/* POINTERS TO DATA OBJECTS */
^IMAGE = ("H6514_0000_P14.TIF")
/* IDENTIFICATION DATA ELEMENTS */
DATA_SET_ID = "MEX-M-HRSC-4-REFDR-MAPPROJECT-EXT2-V4.0"
DATA_SET_NAME = "MARS EXPRESS HRSC MAP PROJECTED REFDR EXTENSION2 V4.0"
DETECTOR_ID = MEX_HRSC_P1
EVENT_TYPE = "MARS-REGIONAL-MAPPING-Im-Fl"
INSTRUMENT_HOST_ID = MEX
INSTRUMENT_HOST_NAME = "MARS EXPRESS"
INSTRUMENT_ID = HRSC
INSTRUMENT_NAME = "HIGH RESOLUTION STEREO CAMERA"
MISSION_NAME = "MARS EXPRESS"
MISSION_PHASE_NAME = ME_Phase_15
PROCESSING_LEVEL_ID = 4
PRODUCT_CREATION_TIME = 2023-02-05T03:41:04.000Z
PRODUCT_ID = "H6514_0000_P14.TIF"
RELEASE_ID = 0006
REVISION_ID = 0000
/* QUALITY DATA ELEMENTS */
DATA_QUALITY_ID = 1
DATA_QUALITY_DESC = "Data calculated based on original SPICE kernels"
/* TIME DATA ELEMENTS */
SPACECRAFT_CLOCK_START_COUNT = "1/0181212068.08219"
SPACECRAFT_CLOCK_STOP_COUNT = "1/0181212315.00871"
START_TIME = 2009-01-28T08:41:55.436Z
STOP_TIME = 2009-01-28T08:45:04.833Z
/* ORBITAL DATA ELEMENTS */
ASCENDING_NODE_LONGITUDE = 93.6
MAXIMUM_RESOLUTION = 0.0249
FOOTPRINT_POINT_LATITUDE = (-66.6789,-66.6476,-66.6057,-66.5631, -66.5618,-66.6127,-66.2591,-66.0234, -65.67,-65.1981,-64.8427,-64.6032, -64.3593,-64.1146,-63.8705,-63.6271, -63.2617,-63.0179,-62.7737,-62.4084, -62.1648,-61.922,-61.5552,-61.1919, -60.9488,-60.7074,-60.3455,-60.1036, -59.8616,-59.6191,-59.3783,-59.1292, -58.7559,-58.5066,-58.2569,-58.0078, -57.7592,-57.5104,-57.1372,-56.889, -56.6407,-56.3868,-56.1304,-55.7463, -55.4906,-55.2348,-54.9796,-54.7253, -54.472,-54.3438,-54.3311,-54.3603, -54.3762,-54.4016,-54.4023,-54.4029, -54.7869,-55.1683,-55.4222,-55.6792, -55.9356,-56.1907,-56.448,-56.7033, -56.9524,-57.2014,-57.5772,-57.9523, -58.2025,-58.4538,-58.8294,-59.08, -59.3309,-59.5777,-59.8196,-60.0627, -60.4272,-60.7919,-61.1565,-61.3995, -61.6427,-61.8843,-62.1283,-62.3732, -62.6188,-62.8637,-63.1085,-63.4751, -63.7197,-63.9666,-64.3357,-64.5811, -64.8262,-65.3031,-65.7762,-66.1312, -66.3696,-66.608,-66.7269,-66.6789)
FOOTPRINT_POINT_LONGITUDE = (271.868,271.108,270.203,269.374, 269.349,269.257,269.381,269.46,269.576, 269.726,269.833,269.904,269.974,270.044 ,270.111,270.175,270.27,270.332,270.393 ,270.481,270.539,270.594,270.678, 270.755,270.806,270.854,270.924,270.971 ,271.017,271.062,271.105,271.149, 271.211,271.253,271.294,271.334,271.372 ,271.411,271.466,271.502,271.538, 271.573,271.608,271.659,271.692,271.724 ,271.755,271.785,271.814,271.828, 271.829,272.549,272.998,273.82,273.839, 273.846,273.808,273.769,273.741,273.716 ,273.689,273.66,273.632,273.604,273.576 ,273.548,273.505,273.461,273.43,273.399 ,273.351,273.318,273.285,273.251, 273.217,273.183,273.13,273.076,273.019, 272.981,272.941,272.9,272.859,272.818, 272.777,272.734,272.69,272.622,272.576, 272.53,272.458,272.409,272.358,272.256, 272.149,272.066,272.011,271.954,271.925 ,271.868)
ORBIT_NUMBER = 6514
ORBITAL_ECCENTRICITY = 0.576
ORBITAL_INCLINATION = 86.76
ORBITAL_SEMIMAJOR_AXIS = 8691.01
PERIAPSIS_ALTITUDE = 305.26
PERIAPSIS_ARGUMENT_ANGLE = 293.42
PERIAPSIS_TIME = 2009-01-28T08:41:43.000Z
SPACECRAFT_ORIENTATION = (0.0,1.0,0.0)
^MEX_ORIENTATION_DESC = "MEX_ORIENTATION_DESC.TXT"
SPACECRAFT_POINTING_MODE = NADIR
^MEX_POINTING_DESC = "MEX_POINTING_DESC.TXT"
RIGHT_ASCENSION = -1e+32
DECLINATION = -1e+32
OFFSET_ANGLE = -1e+32
SPACECRAFT_SOLAR_DISTANCE = 2.13549e+08
TARGET_NAME = MARS
/* CAMERA DATA ELEMENTS */
DETECTOR_TEMPERATURE = 17.351
FOCAL_PLANE_TEMPERATURE = 7.9716
INST_CMPRS_NAME = "DISCRETE COSINE TRANSFORMATION (DCT)"
INST_CMPRS_RATIO = 10.1463
INST_CMPRS_QUALITY = 0
INST_CMPRS_QUANTZ_TBL_ID = 0
INSTRUMENT_TEMPERATURE = 11.234
LENS_TEMPERATURE = 9.195
MACROPIXEL_SIZE = 2
MISSING_FRAMES = 1
PIXEL_SUBSAMPLING_FLAG = N
SIGNAL_CHAIN_ID = 3
/* RADIOMETRIC DATA ELEMENTS */
BANDWIDTH = 174.0
CENTER_FILTER_WAVELENGTH = 675.0
RADIANCE_OFFSET = 4.48899
RADIANCE_SCALING_FACTOR = 0.0304067
REFLECTANCE_SCALING_FACTOR = 0.000745851
MEX:REFLECTANCE_OFFSET = 0.110111
/* IMAGE OBJECT DEFINITIONS */
OBJECT = IMAGE
  INTERCHANGE_FORMAT = BINARY
  LINES = 29388
  LINE_SAMPLES = 5097
  SAMPLE_TYPE = UNSIGNED_INTEGER
  SAMPLE_BITS = 8
  BANDS = 1
  BAND_STORAGE_TYPE = BAND_SEQUENTIAL
  MAXIMUM = 255
  MEAN = 119.99
  MINIMUM = 1
  STANDARD_DEVIATION = 94.1992
END_OBJECT = IMAGE
/* MAP OBJECT DEFINITIONS */
OBJECT = IMAGE_MAP_PROJECTION
  ^DATA_SET_MAP_PROJECTION_CATALOG= "DSMAP.CAT"
  A_AXIS_RADIUS = 3396.0
  B_AXIS_RADIUS = 3396.0
  C_AXIS_RADIUS = 3396.0
  CENTER_LATITUDE = 0.0
  CENTER_LONGITUDE = 272.0
  COORDINATE_SYSTEM_NAME = PLANETOGRAPHIC
  COORDINATE_SYSTEM_TYPE = "BODY-FIXED ROTATING"
  EASTERNMOST_LONGITUDE = 273.846
  FIRST_STANDARD_PARALLEL = "N/A"
  LINE_FIRST_PIXEL = 1
  LINE_LAST_PIXEL = 29388
  LINE_PROJECTION_OFFSET = -128857.25
  MAP_PROJECTION_ROTATION = 0.0
  MAP_PROJECTION_TYPE = SINUSOIDAL
  MAP_RESOLUTION = 2370.85521546667
  MAP_SCALE = 0.025
  MAXIMUM_LATITUDE = -54.3311
  MINIMUM_LATITUDE = -66.7269
  POSITIVE_LONGITUDE_DIRECTION = EAST
  REFERENCE_LATITUDE = "N/A"
  REFERENCE_LONGITUDE = "N/A"
  SAMPLE_FIRST_PIXEL = 1
  SAMPLE_LAST_PIXEL = 5097
  SAMPLE_PROJECTION_OFFSET = 2586.25
  SECOND_STANDARD_PARALLEL = "N/A"
  WESTERNMOST_LONGITUDE = 269.257
END_OBJECT = IMAGE_MAP_PROJECTION
END
