PDS_VERSION_ID = PDS3
/* FILE DATA ELEMENTS */
RECORD_TYPE = UNDEFINED
/* POINTERS TO DATA OBJECTS */
^IMAGE = ("H6514_0000_ND4.TIF")
/* IDENTIFICATION DATA ELEMENTS */
DATA_SET_ID = "MEX-M-HRSC-4-REFDR-MAPPROJECT-EXT2-V4.0"
DATA_SET_NAME = "MARS EXPRESS HRSC MAP PROJECTED REFDR EXTENSION2 V4.0"
DETECTOR_ID = MEX_HRSC_NADIR
EVENT_TYPE = "MARS-REGIONAL-MAPPING-Im-Fl"
INSTRUMENT_HOST_ID = MEX
INSTRUMENT_HOST_NAME = "MARS EXPRESS"
INSTRUMENT_ID = HRSC
INSTRUMENT_NAME = "HIGH RESOLUTION STEREO CAMERA"
MISSION_NAME = "MARS EXPRESS"
MISSION_PHASE_NAME = ME_Phase_15
PROCESSING_LEVEL_ID = 4
PRODUCT_CREATION_TIME = 2023-02-05T03:41:04.000Z
PRODUCT_ID = "H6514_0000_ND4.TIF"
RELEASE_ID = 0006
REVISION_ID = 0000
/* QUALITY DATA ELEMENTS */
DATA_QUALITY_ID = 1
DATA_QUALITY_DESC = "Data calculated based on original SPICE kernels"
/* TIME DATA ELEMENTS */
SPACECRAFT_CLOCK_START_COUNT = "1/0181212068.08219"
SPACECRAFT_CLOCK_STOP_COUNT = "1/0181212315.00871"
START_TIME = 2009-01-28T08:41:37.810Z
STOP_TIME = 2009-01-28T08:44:44.807Z
/* ORBITAL DATA ELEMENTS */
ASCENDING_NODE_LONGITUDE = 93.6
MAXIMUM_RESOLUTION = 0.0121
FOOTPRINT_POINT_LATITUDE = (-66.7443,-66.7098,-66.6796,-66.6265, -66.6251,-66.6192,-66.2659,-65.9125, -65.441,-65.0874,-64.4976,-64.0257, -63.5536,-63.1866,-62.9418,-62.6971, -62.4522,-62.2075,-61.9626,-61.7179, -61.4733,-61.1062,-60.8614,-60.6166, -60.3719,-60.1273,-59.8827,-59.6383, -59.3938,-59.1494,-58.905,-58.6607, -58.4165,-58.1724,-57.9197,-57.667, -57.4145,-57.162,-56.9097,-56.6574, -56.4053,-56.1533,-55.9014,-55.6496, -55.398,-55.0104,-54.7504,-54.4905, -54.3606,-54.3502,-54.3838,-54.4014, -54.4196,-54.4201,-54.4206,-54.6811, -54.9418,-55.2026,-55.4613,-55.7137, -55.9663,-56.219,-56.4718,-56.7248, -56.9779,-57.2311,-57.4844,-57.7378, -57.9914,-58.3678,-58.6128,-58.858, -59.1032,-59.3485,-59.5939,-59.8393, -60.0848,-60.3304,-60.5761,-60.8218, -61.0676,-61.3134,-61.5593,-61.8052, -62.0511,-62.2971,-62.5431,-62.7892, -63.0353,-63.2814,-63.5275,-63.7694, -64.2441,-64.7189,-65.1936,-65.6683, -66.1428,-66.6174,-66.736,-66.7443)
FOOTPRINT_POINT_LONGITUDE = (271.846,271.02,270.372,269.352,269.327 ,269.251,269.375,269.495,269.648,269.76 ,269.935,270.07,270.197,270.293,270.355 ,270.416,270.475,270.534,270.59,270.646 ,270.702,270.78,270.831,270.88,270.927, 270.975,271.022,271.068,271.112,271.155 ,271.197,271.238,271.279,271.319, 271.359,271.399,271.438,271.476,271.513 ,271.549,271.585,271.62,271.654,271.687 ,271.719,271.768,271.799,271.829, 271.843,271.845,272.679,273.185,273.79, 273.809,273.819,273.794,273.767,273.74, 273.714,273.688,273.662,273.634,273.607 ,273.58,273.552,273.523,273.495,273.466 ,273.435,273.39,273.36,273.328,273.296, 273.264,273.23,273.196,273.162,273.127, 273.091,273.055,273.017,272.979,272.939 ,272.899,272.857,272.816,272.775, 272.734,272.691,272.646,272.6,272.554, 272.465,272.37,272.27,272.165,272.056, 271.944,271.916,271.846)
ORBIT_NUMBER = 6514
ORBITAL_ECCENTRICITY = 0.576
ORBITAL_INCLINATION = 86.76
ORBITAL_SEMIMAJOR_AXIS = 8691.01
PERIAPSIS_ALTITUDE = 305.26
PERIAPSIS_ARGUMENT_ANGLE = 293.42
PERIAPSIS_TIME = 2009-01-28T08:41:43.000Z
SPACECRAFT_ORIENTATION = (0.0,1.0,0.0)
^MEX_ORIENTATION_DESC = "MEX_ORIENTATION_DESC.TXT"
SPACECRAFT_POINTING_MODE = NADIR
^MEX_POINTING_DESC = "MEX_POINTING_DESC.TXT"
RIGHT_ASCENSION = -1e+32
DECLINATION = -1e+32
OFFSET_ANGLE = -1e+32
SPACECRAFT_SOLAR_DISTANCE = 2.13549e+08
TARGET_NAME = MARS
/* CAMERA DATA ELEMENTS */
DETECTOR_TEMPERATURE = 18.3705
FOCAL_PLANE_TEMPERATURE = 7.9716
INST_CMPRS_NAME = "DISCRETE COSINE TRANSFORMATION (DCT)"
INST_CMPRS_RATIO = 5.78909
INST_CMPRS_QUALITY = 0
INST_CMPRS_QUANTZ_TBL_ID = 0
INSTRUMENT_TEMPERATURE = 11.234
LENS_TEMPERATURE = 9.195
MACROPIXEL_SIZE = 1
MISSING_FRAMES = 0
PIXEL_SUBSAMPLING_FLAG = N
SIGNAL_CHAIN_ID = 0
/* RADIOMETRIC DATA ELEMENTS */
BANDWIDTH = 177.0
CENTER_FILTER_WAVELENGTH = 677.5
RADIANCE_OFFSET = 3.8971
RADIANCE_SCALING_FACTOR = 0.0401662
REFLECTANCE_SCALING_FACTOR = 0.000973059
MEX:REFLECTANCE_OFFSET = 0.0944104
/* IMAGE OBJECT DEFINITIONS */
OBJECT = IMAGE
  INTERCHANGE_FORMAT = BINARY
  LINES = 58775
  LINE_SAMPLES = 10193
  SAMPLE_TYPE = UNSIGNED_INTEGER
  SAMPLE_BITS = 8
  BANDS = 1
  BAND_STORAGE_TYPE = BAND_SEQUENTIAL
  MAXIMUM = 255
  MEAN = 91.7848
  MINIMUM = 1
  STANDARD_DEVIATION = 71.7104
END_OBJECT = IMAGE
/* MAP OBJECT DEFINITIONS */
OBJECT = IMAGE_MAP_PROJECTION
  ^DATA_SET_MAP_PROJECTION_CATALOG= "DSMAP.CAT"
  A_AXIS_RADIUS = 3396.0
  B_AXIS_RADIUS = 3396.0
  C_AXIS_RADIUS = 3396.0
  CENTER_LATITUDE = 0.0
  CENTER_LONGITUDE = 272.0
  COORDINATE_SYSTEM_NAME = PLANETOGRAPHIC
  COORDINATE_SYSTEM_TYPE = "BODY-FIXED ROTATING"
  EASTERNMOST_LONGITUDE = 273.819
  FIRST_STANDARD_PARALLEL = "N/A"
  LINE_FIRST_PIXEL = 1
  LINE_LAST_PIXEL = 58775
  LINE_PROJECTION_OFFSET = -257714.0
  MAP_PROJECTION_ROTATION = 0.0
  MAP_PROJECTION_TYPE = SINUSOIDAL
  MAP_RESOLUTION = 4741.71043093333
  MAP_SCALE = 0.0125
  MAXIMUM_LATITUDE = -54.3502
  MINIMUM_LATITUDE = -66.7443
  POSITIVE_LONGITUDE_DIRECTION = EAST
  REFERENCE_LATITUDE = "N/A"
  REFERENCE_LONGITUDE = "N/A"
  SAMPLE_FIRST_PIXEL = 1
  SAMPLE_LAST_PIXEL = 10193
  SAMPLE_PROJECTION_OFFSET = 5173.0
  SECOND_STANDARD_PARALLEL = "N/A"
  WESTERNMOST_LONGITUDE = 269.251
END_OBJECT = IMAGE_MAP_PROJECTION
END
