PDS_VERSION_ID = PDS3
/* FILE DATA ELEMENTS */
RECORD_TYPE = UNDEFINED
/* POINTERS TO DATA OBJECTS */
^IMAGE = ("H6514_0000_IR4.TIF")
/* IDENTIFICATION DATA ELEMENTS */
DATA_SET_ID = "MEX-M-HRSC-4-REFDR-MAPPROJECT-EXT2-V4.0"
DATA_SET_NAME = "MARS EXPRESS HRSC MAP PROJECTED REFDR EXTENSION2 V4.0"
DETECTOR_ID = MEX_HRSC_IR
EVENT_TYPE = "MARS-REGIONAL-MAPPING-Im-Fl"
INSTRUMENT_HOST_ID = MEX
INSTRUMENT_HOST_NAME = "MARS EXPRESS"
INSTRUMENT_ID = HRSC
INSTRUMENT_NAME = "HIGH RESOLUTION STEREO CAMERA"
MISSION_NAME = "MARS EXPRESS"
MISSION_PHASE_NAME = ME_Phase_15
PROCESSING_LEVEL_ID = 4
PRODUCT_CREATION_TIME = 2023-02-05T03:41:04.000Z
PRODUCT_ID = "H6514_0000_IR4.TIF"
RELEASE_ID = 0006
REVISION_ID = 0000
/* QUALITY DATA ELEMENTS */
DATA_QUALITY_ID = 1
DATA_QUALITY_DESC = "Data calculated based on original SPICE kernels"
/* TIME DATA ELEMENTS */
SPACECRAFT_CLOCK_START_COUNT = "1/0181212068.08219"
SPACECRAFT_CLOCK_STOP_COUNT = "1/0181212315.00871"
START_TIME = 2009-01-28T08:42:00.225Z
STOP_TIME = 2009-01-28T08:45:10.061Z
/* ORBITAL DATA ELEMENTS */
ASCENDING_NODE_LONGITUDE = 93.6
MAXIMUM_RESOLUTION = 0.0506
FOOTPRINT_POINT_LATITUDE = (-66.6503,-66.5893,-66.5351,-66.5338, -66.5994,-66.3638,-66.1283,-65.893, -65.6578,-65.3045,-65.0687,-64.8286, -64.5843,-64.3409,-64.096,-63.8524, -63.6097,-63.245,-63.0016,-62.7576, -62.5156,-62.2718,-62.0298,-61.7864, -61.5417,-61.3015,-61.0582,-60.818, -60.5777,-60.217,-59.9764,-59.7342, -59.4873,-59.2394,-58.8683,-58.496, -58.1235,-57.8761,-57.6287,-57.2573, -56.8866,-56.5037,-56.2488,-55.9938, -55.7394,-55.4852,-55.2308,-54.9773, -54.5946,-54.4648,-54.3369,-54.3641, -54.3819,-54.408,-54.4086,-54.4096, -54.6705,-54.927,-55.1783,-55.5599, -55.8146,-56.195,-56.4508,-56.707, -56.9633,-57.3362,-57.5852,-57.9584, -58.2076,-58.4579,-58.7068,-58.9564, -59.2059,-59.456,-59.8282,-60.0704, -60.3123,-60.5546,-60.9178,-61.1598, -61.4019,-61.7651,-62.0055,-62.2497, -62.6163,-62.8614,-63.1056,-63.349, -63.5935,-63.8376,-64.0854,-64.3303, -64.5753,-64.9428,-65.3043,-65.7765, -66.1308,-66.4884,-66.6075,-66.6503)
FOOTPRINT_POINT_LONGITUDE = (271.878,270.465,269.387,269.363, 269.269,269.351,269.431,269.51,269.586, 269.698,269.771,269.842,269.914,269.984 ,270.053,270.12,270.184,270.279,270.34, 270.401,270.459,270.517,270.573,270.628 ,270.684,270.734,270.787,270.835, 270.882,270.952,270.997,271.043,271.088 ,271.131,271.194,271.256,271.317, 271.355,271.393,271.449,271.503,271.557 ,271.592,271.627,271.66,271.692,271.724 ,271.755,271.8,271.814,271.828,272.505, 272.996,273.829,273.848,273.854,273.828 ,273.802,273.775,273.736,273.709, 273.667,273.639,273.611,273.582,273.54, 273.511,273.466,273.436,273.405,273.373 ,273.341,273.307,273.274,273.221, 273.187,273.152,273.117,273.062,273.024 ,272.985,272.926,272.884,272.844, 272.781,272.739,272.695,272.65,272.605, 272.558,272.512,272.463,272.413,272.337 ,272.259,272.153,272.069,271.986, 271.957,271.878)
ORBIT_NUMBER = 6514
ORBITAL_ECCENTRICITY = 0.576
ORBITAL_INCLINATION = 86.76
ORBITAL_SEMIMAJOR_AXIS = 8691.01
PERIAPSIS_ALTITUDE = 305.26
PERIAPSIS_ARGUMENT_ANGLE = 293.42
PERIAPSIS_TIME = 2009-01-28T08:41:43.000Z
SPACECRAFT_ORIENTATION = (0.0,1.0,0.0)
^MEX_ORIENTATION_DESC = "MEX_ORIENTATION_DESC.TXT"
SPACECRAFT_POINTING_MODE = NADIR
^MEX_POINTING_DESC = "MEX_POINTING_DESC.TXT"
RIGHT_ASCENSION = -1e+32
DECLINATION = -1e+32
OFFSET_ANGLE = -1e+32
SPACECRAFT_SOLAR_DISTANCE = 2.13549e+08
TARGET_NAME = MARS
/* CAMERA DATA ELEMENTS */
DETECTOR_TEMPERATURE = 17.351
FOCAL_PLANE_TEMPERATURE = 7.9716
INST_CMPRS_NAME = "DISCRETE COSINE TRANSFORMATION (DCT)"
INST_CMPRS_RATIO = 9.64847
INST_CMPRS_QUALITY = 0
INST_CMPRS_QUANTZ_TBL_ID = 0
INSTRUMENT_TEMPERATURE = 11.234
LENS_TEMPERATURE = 9.195
MACROPIXEL_SIZE = 4
MISSING_FRAMES = 0
PIXEL_SUBSAMPLING_FLAG = N
SIGNAL_CHAIN_ID = 2
/* RADIOMETRIC DATA ELEMENTS */
BANDWIDTH = 81.0
CENTER_FILTER_WAVELENGTH = 955.5
RADIANCE_OFFSET = 0.97273
RADIANCE_SCALING_FACTOR = 0.00963438
REFLECTANCE_SCALING_FACTOR = 0.000947864
MEX:REFLECTANCE_OFFSET = 0.0957005
/* IMAGE OBJECT DEFINITIONS */
OBJECT = IMAGE
  INTERCHANGE_FORMAT = BINARY
  LINES = 14694
  LINE_SAMPLES = 2549
  SAMPLE_TYPE = UNSIGNED_INTEGER
  SAMPLE_BITS = 8
  BANDS = 1
  BAND_STORAGE_TYPE = BAND_SEQUENTIAL
  MAXIMUM = 255
  MEAN = 99.4954
  MINIMUM = 1
  STANDARD_DEVIATION = 73.5248
END_OBJECT = IMAGE
/* MAP OBJECT DEFINITIONS */
OBJECT = IMAGE_MAP_PROJECTION
  ^DATA_SET_MAP_PROJECTION_CATALOG= "DSMAP.CAT"
  A_AXIS_RADIUS = 3396.0
  B_AXIS_RADIUS = 3396.0
  C_AXIS_RADIUS = 3396.0
  CENTER_LATITUDE = 0.0
  CENTER_LONGITUDE = 272.0
  COORDINATE_SYSTEM_NAME = PLANETOGRAPHIC
  COORDINATE_SYSTEM_TYPE = "BODY-FIXED ROTATING"
  EASTERNMOST_LONGITUDE = 273.854
  FIRST_STANDARD_PARALLEL = "N/A"
  LINE_FIRST_PIXEL = 1
  LINE_LAST_PIXEL = 14694
  LINE_PROJECTION_OFFSET = -64428.875
  MAP_PROJECTION_ROTATION = 0.0
  MAP_PROJECTION_TYPE = SINUSOIDAL
  MAP_RESOLUTION = 1185.42760773333
  MAP_SCALE = 0.05
  MAXIMUM_LATITUDE = -54.3369
  MINIMUM_LATITUDE = -66.6503
  POSITIVE_LONGITUDE_DIRECTION = EAST
  REFERENCE_LATITUDE = "N/A"
  REFERENCE_LONGITUDE = "N/A"
  SAMPLE_FIRST_PIXEL = 1
  SAMPLE_LAST_PIXEL = 2549
  SAMPLE_PROJECTION_OFFSET = 1292.875
  SECOND_STANDARD_PARALLEL = "N/A"
  WESTERNMOST_LONGITUDE = 269.269
END_OBJECT = IMAGE_MAP_PROJECTION
END
