PDS_VERSION_ID = PDS3
/* FILE DATA ELEMENTS */
RECORD_TYPE = UNDEFINED
/* POINTERS TO DATA OBJECTS */
^IMAGE = ("H6512_0000_S14.TIF")
/* IDENTIFICATION DATA ELEMENTS */
DATA_SET_ID = "MEX-M-HRSC-4-REFDR-MAPPROJECT-EXT2-V4.0"
DATA_SET_NAME = "MARS EXPRESS HRSC MAP PROJECTED REFDR EXTENSION2 V4.0"
DETECTOR_ID = MEX_HRSC_S1
EVENT_TYPE = "MARS-REGIONAL-MAPPING-Vo-Te"
INSTRUMENT_HOST_ID = MEX
INSTRUMENT_HOST_NAME = "MARS EXPRESS"
INSTRUMENT_ID = HRSC
INSTRUMENT_NAME = "HIGH RESOLUTION STEREO CAMERA"
MISSION_NAME = "MARS EXPRESS"
MISSION_PHASE_NAME = ME_Phase_15
PROCESSING_LEVEL_ID = 4
PRODUCT_CREATION_TIME = 2023-02-05T03:41:04.000Z
PRODUCT_ID = "H6512_0000_S14.TIF"
RELEASE_ID = 0006
REVISION_ID = 0000
/* QUALITY DATA ELEMENTS */
DATA_QUALITY_ID = 1
DATA_QUALITY_DESC = "Data calculated based on original SPICE kernels"
/* TIME DATA ELEMENTS */
SPACECRAFT_CLOCK_START_COUNT = "1/0181162965.07289"
SPACECRAFT_CLOCK_STOP_COUNT = "1/0181163507.24260"
START_TIME = 2009-01-27T19:04:43.057Z
STOP_TIME = 2009-01-27T19:11:47.755Z
/* ORBITAL DATA ELEMENTS */
ASCENDING_NODE_LONGITUDE = 93.63
MAXIMUM_RESOLUTION = 0.0531
FOOTPRINT_POINT_LATITUDE = (-30.7041,-30.7069,-30.7072,-30.7058, -30.7058,-30.7274,-30.0589,-29.3808, -28.6926,-27.9941,-27.2854,-26.9267, -26.5654,-26.2005,-25.8327,-25.4621, -25.0892,-24.7128,-24.3335,-23.9508, -23.5653,-23.1772,-22.7855,-22.3911, -21.9922,-21.3946,-20.801,-20.4105, -20.0225,-19.6381,-19.256,-18.8758, -18.4993,-18.1253,-17.754,-17.3865, -17.0201,-16.6578,-16.2982,-15.941, -15.2332,-14.5391,-14.0372,-13.3533, -12.6836,-12.5197,-12.5083,-12.4896, -12.4723,-12.4413,-12.4208,-12.4019, -12.3882,-12.3666,-12.3659,-12.3664, -13.0353,-13.7166,-14.2348,-14.9337, -15.2881,-15.645,-16.0054,-16.3672, -16.7322,-17.1,-17.4698,-17.8425, -18.2182,-18.5963,-18.9779,-19.3624, -19.7485,-20.1384,-20.5315,-20.9272, -21.3245,-21.7254,-22.1274,-22.527, -22.9228,-23.3167,-23.7059,-24.0934, -24.4763,-24.8564,-25.2326,-25.6073, -25.9787,-26.3468,-26.7122,-27.0746, -27.4336,-28.1443,-28.6706,-29.1903, -29.8748,-30.5474,-30.7145,-30.7041)
FOOTPRINT_POINT_LONGITUDE = (116.828,115.824,115.187,114.329, 114.305,114.288,114.274,114.258,114.24, 114.22,114.198,114.186,114.174,114.161, 114.148,114.134,114.119,114.104,114.088 ,114.072,114.055,114.037,114.019, 113.999,113.98,113.949,113.918,113.896, 113.874,113.852,113.829,113.806,113.783 ,113.759,113.735,113.711,113.686, 113.661,113.636,113.61,113.559,113.506, 113.462,113.409,113.355,113.34,113.339, 113.776,114.173,114.966,115.559,116.154 ,116.55,117.384,117.424,117.439,117.412 ,117.387,117.369,117.343,117.331, 117.319,117.307,117.294,117.282,117.27, 117.258,117.245,117.233,117.22,117.208, 117.196,117.183,117.171,117.159,117.147 ,117.134,117.121,117.108,117.096, 117.084,117.072,117.06,117.048,117.036, 117.024,117.012,117.001,116.989,116.978 ,116.966,116.955,116.944,116.921, 116.904,116.887,116.865,116.843,116.837 ,116.828)
ORBIT_NUMBER = 6512
ORBITAL_ECCENTRICITY = 0.576
ORBITAL_INCLINATION = 86.76
ORBITAL_SEMIMAJOR_AXIS = 8693.9
PERIAPSIS_ALTITUDE = 305.05
PERIAPSIS_ARGUMENT_ANGLE = 293.75
PERIAPSIS_TIME = 2009-01-27T18:54:21.000Z
SPACECRAFT_ORIENTATION = (0.0,1.0,0.0)
^MEX_ORIENTATION_DESC = "MEX_ORIENTATION_DESC.TXT"
SPACECRAFT_POINTING_MODE = NADIR
^MEX_POINTING_DESC = "MEX_POINTING_DESC.TXT"
RIGHT_ASCENSION = -1e+32
DECLINATION = -1e+32
OFFSET_ANGLE = -1e+32
SPACECRAFT_SOLAR_DISTANCE = 2.13637e+08
TARGET_NAME = MARS
/* CAMERA DATA ELEMENTS */
DETECTOR_TEMPERATURE = 17.5549
FOCAL_PLANE_TEMPERATURE = 7.9716
INST_CMPRS_NAME = "DISCRETE COSINE TRANSFORMATION (DCT)"
INST_CMPRS_RATIO = 9.74692
INST_CMPRS_QUALITY = 0
INST_CMPRS_QUANTZ_TBL_ID = 0
INSTRUMENT_TEMPERATURE = 11.234
LENS_TEMPERATURE = 8.3794
MACROPIXEL_SIZE = 2
MISSING_FRAMES = 0
PIXEL_SUBSAMPLING_FLAG = N
SIGNAL_CHAIN_ID = 1
/* RADIOMETRIC DATA ELEMENTS */
BANDWIDTH = 180.0
CENTER_FILTER_WAVELENGTH = 677.0
RADIANCE_OFFSET = 5.34766
RADIANCE_SCALING_FACTOR = 0.0241071
REFLECTANCE_SCALING_FACTOR = 0.000574034
MEX:REFLECTANCE_OFFSET = 0.127337
/* IMAGE OBJECT DEFINITIONS */
OBJECT = IMAGE
  INTERCHANGE_FORMAT = BINARY
  LINES = 21761
  LINE_SAMPLES = 3882
  SAMPLE_TYPE = UNSIGNED_INTEGER
  SAMPLE_BITS = 8
  BANDS = 1
  BAND_STORAGE_TYPE = BAND_SEQUENTIAL
  MAXIMUM = 255
  MEAN = 92.0373
  MINIMUM = 1
  STANDARD_DEVIATION = 24.7822
END_OBJECT = IMAGE
/* MAP OBJECT DEFINITIONS */
OBJECT = IMAGE_MAP_PROJECTION
  ^DATA_SET_MAP_PROJECTION_CATALOG= "DSMAP.CAT"
  A_AXIS_RADIUS = 3396.0
  B_AXIS_RADIUS = 3396.0
  C_AXIS_RADIUS = 3396.0
  CENTER_LATITUDE = 0.0
  CENTER_LONGITUDE = 116.0
  COORDINATE_SYSTEM_NAME = PLANETOGRAPHIC
  COORDINATE_SYSTEM_TYPE = "BODY-FIXED ROTATING"
  EASTERNMOST_LONGITUDE = 117.439
  FIRST_STANDARD_PARALLEL = "N/A"
  LINE_FIRST_PIXEL = 1
  LINE_LAST_PIXEL = 21761
  LINE_PROJECTION_OFFSET = -14672.25
  MAP_PROJECTION_ROTATION = 0.0
  MAP_PROJECTION_TYPE = SINUSOIDAL
  MAP_RESOLUTION = 1185.42760773333
  MAP_SCALE = 0.05
  MAXIMUM_LATITUDE = -12.3659
  MINIMUM_LATITUDE = -30.7274
  POSITIVE_LONGITUDE_DIRECTION = EAST
  REFERENCE_LATITUDE = "N/A"
  REFERENCE_LONGITUDE = "N/A"
  SAMPLE_FIRST_PIXEL = 1
  SAMPLE_LAST_PIXEL = 3882
  SAMPLE_PROJECTION_OFFSET = 2690.25
  SECOND_STANDARD_PARALLEL = "N/A"
  WESTERNMOST_LONGITUDE = 113.339
END_OBJECT = IMAGE_MAP_PROJECTION
END
