PDS_VERSION_ID = PDS3
/* FILE DATA ELEMENTS */
RECORD_TYPE = UNDEFINED
/* POINTERS TO DATA OBJECTS */
^IMAGE = ("H6512_0000_IR4.TIF")
/* IDENTIFICATION DATA ELEMENTS */
DATA_SET_ID = "MEX-M-HRSC-4-REFDR-MAPPROJECT-EXT2-V4.0"
DATA_SET_NAME = "MARS EXPRESS HRSC MAP PROJECTED REFDR EXTENSION2 V4.0"
DETECTOR_ID = MEX_HRSC_IR
EVENT_TYPE = "MARS-REGIONAL-MAPPING-Vo-Te"
INSTRUMENT_HOST_ID = MEX
INSTRUMENT_HOST_NAME = "MARS EXPRESS"
INSTRUMENT_ID = HRSC
INSTRUMENT_NAME = "HIGH RESOLUTION STEREO CAMERA"
MISSION_NAME = "MARS EXPRESS"
MISSION_PHASE_NAME = ME_Phase_15
PROCESSING_LEVEL_ID = 4
PRODUCT_CREATION_TIME = 2023-02-05T03:41:04.000Z
PRODUCT_ID = "H6512_0000_IR4.TIF"
RELEASE_ID = 0006
REVISION_ID = 0000
/* QUALITY DATA ELEMENTS */
DATA_QUALITY_ID = 1
DATA_QUALITY_DESC = "Data calculated based on original SPICE kernels"
/* TIME DATA ELEMENTS */
SPACECRAFT_CLOCK_START_COUNT = "1/0181162965.07289"
SPACECRAFT_CLOCK_STOP_COUNT = "1/0181163507.24260"
START_TIME = 2009-01-27T19:04:31.231Z
STOP_TIME = 2009-01-27T19:11:17.274Z
/* ORBITAL DATA ELEMENTS */
ASCENDING_NODE_LONGITUDE = 93.63
MAXIMUM_RESOLUTION = 0.1022
FOOTPRINT_POINT_LATITUDE = (-30.6944,-30.6965,-30.6967,-30.6954, -30.6937,-30.6936,-30.7104,-30.2239, -29.7324,-29.0682,-28.3961,-27.7119, -27.0184,-26.3141,-25.9568,-25.597, -25.235,-24.8697,-24.5016,-24.1307, -23.7569,-23.38,-22.9999,-22.617, -22.2305,-21.8408,-21.4485,-21.0514, -20.6548,-20.2491,-19.8584,-19.4708, -19.0849,-18.7016,-18.3211,-17.9431, -17.5682,-17.1953,-16.8244,-16.4568, -16.0917,-15.7283,-15.3672,-15.0102, -14.6547,-13.9639,-13.4351,-12.7456, -12.5763,-12.498,-12.4777,-12.449, -12.4296,-12.4035,-12.3854,-12.3709, -12.3699,-12.3717,-13.0604,-13.7599, -14.6463,-15.0062,-15.3682,-15.7327, -16.1002,-16.4693,-16.8412,-17.2155, -17.5922,-17.9711,-18.3527,-18.7361, -19.1238,-19.5135,-19.9048,-20.2995, -20.7091,-21.1087,-21.5067,-21.901, -22.292,-22.6799,-23.0644,-23.4468, -23.8252,-24.2009,-24.5732,-24.9423, -25.3086,-25.6721,-26.0328,-26.7453, -27.4468,-28.1367,-28.6482,-29.1542, -29.819,-30.474,-30.6368,-30.6944)
FOOTPRINT_POINT_LONGITUDE = (116.796,116.059,115.622,114.817, 114.355,114.332,114.318,114.309,114.299 ,114.283,114.266,114.247,114.226, 114.203,114.191,114.179,114.165,114.152 ,114.137,114.123,114.107,114.091, 114.075,114.057,114.04,114.021,114.002, 113.982,113.962,113.941,113.92,113.898, 113.876,113.854,113.832,113.809,113.785 ,113.762,113.738,113.714,113.69,113.665 ,113.641,113.615,113.59,113.534,113.497 ,113.444,113.431,113.424,113.97,114.737 ,115.319,116.157,116.777,117.289, 117.325,117.338,117.316,117.294,117.267 ,117.256,117.246,117.235,117.225, 117.214,117.203,117.192,117.182,117.171 ,117.16,117.149,117.138,117.127,117.116 ,117.105,117.094,117.083,117.072, 117.061,117.05,117.039,117.028,117.018, 117.007,116.997,116.986,116.976,116.965 ,116.955,116.945,116.924,116.904, 116.883,116.868,116.853,116.832,116.812 ,116.807,116.796)
ORBIT_NUMBER = 6512
ORBITAL_ECCENTRICITY = 0.576
ORBITAL_INCLINATION = 86.76
ORBITAL_SEMIMAJOR_AXIS = 8693.9
PERIAPSIS_ALTITUDE = 305.05
PERIAPSIS_ARGUMENT_ANGLE = 293.75
PERIAPSIS_TIME = 2009-01-27T18:54:21.000Z
SPACECRAFT_ORIENTATION = (0.0,1.0,0.0)
^MEX_ORIENTATION_DESC = "MEX_ORIENTATION_DESC.TXT"
SPACECRAFT_POINTING_MODE = NADIR
^MEX_POINTING_DESC = "MEX_POINTING_DESC.TXT"
RIGHT_ASCENSION = -1e+32
DECLINATION = -1e+32
OFFSET_ANGLE = -1e+32
SPACECRAFT_SOLAR_DISTANCE = 2.13637e+08
TARGET_NAME = MARS
/* CAMERA DATA ELEMENTS */
DETECTOR_TEMPERATURE = 17.5549
FOCAL_PLANE_TEMPERATURE = 7.9716
INST_CMPRS_NAME = "DISCRETE COSINE TRANSFORMATION (DCT)"
INST_CMPRS_RATIO = 12.0573
INST_CMPRS_QUALITY = 0
INST_CMPRS_QUANTZ_TBL_ID = 0
INSTRUMENT_TEMPERATURE = 11.234
LENS_TEMPERATURE = 8.3794
MACROPIXEL_SIZE = 4
MISSING_FRAMES = 1
PIXEL_SUBSAMPLING_FLAG = N
SIGNAL_CHAIN_ID = 2
/* RADIOMETRIC DATA ELEMENTS */
BANDWIDTH = 81.0
CENTER_FILTER_WAVELENGTH = 955.5
RADIANCE_OFFSET = 1.04819
RADIANCE_SCALING_FACTOR = 0.00718044
REFLECTANCE_SCALING_FACTOR = 0.000707015
MEX:REFLECTANCE_OFFSET = 0.103209
/* IMAGE OBJECT DEFINITIONS */
OBJECT = IMAGE
  INTERCHANGE_FORMAT = BINARY
  LINES = 10881
  LINE_SAMPLES = 1941
  SAMPLE_TYPE = UNSIGNED_INTEGER
  SAMPLE_BITS = 8
  BANDS = 1
  BAND_STORAGE_TYPE = BAND_SEQUENTIAL
  MAXIMUM = 255
  MEAN = 76.2793
  MINIMUM = 1
  STANDARD_DEVIATION = 25.7219
END_OBJECT = IMAGE
/* MAP OBJECT DEFINITIONS */
OBJECT = IMAGE_MAP_PROJECTION
  ^DATA_SET_MAP_PROJECTION_CATALOG= "DSMAP.CAT"
  A_AXIS_RADIUS = 3396.0
  B_AXIS_RADIUS = 3396.0
  C_AXIS_RADIUS = 3396.0
  CENTER_LATITUDE = 0.0
  CENTER_LONGITUDE = 116.0
  COORDINATE_SYSTEM_NAME = PLANETOGRAPHIC
  COORDINATE_SYSTEM_TYPE = "BODY-FIXED ROTATING"
  EASTERNMOST_LONGITUDE = 117.338
  FIRST_STANDARD_PARALLEL = "N/A"
  LINE_FIRST_PIXEL = 1
  LINE_LAST_PIXEL = 10881
  LINE_PROJECTION_OFFSET = -7336.375
  MAP_PROJECTION_ROTATION = 0.0
  MAP_PROJECTION_TYPE = SINUSOIDAL
  MAP_RESOLUTION = 592.713803866667
  MAP_SCALE = 0.1
  MAXIMUM_LATITUDE = -12.3699
  MINIMUM_LATITUDE = -30.7104
  POSITIVE_LONGITUDE_DIRECTION = EAST
  REFERENCE_LATITUDE = "N/A"
  REFERENCE_LONGITUDE = "N/A"
  SAMPLE_FIRST_PIXEL = 1
  SAMPLE_LAST_PIXEL = 1941
  SAMPLE_PROJECTION_OFFSET = 1344.875
  SECOND_STANDARD_PARALLEL = "N/A"
  WESTERNMOST_LONGITUDE = 113.424
END_OBJECT = IMAGE_MAP_PROJECTION
END
